BEGIN:VCALENDAR
VERSION:2.0
PRODID:-//Pokładykultury.eu - ECPv5.16.3.1//NONSGML v1.0//EN
CALSCALE:GREGORIAN
METHOD:PUBLISH
X-ORIGINAL-URL:https://pokladykultury.eu
X-WR-CALDESC:Wydarzenia dla Pokładykultury.eu
REFRESH-INTERVAL;VALUE=DURATION:PT1H
X-Robots-Tag:noindex
X-PUBLISHED-TTL:PT1H
BEGIN:VTIMEZONE
TZID:Europe/Warsaw
BEGIN:DAYLIGHT
TZOFFSETFROM:+0100
TZOFFSETTO:+0200
TZNAME:CEST
DTSTART:20230326T010000
END:DAYLIGHT
BEGIN:STANDARD
TZOFFSETFROM:+0200
TZOFFSETTO:+0100
TZNAME:CET
DTSTART:20231029T010000
END:STANDARD
END:VTIMEZONE
BEGIN:VEVENT
DTSTART;TZID=Europe/Warsaw:20230702T123000
DTEND;TZID=Europe/Warsaw:20230702T140000
DTSTAMP:20260426T014011
CREATED:20230516T053755Z
LAST-MODIFIED:20230516T053755Z
UID:7645-1688301000-1688306400@pokladykultury.eu
SUMMARY:Zajęcia jogi w Ogrodzie Botanicznym
DESCRIPTION:Po raz kolejny Synergia\, jako organizator spotkania\, zaprasza do udziału w plenerowych zajęciach jogi. Cykl jogi na trawie rozpoczyna się 2 lipca 2023. Spotkania będą trwały przez całe wakacje na terenie Miejskiego Ogrodu Botanicznego w Zabrzu. \n\nW pierwszą niedzielę lipca joga ponownie zagości na dużej łące pod wierzbą naprzeciw stawu. Cotygodniowe zajęcia odbywać się będą w każdą niedzielę\, aż do 27 sierpnia 2023 o godzinie 10:30. Zajęcia potrwają około 1\,5 godziny. Wstęp na jogę jest darmowy\, bez ograniczeń miejsc\, nie trzeba się zapisywać\, natomiast wstęp do ogrodu płatny 2 zł. W razie niepogody zajęcia mogą zostać odwołane. Prosimy zatem obserwować wydarzenie\, bo właśnie tam\, w razie problemów pogodowych\, będzie podawana informacja\, czy joga w ogrodzie się odbędzie\, max do godziny 9:00. \nZapraszamy na praktykę rożnych form jogi. Zajęcia są dla wszystkich\, którym zależy na dobrej kondycji fizycznej i psychicznej. Nie musisz posiadać doświadczenia w praktyce jogi\, poziom będzie dostosowany do każdego uczestnika. \nNa regularnych zajęciach ćwiczyć mogą osoby zdrowe\, bez przeciwwskazań lekarskich. Osoby z problemami zdrowotnymi zobowiązane są poinformować o nich nauczyciela przed rozpoczęciem ćwiczeń\, jak również w trakcie ich trwania\, w razie zaistnienia nieprzewidzianych okoliczności. Prowadzący nie bierze odpowiedzialności za negatywne skutki dla zdrowia ćwiczeń. Nauczyciel ma prawo odmówić wstępu na praktykę osobie\, co do której ma podejrzenia o przeciwwskazania lekarskie do ćwiczeń. Kobiety są zobowiązane do informowania nauczyciela prowadzącego zajęcia o ciąży. W zajęciach mogą uczestniczyć kobiety\, które posiadają zaświadczenie lekarskie o braku przeciwskazań do ćwiczeń. Jeżeli dana kobieta nie poinformowała o ciąży instruktorka i nie posiada zaświadczenia\, nauczyciel ma prawo odmówić wstępu na praktykę \nProsimy o zabranie własnych mat.
URL:https://pokladykultury.eu/event/zajecia-jogi-w-ogrodzie-botanicznym/
LOCATION:Miejski Ogród Botaniczny\, ul. Piłsudskiego 60\, Zabrze\, śląskie\, 41-800\, Poland
CATEGORIES:Aktywnie
ATTACH;FMTTYPE=image/jpeg:https://pokladykultury.eu/wp-content/uploads/2023/05/joga.jpg
END:VEVENT
BEGIN:VEVENT
DTSTART;TZID=Europe/Warsaw:20230704T160000
DTEND;TZID=Europe/Warsaw:20230704T220000
DTSTAMP:20260426T014011
CREATED:20230629T061938Z
LAST-MODIFIED:20230629T061938Z
UID:8017-1688486400-1688508000@pokladykultury.eu
SUMMARY:"Zjednoczeni Pamięcią II" – akcja sprzątania Cmentarza Żydowskiego w Zabrzu
DESCRIPTION:Stowarzyszenie „Zachor” zaprasza na kolejną akcję sprzątania cmentarza żydowskiego przy ul. Cmentarnej. Już we wtorek\, 4 lipca pomóc w pracach porządkowych będzie można od godz. 14.00 do godz. 20.00.  \nOrganizatorzy informują\, że akcja pod nazwą „Zjednoczeni Pamięcią II” ma dodatkowy przekaz – pokazuje\, że w obliczu aktu wandalizmu\, który miał miejsce na początku czerwca\, jesteśmy solidarni i działamy wspólnie. W pierwszą inicjatywę porządkowania cmentarza zaangażowało się dużo osób\, dlatego stowarzyszenie zdecydowało się na przeprowadzić drugą akcję. \nAż 150 osób uczestniczyło w pierwszej akcji porządkowania cmentarza Żydowskiego w Zabrzu pod hasłem „Zjednoczeni Pamięcią”. W trakcie prac zabrzański historyk Dariusz Walerjański oprowadził zgromadzonych po nekropolii udzielając lekcji historii i pokazując skalę zniszczeń. Prowadzona też była kwesta na bieżące potrzeby cmentarza\, w tym na zakup kamer typu „foto-pułapka”. \nPrzypomnijmy\, że niedawno zdewastowano nagrobki na zabytkowym cmentarzu w Zabrzu. Dewastację odkryto w poniedziałek (5 czerwca) podczas odwiedzin nekropolii przez opiekunów tego miejsca. Na co dzień kirkut ten jest zamknięty. \nWarto wspomnieć\, że kirkut w Zabrzu został założony w 1871 r. Najstarszy zachowany nagrobek pochodzi właśnie z tego roku. Na cmentarzu pochowano ponad 670 osób wyznania mojżeszowego\, różnej narodowości. Pochówki odbywały się tu do 1954 r. W 1992 r. cmentarz został wpisany do rejestru zabytków.
URL:https://pokladykultury.eu/event/zjednoczeni-pamiecia-ii-akcja-sprzatania-cmentarza-zydowskiego-w-zabrzu/
LOCATION:Cmentarz Żydowski w Zabrzu\, ul. Cmentarna 15\, Zabrze\, śląskie\, 41-800\, Poland
ATTACH;FMTTYPE=image/jpeg:https://pokladykultury.eu/wp-content/uploads/2023/06/sprzatanie-cmentarza.jpg
END:VEVENT
BEGIN:VEVENT
DTSTART;TZID=Europe/Warsaw:20230709T123000
DTEND;TZID=Europe/Warsaw:20230709T140000
DTSTAMP:20260426T014011
CREATED:20230707T081930Z
LAST-MODIFIED:20230707T081930Z
UID:8080-1688905800-1688911200@pokladykultury.eu
SUMMARY:Bezpłatne zajęcia jogi w Ogrodzie Botanicznym
DESCRIPTION:Synergia zaprasza do udziału w plenerowych zajęciach jogi. Cykl jogi na trawie rozpoczął się 2 lipca 2023. Spotkania odbywają się w każdą niedzielę wakacji o godz. 10.30 na dużej łące pod wierzbą naprzeciw stawu. Zajęcia trwają około 1\,5 godziny. Wstęp na jogę jest darmowy\, bez ograniczeń miejsc\, nie trzeba się zapisywać\, natomiast wstęp do ogrodu płatny 2 zł.\n \nW razie niepogody zajęcia zostają odwołane. Prosimy obserwować nasz profil i wydarzenie\, bo właśnie tam w razie problemów pogodowych będzie podawana informacja czy joga w ogrodzie się odbędzie\, max do godziny 9:00.\n \nZapraszamy na praktykę rożnych form jogi. Zajęcia są dla wszystkich\, którym zależy na dobrej kondycji fizycznej i psychicznej. Nie musisz posiadać doświadczenia w praktyce jogi\, poziom będzie dostosowany do każdego uczestnika.\nNa regularnych zajęciach ćwiczyć mogą osoby zdrowe\, bez przeciwwskazań lekarskich. Osoby z problemami zdrowotnymi zobowiązane są poinformować o nich nauczyciela przed rozpoczęciem ćwiczeń\, jak również w trakcie ich trwania\, w razie zaistnienia nieprzewidzianych okoliczności. Prowadzący nie bierze odpowiedzialności za negatywne skutki dla zdrowia ćwiczeń. Nauczyciel ma prawo odmówić wstępu na praktykę osobie\, co do której ma podejrzenia o przeciwwskazania lekarskie do ćwiczeń. Kobiety są zobowiązane do informowania nauczyciela prowadzącego zajęcia o ciąży. W zajęciach mogą uczestniczyć kobiety\, które posiadają zaświadczenie lekarskie o braku przeciwskazań do ćwiczeń. Jeżeli dana kobieta nie poinformowała o ciąży instruktorka i nie posiada zaświadczenia\, nauczyciel ma prawo odmówić wstępu na praktykę\n \nProsimy o zabranie własnych mat.
URL:https://pokladykultury.eu/event/bezplatne-zajecia-jogi-w-ogrodzie-botanicznym/
LOCATION:Miejski Ogród Botaniczny\, ul. Piłsudskiego 60\, Zabrze\, śląskie\, 41-800\, Poland
ATTACH;FMTTYPE=image/jpeg:https://pokladykultury.eu/wp-content/uploads/2023/05/joga.jpg
END:VEVENT
BEGIN:VEVENT
DTSTART;TZID=Europe/Warsaw:20230714T130000
DTEND;TZID=Europe/Warsaw:20230714T170000
DTSTAMP:20260426T014011
CREATED:20230707T080322Z
LAST-MODIFIED:20230707T080322Z
UID:8077-1689339600-1689354000@pokladykultury.eu
SUMMARY:Grill Party
DESCRIPTION:Zapraszamy wraz z Klub Aktywnego Seniora – Kopernik zabrzańskich Seniorów do wspólnego grillowania.\n \nDla osób niezmotoryzowanych:\nzbiórka na Placu Dworcowym 9:45\,\nwyjazd autobusem 111\, o godzinie 9:58.\n \nZapisy pod numerem telefonu 512-810-491 do 10.07.2023.
URL:https://pokladykultury.eu/event/grill-party/
LOCATION:Animal World\, ul. Karola Niedoby 11\, Zabrze\, śląskie\, 41-811\, Poland
ATTACH;FMTTYPE=image/jpeg:https://pokladykultury.eu/wp-content/uploads/2023/07/Grill.jpg
END:VEVENT
BEGIN:VEVENT
DTSTART;TZID=Europe/Warsaw:20230716T120000
DTEND;TZID=Europe/Warsaw:20230716T210000
DTSTAMP:20260426T014011
CREATED:20230704T104331Z
LAST-MODIFIED:20230704T104331Z
UID:8052-1689508800-1689541200@pokladykultury.eu
SUMMARY:Aktywna Rodzina na Kąpielisku Leśnym
DESCRIPTION:Kąpielisko Leśne w Zabrzu zaprasza do wspólnego spędzenia czasu w ramach wydarzenia Aktywna Rodzina. Wydarzenie to możliwość spędzenia aktywnie czasu na świeżym powietrzu w rodzinnym gronie.\nBezpłatnie udostępnione zostanie: \n\nboisko do piłki nożnej z mini bramkami\nboisko do badmintona\nmini golf\nanimacje dla dzieci\nBumperBall\n\nObowiązują bilety wstępu na Kąpielisko Leśne\, zgodnie z cennikiem. Korzystanie z wyżej wymienionych atrakcji jest bezpłatne.
URL:https://pokladykultury.eu/event/aktywna-rodzina-na-kapielisku-lesnym/
LOCATION:Kąpielisko Leśne\, ul. Srebrna 10\, Zabrze\, śląskie\, 41-800\, Poland
ATTACH;FMTTYPE=image/jpeg:https://pokladykultury.eu/wp-content/uploads/2023/07/aktywna-rodzina.jpg
END:VEVENT
BEGIN:VEVENT
DTSTART;TZID=Europe/Warsaw:20230716T123000
DTEND;TZID=Europe/Warsaw:20230716T140000
DTSTAMP:20260426T014011
CREATED:20230707T082149Z
LAST-MODIFIED:20230707T082149Z
UID:8082-1689510600-1689516000@pokladykultury.eu
SUMMARY:Bezpłatne zajęcia jogi w Ogrodzie Botanicznym
DESCRIPTION:Synergia zaprasza do udziału w plenerowych zajęciach jogi. Cykl jogi na trawie rozpoczął się 2 lipca 2023. Spotkania odbywają się w każdą niedzielę wakacji o godz. 10.30 na dużej łące pod wierzbą naprzeciw stawu. Zajęcia trwają około 1\,5 godziny. Wstęp na jogę jest darmowy\, bez ograniczeń miejsc\, nie trzeba się zapisywać\, natomiast wstęp do ogrodu płatny 2 zł.\n \nW razie niepogody zajęcia zostają odwołane. Prosimy obserwować nasz profil i wydarzenie\, bo właśnie tam w razie problemów pogodowych będzie podawana informacja czy joga w ogrodzie się odbędzie\, max do godziny 9:00.\n \nZapraszamy na praktykę rożnych form jogi. Zajęcia są dla wszystkich\, którym zależy na dobrej kondycji fizycznej i psychicznej. Nie musisz posiadać doświadczenia w praktyce jogi\, poziom będzie dostosowany do każdego uczestnika.\nNa regularnych zajęciach ćwiczyć mogą osoby zdrowe\, bez przeciwwskazań lekarskich. Osoby z problemami zdrowotnymi zobowiązane są poinformować o nich nauczyciela przed rozpoczęciem ćwiczeń\, jak również w trakcie ich trwania\, w razie zaistnienia nieprzewidzianych okoliczności. Prowadzący nie bierze odpowiedzialności za negatywne skutki dla zdrowia ćwiczeń. Nauczyciel ma prawo odmówić wstępu na praktykę osobie\, co do której ma podejrzenia o przeciwwskazania lekarskie do ćwiczeń. Kobiety są zobowiązane do informowania nauczyciela prowadzącego zajęcia o ciąży. W zajęciach mogą uczestniczyć kobiety\, które posiadają zaświadczenie lekarskie o braku przeciwskazań do ćwiczeń. Jeżeli dana kobieta nie poinformowała o ciąży instruktorka i nie posiada zaświadczenia\, nauczyciel ma prawo odmówić wstępu na praktykę\n \nProsimy o zabranie własnych mat.
URL:https://pokladykultury.eu/event/bezplatne-zajecia-jogi-w-ogrodzie-botanicznym-2/
LOCATION:Miejski Ogród Botaniczny\, ul. Piłsudskiego 60\, Zabrze\, śląskie\, 41-800\, Poland
ATTACH;FMTTYPE=image/jpeg:https://pokladykultury.eu/wp-content/uploads/2023/05/joga.jpg
END:VEVENT
BEGIN:VEVENT
DTSTART;TZID=Europe/Warsaw:20230723T123000
DTEND;TZID=Europe/Warsaw:20230723T150000
DTSTAMP:20260426T014011
CREATED:20230707T082326Z
LAST-MODIFIED:20230707T082326Z
UID:8084-1690115400-1690124400@pokladykultury.eu
SUMMARY:Bezpłatne zajęcia jogi w Ogrodzie Botanicznym
DESCRIPTION:Synergia zaprasza do udziału w plenerowych zajęciach jogi. Cykl jogi na trawie rozpoczął się 2 lipca 2023. Spotkania odbywają się w każdą niedzielę wakacji o godz. 10.30 na dużej łące pod wierzbą naprzeciw stawu. Zajęcia trwają około 1\,5 godziny. Wstęp na jogę jest darmowy\, bez ograniczeń miejsc\, nie trzeba się zapisywać\, natomiast wstęp do ogrodu płatny 2 zł.\n \nW razie niepogody zajęcia zostają odwołane. Prosimy obserwować nasz profil i wydarzenie\, bo właśnie tam w razie problemów pogodowych będzie podawana informacja czy joga w ogrodzie się odbędzie\, max do godziny 9:00.\n \nZapraszamy na praktykę rożnych form jogi. Zajęcia są dla wszystkich\, którym zależy na dobrej kondycji fizycznej i psychicznej. Nie musisz posiadać doświadczenia w praktyce jogi\, poziom będzie dostosowany do każdego uczestnika.\nNa regularnych zajęciach ćwiczyć mogą osoby zdrowe\, bez przeciwwskazań lekarskich. Osoby z problemami zdrowotnymi zobowiązane są poinformować o nich nauczyciela przed rozpoczęciem ćwiczeń\, jak również w trakcie ich trwania\, w razie zaistnienia nieprzewidzianych okoliczności. Prowadzący nie bierze odpowiedzialności za negatywne skutki dla zdrowia ćwiczeń. Nauczyciel ma prawo odmówić wstępu na praktykę osobie\, co do której ma podejrzenia o przeciwwskazania lekarskie do ćwiczeń. Kobiety są zobowiązane do informowania nauczyciela prowadzącego zajęcia o ciąży. W zajęciach mogą uczestniczyć kobiety\, które posiadają zaświadczenie lekarskie o braku przeciwskazań do ćwiczeń. Jeżeli dana kobieta nie poinformowała o ciąży instruktorka i nie posiada zaświadczenia\, nauczyciel ma prawo odmówić wstępu na praktykę\n \nProsimy o zabranie własnych mat.
URL:https://pokladykultury.eu/event/bezplatne-zajecia-jogi-w-ogrodzie-botanicznym-3/
LOCATION:Miejski Ogród Botaniczny\, ul. Piłsudskiego 60\, Zabrze\, śląskie\, 41-800\, Poland
ATTACH;FMTTYPE=image/jpeg:https://pokladykultury.eu/wp-content/uploads/2023/05/joga.jpg
END:VEVENT
BEGIN:VEVENT
DTSTART;TZID=Europe/Warsaw:20230727T122000
DTEND;TZID=Europe/Warsaw:20230727T170000
DTSTAMP:20260426T014011
CREATED:20230725T041751Z
LAST-MODIFIED:20230725T041751Z
UID:8109-1690460400-1690477200@pokladykultury.eu
SUMMARY:BINGO w Ogrodzie Botanicznym
DESCRIPTION:Centrum Aktywności Senioralnej zaprasza wszystkich zabrzańskich Seniorów do wspólnej gry w Bingo. \nJuż w czwartek – 27.07 zapraszamy do gry w Bingo w przepięknych okolicznościach przyrody Miejskiego Ogrodu Botanicznego w Zabrzu. \nZapisy pod numerem telefonu 512 810 491.
URL:https://pokladykultury.eu/event/bingo-w-ogrodzie-botanicznym/
LOCATION:Miejski Ogród Botaniczny\, ul. Piłsudskiego 60\, Zabrze\, śląskie\, 41-800\, Poland
ATTACH;FMTTYPE=image/jpeg:https://pokladykultury.eu/wp-content/uploads/2023/07/Bingo-w-MOB.jpg
END:VEVENT
END:VCALENDAR