BEGIN:VCALENDAR
VERSION:2.0
PRODID:-//Pokładykultury.eu - ECPv5.16.3.1//NONSGML v1.0//EN
CALSCALE:GREGORIAN
METHOD:PUBLISH
X-WR-CALNAME:Pokładykultury.eu
X-ORIGINAL-URL:https://pokladykultury.eu
X-WR-CALDESC:Wydarzenia dla Pokładykultury.eu
REFRESH-INTERVAL;VALUE=DURATION:PT1H
X-Robots-Tag:noindex
X-PUBLISHED-TTL:PT1H
BEGIN:VTIMEZONE
TZID:Europe/Warsaw
BEGIN:DAYLIGHT
TZOFFSETFROM:+0100
TZOFFSETTO:+0200
TZNAME:CEST
DTSTART:20230326T010000
END:DAYLIGHT
BEGIN:STANDARD
TZOFFSETFROM:+0200
TZOFFSETTO:+0100
TZNAME:CET
DTSTART:20231029T010000
END:STANDARD
END:VTIMEZONE
BEGIN:VEVENT
DTSTART;TZID=Europe/Warsaw:20230820T123000
DTEND;TZID=Europe/Warsaw:20230820T140000
DTSTAMP:20260425T235500
CREATED:20230817T055430Z
LAST-MODIFIED:20230817T055430Z
UID:8303-1692534600-1692540000@pokladykultury.eu
SUMMARY:Bezpłatne zajęcia jogi w Ogrodzie Botanicznym - VII edycja
DESCRIPTION:Po raz kolejny Synergia jako organizator spotkania\, zaprasza do udziału w plenerowych zajęciach jogi. Cykl jogi na trawie rozpoczął się 2 lipca 2023. Spotkania trwają przez całe wakacje.\n \nCotygodniowe zajęcia odbywają się w każdą niedzielę\, aż do 27 sierpnia 2023 o godzinie 10:30. Zajęcia potrwają około 1\,5 godziny. Wstęp na jogę jest darmowy\, bez ograniczeń miejsc\, nie trzeba się zapisywać\, natomiast wstęp do ogrodu płatny 2 zł. W razie niepogody zajęcia zostają odwołane. Prosimy obserwować nasz profil i wydarzenie\, bo właśnie tam w razie problemów pogodowych będzie podawana informacja czy joga w ogrodzie się odbędzie\, max do godziny 9:00.\nZapraszamy na praktykę rożnych form jogi. Zajęcia są dla wszystkich\, którym zależy na dobrej kondycji fizycznej i psychicznej. Nie musisz posiadać doświadczenia w praktyce jogi\, poziom będzie dostosowany do każdego uczestnika.\nNa regularnych zajęciach ćwiczyć mogą osoby zdrowe\, bez przeciwwskazań lekarskich. Osoby z problemami zdrowotnymi zobowiązane są poinformować o nich nauczyciela przed rozpoczęciem ćwiczeń\, jak również w trakcie ich trwania\, w razie zaistnienia nieprzewidzianych okoliczności. Prowadzący nie bierze odpowiedzialności za negatywne skutki dla zdrowia ćwiczeń. Nauczyciel ma prawo odmówić wstępu na praktykę osobie\, co do której ma podejrzenia o przeciwwskazania lekarskie do ćwiczeń. Kobiety są zobowiązane do informowania nauczyciela prowadzącego zajęcia o ciąży. W zajęciach mogą uczestniczyć kobiety\, które posiadają zaświadczenie lekarskie o braku przeciwskazań do ćwiczeń. Jeżeli dana kobieta nie poinformowała o ciąży instruktorka i nie posiada zaświadczenia\, nauczyciel ma prawo odmówić wstępu na praktykę
URL:https://pokladykultury.eu/event/bezplatne-zajecia-jogi-w-ogrodzie-botanicznym-vii-edycja-2/
LOCATION:Miejski Ogród Botaniczny\, ul. Piłsudskiego 60\, Zabrze\, śląskie\, 41-800\, Poland
ATTACH;FMTTYPE=image/jpeg:https://pokladykultury.eu/wp-content/uploads/2023/05/joga.jpg
END:VEVENT
BEGIN:VEVENT
DTSTART;TZID=Europe/Warsaw:20230826T120000
DTEND;TZID=Europe/Warsaw:20230826T170000
DTSTAMP:20260425T235500
CREATED:20230822T052017Z
LAST-MODIFIED:20230822T052017Z
UID:8337-1693051200-1693069200@pokladykultury.eu
SUMMARY:Piknik z Muzeum 2
DESCRIPTION:W najbliższą sobotę\, 26 sierpnia zapraszamy na drugi z zaplanowanych wakacyjnych spacerów po znanych i mniej znanych miejscach w Zabrzu.\nTym razem zaprosimy do Mikulczyc\, a konkretnie na spacer po ulicy Leśnej. \nNa miejscu zbiórki każdy z uczestników otrzyma bilet z epoki\, który upoważni go do wzięcia udziału w naszej podróży poprzez dzieje\, miejsca\, wydarzenia. W trakcie spaceru zajrzymy\, między innymi\, do szkoły podstawowej nr 26\, w której\, w latach 1923-1939 funkcjonowała polska szkoła mniejszościowa. Przyjrzymy się zabytkom sakralnym (krzyż i kapliczka przydrożna). Zobaczymy\, jak zmieniało się budownictwo mieszkalne na tym terenie. na przestrzeni ostatnich 200 lat! Przyjrzymy się ostatniej zachowanej na terenie Zabrza drewnianej chałupie\, stanowiącej własność jednej rodziny. Na „Rancho Leśna” zobaczymy\, jak stare gospodarstwo rolne zostało zaadaptowane na nowe cele\, na koniec czeka „łyk” ekologii.\nTo tylko kilka miejsc na trasie\, a będzie ich więcej!\n \nJako\, że spacer ma miejsce w okresie letnim\, zakończymy go piknikiem na łonie przyrody.\nA dlaczego wybraliśmy to miejsce?\, dowiecie się Państwo w trakcie spaceru.\n \nInformacje praktyczne:\nZbiórka przy ul. Nowodworskiej 3 (pod piekarnią i cukiernią „Roker”)\nJak długo: około 5 godzin (z piknikiem).\nMożliwości dojazdu autobusem:\nlinia nr 15:\nz placu Dworcowego godz. 8.58 – plac Kroczka godz.9.10.\nz Rokitnicy Pętla: godz. 9.12 – plac Kroczka: godz.9.28.\nlinia 617:\nZ centrum Przesiadkowego Gliwice godz. 8.47 – plac Dworcowy godz.9.09 – plac Kroczka 9.21.\nlinia 81:\nz placu Dworcowego godz. 9.27 – plac Kroczka godz. 9.39.\nz Helenki Elzab godz.9.03 – plac Kroczka godz.9.16.\nlinia 83:\nz placu Dworcowego godz. 9.08 – plac Kroczka godz. 9.20.\nz Helenki Kościół godz. 9.38 – plac Kroczka godz. 9.56.\n \nUwaga: ze względu na prowadzone w Zabrzu prace związane z modernizacją dróg\, prosimy przed wyjazdem upewnić się o aktualnych godzinach odjazdów. Podany powyżej rozkład\, sprawdzony został w dniu 21 sierpnia.\n \nNa jakich zasadach: brak konieczności zapisów\, udział bezpłatny\, napoje oraz prowiant we własnym zakresie lub możliwość zakupu na początku trasy – w piekarni „Roker” oraz na trasie\, na terenie „Rancho Leśna”.\nJak zwykle\, prosimy o zabranie dobrego humoru\, wygodnego obuwia\, resztę zapewnia Muzeum Miejskie w Zabrzu!\n \nNa ilustracji fragment mapy z 1872 roku. Strzałkami zaznaczono ulicę (wówczas droga bita)\, noszącą nazwę Waldstrasse\, a obecnie ul. Leśna. Mapa ze zbiorów Staatsbibliothek zu Berlin.
URL:https://pokladykultury.eu/event/piknik-z-muzeum-2/
LOCATION:Zabrze – Mikulczyce\, Zabrze\, śląskie\, 41-800\, Poland
ATTACH;FMTTYPE=image/jpeg:https://pokladykultury.eu/wp-content/uploads/2023/08/piknik-2.jpg
END:VEVENT
BEGIN:VEVENT
DTSTART;TZID=Europe/Warsaw:20230827T123000
DTEND;TZID=Europe/Warsaw:20230827T140000
DTSTAMP:20260425T235500
CREATED:20230825T070740Z
LAST-MODIFIED:20230825T070740Z
UID:8370-1693139400-1693144800@pokladykultury.eu
SUMMARY:Bezpłatne zajęcia jogi w Ogrodzie Botanicznym - VII edycja
DESCRIPTION:Synergia zaprasza do udziału w plenerowych zajęciach jogi. Cykl jogi na trawie rozpoczął się 2 lipca 2023. Spotkania trwają przez całe wakacje.\nCotygodniowe zajęcia odbywają się w każdą niedzielę\, aż do 27 sierpnia 2023 o godzinie 10:30. Zajęcia trwają około 1\,5 godziny. Wstęp na jogę jest darmowy\, bez ograniczeń miejsc\, nie trzeba się zapisywać\, natomiast wstęp do ogrodu płatny 2 zł. W razie niepogody zajęcia zostają odwołane. Prosimy obserwować nasz profil i wydarzenie\, bo właśnie tam w razie problemów pogodowych będzie podawana informacja czy joga w ogrodzie się odbędzie\, max do godziny 9:00.\nZapraszamy na praktykę rożnych form jogi. Zajęcia są dla wszystkich\, którym zależy na dobrej kondycji fizycznej i psychicznej. Nie musisz posiadać doświadczenia w praktyce jogi\, poziom będzie dostosowany do każdego uczestnika.\nNa regularnych zajęciach ćwiczyć mogą osoby zdrowe\, bez przeciwwskazań lekarskich. Osoby z problemami zdrowotnymi zobowiązane są poinformować o nich nauczyciela przed rozpoczęciem ćwiczeń\, jak również w trakcie ich trwania\, w razie zaistnienia nieprzewidzianych okoliczności. Prowadzący nie bierze odpowiedzialności za negatywne skutki dla zdrowia ćwiczeń. Nauczyciel ma prawo odmówić wstępu na praktykę osobie\, co do której ma podejrzenia o przeciwwskazania lekarskie do ćwiczeń. Kobiety są zobowiązane do informowania nauczyciela prowadzącego zajęcia o ciąży. W zajęciach mogą uczestniczyć kobiety\, które posiadają zaświadczenie lekarskie o braku przeciwskazań do ćwiczeń. Jeżeli dana kobieta nie poinformowała o ciąży instruktorka i nie posiada zaświadczenia\, nauczyciel ma prawo odmówić wstępu na praktykę\nProsimy o zabranie własnych mat\, oraz udostępnienie wydarzenia. 
URL:https://pokladykultury.eu/event/bezplatne-zajecia-jogi-w-ogrodzie-botanicznym-vii-edycja-3/
LOCATION:Miejski Ogród Botaniczny\, ul. Piłsudskiego 60\, Zabrze\, śląskie\, 41-800\, Poland
ATTACH;FMTTYPE=image/jpeg:https://pokladykultury.eu/wp-content/uploads/2023/05/joga.jpg
END:VEVENT
BEGIN:VEVENT
DTSTART;TZID=Europe/Warsaw:20230830T090000
DTEND;TZID=Europe/Warsaw:20230831T000000
DTSTAMP:20260425T235500
CREATED:20230814T070006Z
LAST-MODIFIED:20230814T070006Z
UID:8259-1693386000-1693440000@pokladykultury.eu
SUMMARY:Miedzianka po Drodze | Zabrze
DESCRIPTION:30 sierpnia to ZABRZE. Czekamy na Was w MIEJSKIM OGRODZIE BOTANICZNYM.\nProwadzi nas OIKOS\, czyli DOM. Dlaczego? Tekst-idea czeka niżej\, a tymczasem…\n \nPROGRAM:\n7:00 – 9:00 – spacer po czwartej przyrodzie ze Stanisławem Lubieńskim;\n10:00 – 10:30 – (wydarzenie online) festiwalowa telewizja śniadaniowa na żywo z Gliwic (Sylwia Chutnik\, Weronika Wawrzkowicz\, Mariusz Szczygieł\, Filip Springer);\n16:00 – 17:00 – spotkanie z Mariuszem Szczygłem\, prowadzi Witold Szabłowski;\n16:00 – 17:30 – lekcja poezji z Julią Fiedorczuk;\n17:00 – 18:00 – spotkanie z Agatą Szydłowską\, prowadzi Michał Nogaś;\n18:00 – 19:00 – spotkanie z Tomaszem Tomaszewskim\, prowadzi Witold Szabłowski;\n18:30 – 20:00 – Rokita Czyta „Dom Oriona” Julii Fiedorczuk – dyskusyjny klub książki na festiwalu Miedzianka – prowadzi Magdalena Gościniak;\n19:00 – 20:00 – „Art Thinking” – kino letnie Deloitte i dyskusja po filmie;\n20:00 – 21:00 – Spektakl Teatru Improwizowanego Klancyk!;\n21:15 – 22:00 – Latarnicy i Latarniczki – wydarzenie plenerowe\, autorki i autorzy festiwalu czytają publiczności ulubione teksty.\n \nTematem przewodnim festiwalowej podróży będzie OIKOS /[οἶκος] CZYLI DOM. Ostatnie lata zmuszały nas do ciągłego namysłu nad domem. I to zarówno tym rozumianym jako najbliższa i osobista przestrzeń\, jak i tym\, który ma wymiar planetarny. W pandemii poczułyśmy nasze domy – ich mocne i słabe strony. Dowiedzieliśmy się też wiele o naszych potrzebach i oczekiwaniach\, jakie względem domów mamy. Potem przyszła wojna i trzeba się było tymi domami podzielić. To jednak sprawiło\, że zaczęłyśmy sobie zadawać pytanie czy nasz kontynentalny dom – Europa na pewno chce być twierdzą? A jeśli tak\, to czy nie podkopuje w ten sposób fundamentów\, na których stoi? Wszystkie te pytania nabierają pilnej aktualności w kontekście problemów jakie sprowadziliśmy na nasz planetarny dom czyli Ziemię. Oikos znaczy dom – to w tym greckim słowie tkwi swoimi korzeniami przedrostek “eko”. To dom właśnie łączy ekonomię – sztukę zarządzania nim z ekologią – wiedzą o nim. W czasie tegorocznej edycji festiwalu Miedzianka po Drodze spróbujemy się dowiedzieć\, co też się z nami stało\, że zapomnieliśmy o tak bliskim pokrewieństwie tych dwóch słów? \nGospodarzami lokalnymi festiwalu są:\nMiasto Zabrze i Ogród Botaniczny w Zabrzu \n \nOrganizatorem Miedzianki po Drodze jest: Fundacja Instytut Reportażu\n \nPartnerzy Główni:\nGórnośląsko-Zagłębiowska Metropolia\, Fundacja Deloitte\, \n \nPartnerzy Festiwalu:\nWSB Dąbrowa Górnicza\, Radio Nowy Świat\, Onet.pl\, Onet Watch\, National Geographic Traveler\, Kancelaria Mużyło\nKoleo\, Wiślańskie Centrum Kultury\n \nProducent wykonawczy:\nAgencja autorska Opowieści
URL:https://pokladykultury.eu/event/miedzianka-po-drodze-zabrze/
LOCATION:Miejski Ogród Botaniczny\, ul. Piłsudskiego 60\, Zabrze\, śląskie\, 41-800\, Poland
ATTACH;FMTTYPE=image/jpeg:https://pokladykultury.eu/wp-content/uploads/2023/08/miedzianka.jpg
END:VEVENT
END:VCALENDAR