BEGIN:VCALENDAR
VERSION:2.0
PRODID:-//Pokładykultury.eu - ECPv5.16.3.1//NONSGML v1.0//EN
CALSCALE:GREGORIAN
METHOD:PUBLISH
X-WR-CALNAME:Pokładykultury.eu
X-ORIGINAL-URL:https://pokladykultury.eu
X-WR-CALDESC:Wydarzenia dla Pokładykultury.eu
REFRESH-INTERVAL;VALUE=DURATION:PT1H
X-Robots-Tag:noindex
X-PUBLISHED-TTL:PT1H
BEGIN:VTIMEZONE
TZID:Europe/Warsaw
BEGIN:DAYLIGHT
TZOFFSETFROM:+0100
TZOFFSETTO:+0200
TZNAME:CEST
DTSTART:20230326T010000
END:DAYLIGHT
BEGIN:STANDARD
TZOFFSETFROM:+0200
TZOFFSETTO:+0100
TZNAME:CET
DTSTART:20231029T010000
END:STANDARD
END:VTIMEZONE
BEGIN:VEVENT
DTSTART;TZID=Europe/Warsaw:20231007T140000
DTEND;TZID=Europe/Warsaw:20231007T190000
DTSTAMP:20260425T051036
CREATED:20230927T081458Z
LAST-MODIFIED:20230927T081458Z
UID:8690-1696687200-1696705200@pokladykultury.eu
SUMMARY:Hubertus 2023
DESCRIPTION:Miejski Ośrodek Sportu i Rekreacji oraz Klub Jeździecki Maciejówka MOSiR Zabrze zapraszają w pierwszą sobotę października na tradycyjne podsumowanie sezonu jeździeckiego – Hubertus 2023. \nOficjalne otwarcie imprezy zaplanowano na godz. 12.00. Gonitwa za lisem w wykonaniu juniorów odbędzie się o godz. 12.15 a w wykonaniu seniorów o godz. 13.00. Swoją konkurencję będą mieli również najmłodsi uczestnicy Hubertusa\, których organizatorzy zapraszają do wzięcia udziału w licznych grach i zabawach\, m.in. w szukaniu liska (godz. 13.00). O godz. 14.00 odbędą się natomiast zawody skokowe. \nNie zabraknie też miasteczka zabaw dla dzieci i konkursów z nagrodami. Publiczność będzie mogła podziwiać w tym roku pokazy Bractwa Rycerskiego Ziemi Ogrodzienieckiej. \n 
URL:https://pokladykultury.eu/event/hubertus-2023/
LOCATION:Kąpielisko Leśne\, ul. Srebrna 10\, Zabrze\, śląskie\, 41-800\, Poland
ATTACH;FMTTYPE=image/jpeg:https://pokladykultury.eu/wp-content/uploads/2023/09/Hubertus-plakat-2023-1448x2048-1.jpg
END:VEVENT
BEGIN:VEVENT
DTSTART;TZID=Europe/Warsaw:20231008T170000
DTEND;TZID=Europe/Warsaw:20231008T190000
DTSTAMP:20260425T051036
CREATED:20230928T071622Z
LAST-MODIFIED:20230928T071622Z
UID:8703-1696784400-1696791600@pokladykultury.eu
SUMMARY:Spacer po Zandce
DESCRIPTION:Z okazji wydania książki „Familoki. Śląskie mikrokosmosy” zapraszamy na wycieczkę po osiedlu robotniczym Zandka w Zabrzu oraz dawnym kompleksie huty Donnersmarcka.\n \nZandka jest jednym z bohaterów książki i jedną z najciekawszych kolonii robotniczych na Górnym Śląsku. Sprawdzimy\, co przetrwało z dawnego kompleksu Donnersmarckhutte do dzisiaj. Dowiemy się\, jak i dlaczego postawiono Stalowy Dom. Poszukamy śladów drugiej wojny światowej na Zandce oraz porozmawiamy\, jak żyli urzędnicy i dyrektorzy huty.\n \nNa początku XX wieku w centrum Zabrza powstało wzorcowa kolonia robotnicza Zandka. Oprócz domów dla pracowników i urzędników\, wybudowano szkoły\, sklepy\, łaźnie oraz straż pożarną. Przy samej Hucie wybudowano zalążek przyszłego miasta Kasyno (Teatr Nowy)\, bibliotekę\, hale sportową i basen. Zakład zatrudniał ponad 7 tysięcy pracowników. Na terenie osiedla powstał eksperyment budowlany Stalowy Dom\, który ma już ponad 90 lat.\n \nStart: skrzyżowanie ulic Krakusa i Franciszka Siedleckiego.
URL:https://pokladykultury.eu/event/spacer-po-zandce/
LOCATION:Zandka\, Zabrze\, śląskie\, 41-800\, Poland
ATTACH;FMTTYPE=image/jpeg:https://pokladykultury.eu/wp-content/uploads/2023/09/Zandka.jpg
END:VEVENT
BEGIN:VEVENT
DTSTART;VALUE=DATE:20231014
DTEND;VALUE=DATE:20231017
DTSTAMP:20260425T051036
CREATED:20231013T061634Z
LAST-MODIFIED:20231013T061634Z
UID:8872-1697248800-1697421599@pokladykultury.eu
SUMMARY:II Festiwal Nurkowy WYNURZENIE
DESCRIPTION:Muzeum Górnictwa Węglowego w Zabrzu zaprasza na II Festiwal Nurkowy \,\,Wynurzenie”\, który odbędzie się w dniach 14 – 15 października br. w strefie Carnall Sztolni Królowa Luiza (ul. Wolności 408). \nPierwszy dzień Festiwalu oficjalnie rozpocznie się o 12:30 ale już o 9:00 na basenie Aquarius (pl. Krakowski\, Zabrze) będzie można zanurkować z instruktorem i otrzymać pamiątkowe zdjęcie spod powierzchni. Na intro obowiązują zapisy pod nr 660 573 003. \n  \n 
URL:https://pokladykultury.eu/event/ii-festiwal-nurkowy-wynurzenie/
LOCATION:Strefa Carnall\, Sztolnia Królowa Luiza\, ul. Wolności 408\, Zabrze\, śląskie\, 41-800\, Poland
ATTACH;FMTTYPE=image/jpeg:https://pokladykultury.eu/wp-content/uploads/2023/10/Festiwal-Nurkowy-scaled.jpg
END:VEVENT
BEGIN:VEVENT
DTSTART;VALUE=DATE:20231029
DTEND;VALUE=DATE:20231031
DTSTAMP:20260425T051036
CREATED:20231013T072842Z
LAST-MODIFIED:20231013T072842Z
UID:8878-1698544800-1698627599@pokladykultury.eu
SUMMARY:VII Olimpiada Szachowa
DESCRIPTION:Zapraszamy do wzięcia udziału w VII Olimpiadzie Szachowej\, w ramach której rozgrywki odbędą się w niedzielę\, 29.10.2023 na Arenie Zabrze Stadion Górnik Zabrze S.A.\n\n\nGrupy turniejowe:\n\n\n Do lat 6\nhttp://www.chessarbiter.com/turnieje/2023/ti_6678/\nDo lat 8\nhttp://www.chessarbiter.com/turnieje/2023/ti_6679/\n Do lat 10\nhttp://www.chessarbiter.com/turnieje/2023/ti_6680/\n Grupa Open\nhttp://www.chessarbiter.com/turnieje/2023/ti_6681/ – z odrębną klasyfikacją juniorów do lat 13\, 15 i Rodziców z Szach Mat Zabrze i Kreatywne Szachy.\nZawodnicy z Miasta Zabrze\, Klubu SZACH MAT Zabrze oraz KREATYWNE SZACHY nie opłacają wpisowego – dotyczy dzieci i młodzież do 18 roku życia.
URL:https://pokladykultury.eu/event/vii-olimpiada-szachowa/
LOCATION:Arena Zabrze\, ul. Roosevelta 81\, Zabrze\, śląskie\, 41-800\, Poland
ATTACH;FMTTYPE=image/jpeg:https://pokladykultury.eu/wp-content/uploads/2023/10/Olimpiada-szachowa.jpg
END:VEVENT
END:VCALENDAR