BEGIN:VCALENDAR
VERSION:2.0
PRODID:-//Pokładykultury.eu - ECPv5.16.3.1//NONSGML v1.0//EN
CALSCALE:GREGORIAN
METHOD:PUBLISH
X-WR-CALNAME:Pokładykultury.eu
X-ORIGINAL-URL:https://pokladykultury.eu
X-WR-CALDESC:Wydarzenia dla Pokładykultury.eu
REFRESH-INTERVAL;VALUE=DURATION:PT1H
X-Robots-Tag:noindex
X-PUBLISHED-TTL:PT1H
BEGIN:VTIMEZONE
TZID:Europe/Warsaw
BEGIN:DAYLIGHT
TZOFFSETFROM:+0100
TZOFFSETTO:+0200
TZNAME:CEST
DTSTART:20250330T010000
END:DAYLIGHT
BEGIN:STANDARD
TZOFFSETFROM:+0200
TZOFFSETTO:+0100
TZNAME:CET
DTSTART:20251026T010000
END:STANDARD
END:VTIMEZONE
BEGIN:VEVENT
DTSTART;VALUE=DATE:20250412
DTEND;VALUE=DATE:20250415
DTSTAMP:20260419T150801
CREATED:20250410T081227Z
LAST-MODIFIED:20250410T081227Z
UID:14749-1744423200-1744595999@pokladykultury.eu
SUMMARY:Halowy Festiwal Dmuchańców
DESCRIPTION:Halo Halo Zabrze\, przybywamy z dmuchańcami.\n \nJuż w dniach 12-13 kwietnia 2025 r. HALOWY FESTIWAL DMUCHAŃCÓW.Same wyjątkowe atrakcje będą czekać na Państwa pociechy.\nMiędzy innymi :\n\nDmuchana Zjeżdżalnia\nZręcznościowy Wipe Out\nMonster Truck\nOgromna 9 m skocznia Big Jump – Jedyna taka w Polsce\nDmuchane Place Zabaw\nNiesamowity 30 metrowy Tor Przeszkód oraz inne Dmuchańce.\n\nWizyty Ogromnej Dmuchanej Maskotki STITCHA. Będą z nim tańce\, zdjęcia i zabawy. \nKIEDY: 12-13 KWIETNIA 2025 r.sobota 12-20niedziela 10-18\nGDZIE: Hala Sportowa 41-800 Zabrze \, ul. Jana Matejki 6\nCeny biletów:1 godzina – 50 zł\,3 godziny – 60 zł + gratisCały DZIEŃ – 69 zł + 2 gratisy – możliwość wychodzenia i wracania.\nDorośli i opiekunowie nie płacą za wejście!\n \nNa naszym Fanpagu trwa konkurs!!!Do wygrania 1 z 5 darmowych wejść na CAŁY DZIEŃ!!Wejdź i zobacz\nPłatność: gotówka\, BLIK\nDodatkowo Płatne atrakcje:\n\nTatuaże\nBalony z Helem\nWata Cukrowa\nPopcorn / Nachosy\nWoda i napoje do picia\n\nDzieci na dmuchańcach ze względu na bezpieczeństwo obowiązują SKARPETY ANTYPOŚLIZGOWE – możliwe do zakupienia w kasie. Poruszanie się po hali opiekunów tylko w obuwiu zamiennym\, w skarpetkach lub Foliowych ochraniaczach na buty które również można zakupić w kasie
URL:https://pokladykultury.eu/event/halowy-festiwal-dmuchancow/
LOCATION:Miejski Ośrodek Sportu i Rekreacji\, ul. Matejki 6\, Zabrze\, śląskie\, 41-800\, Poland
ATTACH;FMTTYPE=image/jpeg:https://pokladykultury.eu/wp-content/uploads/2025/04/Festiwal-Dmuchancow.jpg
END:VEVENT
BEGIN:VEVENT
DTSTART;TZID=Europe/Warsaw:20250427T120000
DTEND;TZID=Europe/Warsaw:20250427T160000
DTSTAMP:20260419T150801
CREATED:20250415T075924Z
LAST-MODIFIED:20250425T035958Z
UID:14801-1745755200-1745769600@pokladykultury.eu
SUMMARY:Bieg Tropem Wiosny - zmiana terminu!
DESCRIPTION:Wiosna tuż za rogiem\, a my już rozgrzewamy się na nadchodzący Bieg Tropem Wiosny! \nDołącz do nas 27 kwietnia 2025 roku (zmiana terminu z 26.04 na 27.04) na Kąpielisku Leśnym w Zabrzu-Maciejowie i poczuj wiosenną energię na własnej skórze!\n \nDystanse:• 260 m – dzieci 7–8 lat• 450 m – dzieci 9–10 lat• 700 m – dzieci 11–12 lat• 1000 m – dzieci 13–14 lat\n \nProgram wydarzenia:• 10:00–10:30 – wydawanie numerów startowych• 10:45 – wspólna rozgrzewka• 11:00 – start biegów\n \nKażdy\, kto ukończy bieg\, otrzyma pamiątkowy medal!Limit uczestników: 200 osób\, po 50 na dystans – nie zwlekaj!\nZgłoszenia do 24 kwietnia: https://elektronicznezapisy.pl/event/13218.html 
URL:https://pokladykultury.eu/event/bieg-tropem-wiosny/
LOCATION:Las w Maciejowie\, ul. Srebrna 10\, Zabrze\, śląskie\, 41-800\, Poland
ATTACH;FMTTYPE=image/jpeg:https://pokladykultury.eu/wp-content/uploads/2025/04/Bieg-Tropem-Wiosny.jpg
END:VEVENT
END:VCALENDAR