BEGIN:VCALENDAR
VERSION:2.0
PRODID:-//Pokładykultury.eu - ECPv5.16.3.1//NONSGML v1.0//EN
CALSCALE:GREGORIAN
METHOD:PUBLISH
X-ORIGINAL-URL:https://pokladykultury.eu
X-WR-CALDESC:Wydarzenia dla Pokładykultury.eu
REFRESH-INTERVAL;VALUE=DURATION:PT1H
X-Robots-Tag:noindex
X-PUBLISHED-TTL:PT1H
BEGIN:VTIMEZONE
TZID:Europe/Warsaw
BEGIN:DAYLIGHT
TZOFFSETFROM:+0100
TZOFFSETTO:+0200
TZNAME:CEST
DTSTART:20210328T010000
END:DAYLIGHT
BEGIN:STANDARD
TZOFFSETFROM:+0200
TZOFFSETTO:+0100
TZNAME:CET
DTSTART:20211031T010000
END:STANDARD
END:VTIMEZONE
BEGIN:VEVENT
DTSTART;TZID=Europe/Warsaw:20211204T180000
DTEND;TZID=Europe/Warsaw:20211204T220000
DTSTAMP:20260424T115829
CREATED:20211103T111255Z
LAST-MODIFIED:20211103T111255Z
UID:1676-1638640800-1638655200@pokladykultury.eu
SUMMARY:Biesiada z Kapelą Fedaków
DESCRIPTION:W ramach trwającego trzy dni Jarmarku Barbórkowego BarbórkoweLOVE nie może zabraknąć prawdziwej Biesiady.\n \nŚwiętuj z nam 4 grudnia\, tak jak od dekad robią to górnicy. Zapraszamy. Na talerzu zagości tradycyjne golonko\, a w parze z nim piwo\, śląskie specjały\, dobra zabawa i muzyka!\n \nWspólnie będziemy bawić się przy dźwiękach muzyki Kapeli Fedaków\, rodzinnego zespołu z Katowic\, grającego muzykę tradycyjną ze Śląska i innych części kraju\, a także autorską muzykę inspirowaną polską muzyką tradycyjną.\n \nNigdy nie miałeś/miałaś okazji być na Biesiadzie? Teraz możesz to zmienić. Jeżeli jednak znasz już tę tradycję\, wiesz\, że to super sprawa i musisz tam być!\n \nBilety – 119 zł/os.\, dostępne niebawem w sprzedaży.
URL:https://pokladykultury.eu/event/biesiada-z-kapela-fedakow/
LOCATION:Strefa Carnall\, Sztolnia Królowa Luiza\, ul. Wolności 408\, Zabrze\, śląskie\, 41-800\, Poland
ATTACH;FMTTYPE=image/jpeg:https://pokladykultury.eu/wp-content/uploads/2021/11/Biesiada.jpg
END:VEVENT
END:VCALENDAR