BEGIN:VCALENDAR
VERSION:2.0
PRODID:-//Pokładykultury.eu - ECPv5.16.3.1//NONSGML v1.0//EN
CALSCALE:GREGORIAN
METHOD:PUBLISH
X-WR-CALNAME:Pokładykultury.eu
X-ORIGINAL-URL:https://pokladykultury.eu
X-WR-CALDESC:Wydarzenia dla Pokładykultury.eu
REFRESH-INTERVAL;VALUE=DURATION:PT1H
X-Robots-Tag:noindex
X-PUBLISHED-TTL:PT1H
BEGIN:VTIMEZONE
TZID:Europe/Warsaw
BEGIN:DAYLIGHT
TZOFFSETFROM:+0100
TZOFFSETTO:+0200
TZNAME:CEST
DTSTART:20260329T010000
END:DAYLIGHT
BEGIN:STANDARD
TZOFFSETFROM:+0200
TZOFFSETTO:+0100
TZNAME:CET
DTSTART:20261025T010000
END:STANDARD
END:VTIMEZONE
BEGIN:VEVENT
DTSTART;TZID=Europe/Warsaw:20260307T200000
DTEND;TZID=Europe/Warsaw:20260307T220000
DTSTAMP:20260423T172919
CREATED:20260306T103238Z
LAST-MODIFIED:20260306T103238Z
UID:18376-1772913600-1772920800@pokladykultury.eu
SUMMARY:Koncert Łukasza Sobczaka w SCENA cocktail bar
DESCRIPTION:Zapraszamy na weekend kobiet w SCENA cocktail bar.\n\n\n \nSobota 07.03.2026 r. godzina 20:00\n\n\nkoncert Łukasz Sobczak\, artysta muzyczny grający mieszankę rocka i bluesa\n\n\n \nWstęp wolny!\n\n\nSerdecznie zapraszamy!\n\n\n \nZachęcamy do rezerwacji \n\n\n 519 482 056\n scena.cocktailbar@gmail.com\n Instagram\n Messenger
URL:https://pokladykultury.eu/event/koncert-lukasza-sobczaka-w-scena-cocktail-bar/
LOCATION:SCENA cocktail bar\, pl. Teatralny 1\, Zabrze\, śląskie\, 41-800\, Poland
ATTACH;FMTTYPE=image/jpeg:https://pokladykultury.eu/wp-content/uploads/2026/03/Lukasz-Sobczak.jpg
END:VEVENT
BEGIN:VEVENT
DTSTART;TZID=Europe/Warsaw:20260327T190000
DTEND;TZID=Europe/Warsaw:20260327T210000
DTSTAMP:20260423T172919
CREATED:20260306T114238Z
LAST-MODIFIED:20260306T114238Z
UID:18396-1774638000-1774645200@pokladykultury.eu
SUMMARY:Dżem + HLA4Transplant
DESCRIPTION:Zapraszamy na sentymentalną podróż po rockowych wspomnieniach i dźwiękach bluesa z zespołem Dżem. \nIch piosenki zna chyba każdy\, a możliwość zaśpiewania ich razem z zespołem na żywo to gwarancja niezapomnianych emocji! Na tym koncercie trzeba być\, poczuć muzykę i klimat by przekonać się\, że to jeden z najlepszych koncertów w Waszym życiu! Dżem z nowym wokalistą – Sebastianem Riedlem. Mówi się o nich „polscy Rolling Stonesi”… I faktycznie – coś w tym jest. Choćby ze względu na źródła muzyki\, żonglowanie stylami\, konsekwencję.\nZe względu na staż\, pod względem którego coraz mniej mają równych. Ze względu na nie harcerski tryb życia oczywiście też. No i ze względu na skomplikowane\, nie wolne od dramatów dzieje… Dżem – polski zespół muzyczny grający muzykę z pogranicza rocka i bluesa\, który w 1973 roku założyli bracia Adam i Beno Otrębowie oraz Paweł Berger. Zaliczany do najważniejszych zespołów w historii polskiej muzyki rockowo-bluesowej. Dżem wystąpi w składzie: Sebastian Riedel – śpiew (od 2024) Adam Otręba – gitara (1973-1982\, od 1983) Benedykt „Beno” Otręba – gitara basowa\, śpiew (1973-1976\, od 1980) Jerzy Styczyński – gitara (1979-1981\, od 1981) Zbigniew Szczerbiński – perkusja (od 1992) Janusz Borzucki – instrumenty klawiszowe (od 2005).
URL:https://pokladykultury.eu/event/dzem-hla4transplant/
LOCATION:Dom Muzyki i Tańca w Zabrzu\, ul. Gen. de Gaulle'a 17\, Zabrze\, śląskie\, 41-800\, Poland
ATTACH;FMTTYPE=image/jpeg:https://pokladykultury.eu/wp-content/uploads/2026/03/dzmzabrzegraf.jpg
END:VEVENT
END:VCALENDAR