BEGIN:VCALENDAR
VERSION:2.0
PRODID:-//Pokładykultury.eu - ECPv5.16.3.1//NONSGML v1.0//EN
CALSCALE:GREGORIAN
METHOD:PUBLISH
X-ORIGINAL-URL:https://pokladykultury.eu
X-WR-CALDESC:Wydarzenia dla Pokładykultury.eu
REFRESH-INTERVAL;VALUE=DURATION:PT1H
X-Robots-Tag:noindex
X-PUBLISHED-TTL:PT1H
BEGIN:VTIMEZONE
TZID:Europe/Warsaw
BEGIN:DAYLIGHT
TZOFFSETFROM:+0100
TZOFFSETTO:+0200
TZNAME:CEST
DTSTART:20220327T010000
END:DAYLIGHT
BEGIN:STANDARD
TZOFFSETFROM:+0200
TZOFFSETTO:+0100
TZNAME:CET
DTSTART:20221030T010000
END:STANDARD
END:VTIMEZONE
BEGIN:VEVENT
DTSTART;VALUE=DATE:20220526
DTEND;VALUE=DATE:20220528
DTSTAMP:20260421T041440
CREATED:20220523T094326Z
LAST-MODIFIED:20220523T094326Z
UID:3728-1653530400-1653616799@pokladykultury.eu
SUMMARY:Dzień Matki w Aquariusie
DESCRIPTION: \n26 maja zapraszamy do obchodów Dnia Matki w obiektach Zabrzańskiego Kompleksu Rekreacji. Z okazji tego święta\, dla wszystkich mam przygotowane zostały liczne atrakcje:\n\n\n\n\n\n\n\n\n\n\n16:00-19:00 Rytuały Saunowe dla Mam w cenie biletu wstępu do Strefy SPA;\n16:00-19:00 Kosmetyczna Niespodzianka – zabiegi pielęgnacyjne dla Pań;\n20:45 Aqua Aerobik dla Mam w cenie biletu wstępu do Strefy Basenów.\n\n\n \nDODATKOWO w obu obiektach:\n\n\nW godzinach od 16:00 do 19:00\, do biletów wstępu do Strefy Basenów lub Strefy SPA\, dołączone zostaną kupony promocyjne*:\nKupon – 30% na pedicure w salonie kosmetycznym Bożena Hummel;\nKupon – 10% na dowolną usługę w salonie fryzjerskim IMPULS;\n\n\n*liczba kuponów promocyjnych jest ograniczona\,\nWięcej informacji na www \nhttps://zkr.zabrze.pl/…/26-05-dzien-matki-w…/
URL:https://pokladykultury.eu/event/dzien-matki-w-aquariusie/
LOCATION:Zabrzański Kompleks Rekreacji „Aquarius Kopernik”\, Al. Wojciecha Korfantego 18\, Zabrze\, śląskie\, 41-800\, Poland
ATTACH;FMTTYPE=image/jpeg:https://pokladykultury.eu/wp-content/uploads/2022/05/poprawiony-telebim.jpg
END:VEVENT
END:VCALENDAR