BEGIN:VCALENDAR
VERSION:2.0
PRODID:-//Pokładykultury.eu - ECPv5.16.3.1//NONSGML v1.0//EN
CALSCALE:GREGORIAN
METHOD:PUBLISH
X-ORIGINAL-URL:https://pokladykultury.eu
X-WR-CALDESC:Wydarzenia dla Pokładykultury.eu
REFRESH-INTERVAL;VALUE=DURATION:PT1H
X-Robots-Tag:noindex
X-PUBLISHED-TTL:PT1H
BEGIN:VTIMEZONE
TZID:Europe/Warsaw
BEGIN:DAYLIGHT
TZOFFSETFROM:+0100
TZOFFSETTO:+0200
TZNAME:CEST
DTSTART:20230326T010000
END:DAYLIGHT
BEGIN:STANDARD
TZOFFSETFROM:+0200
TZOFFSETTO:+0100
TZNAME:CET
DTSTART:20231029T010000
END:STANDARD
END:VTIMEZONE
BEGIN:VEVENT
DTSTART;TZID=Europe/Warsaw:20230114T180000
DTEND;TZID=Europe/Warsaw:20230121T220000
DTSTAMP:20260421T235657
CREATED:20230112T123932Z
LAST-MODIFIED:20230112T123932Z
UID:6429-1673719200-1674338400@pokladykultury.eu
SUMMARY:Festiwal Rzeźb Lodowych w Parku Miliona Świateł
DESCRIPTION:Ferie się zaczynają\, a Ty nie masz jeszcze planów na najbliższy weekend?\n\nZapraszamy na wystawę rzeźb lodowych w Parku Miliona Świateł w Zabrzu. Startujemy już 14.01!\nEkspozycja będzie dostępna\, w godzinach 17-21\, przez cały tydzień.\n \nDodatkowo zapraszamy na pokaz rzeźbienia w lodzie\, w sobotę 14.01 o godzinie 17.00.\n \nNajmłodszych zapraszamy również na spacer z alpakami. Gwarantowana niesamowita przygoda.
URL:https://pokladykultury.eu/event/festiwal-rzezb-lodowych-w-parku-miliona-swiatel/
LOCATION:Park Miliona Świateł\, ul. Srebrna 10\, Zabrze\, śląskie\, Poland
ATTACH;FMTTYPE=image/jpeg:https://pokladykultury.eu/wp-content/uploads/2023/01/Festiwal-Rzezb-Lodowych.jpg
END:VEVENT
END:VCALENDAR