BEGIN:VCALENDAR
VERSION:2.0
PRODID:-//Pokładykultury.eu - ECPv5.16.3.1//NONSGML v1.0//EN
CALSCALE:GREGORIAN
METHOD:PUBLISH
X-WR-CALNAME:Pokładykultury.eu
X-ORIGINAL-URL:https://pokladykultury.eu
X-WR-CALDESC:Wydarzenia dla Pokładykultury.eu
REFRESH-INTERVAL;VALUE=DURATION:PT1H
X-Robots-Tag:noindex
X-PUBLISHED-TTL:PT1H
BEGIN:VTIMEZONE
TZID:Europe/Warsaw
BEGIN:DAYLIGHT
TZOFFSETFROM:+0100
TZOFFSETTO:+0200
TZNAME:CEST
DTSTART:20250330T010000
END:DAYLIGHT
BEGIN:STANDARD
TZOFFSETFROM:+0200
TZOFFSETTO:+0100
TZNAME:CET
DTSTART:20251026T010000
END:STANDARD
END:VTIMEZONE
BEGIN:VEVENT
DTSTART;TZID=Europe/Warsaw:20250830T170000
DTEND;TZID=Europe/Warsaw:20250831T000000
DTSTAMP:20260422T042732
CREATED:20250829T051638Z
LAST-MODIFIED:20250829T051638Z
UID:16167-1756573200-1756598400@pokladykultury.eu
SUMMARY:Dożynki 2025 – ROD Zacisze
DESCRIPTION:
URL:https://pokladykultury.eu/event/dozynki-2025-rod-zacisze/
LOCATION:Rodzinny Ogród Działkowy\, UP Zabrze 8\, Zabrze\, śląskie
ATTACH;FMTTYPE=image/jpeg:https://pokladykultury.eu/wp-content/uploads/2025/08/Plakat_dzien_dzialkowca_2025_1.jpg
END:VEVENT
END:VCALENDAR