BEGIN:VCALENDAR
VERSION:2.0
PRODID:-//Pokładykultury.eu - ECPv5.16.3.1//NONSGML v1.0//EN
CALSCALE:GREGORIAN
METHOD:PUBLISH
X-WR-CALNAME:Pokładykultury.eu
X-ORIGINAL-URL:https://pokladykultury.eu
X-WR-CALDESC:Wydarzenia dla Pokładykultury.eu
REFRESH-INTERVAL;VALUE=DURATION:PT1H
X-Robots-Tag:noindex
X-PUBLISHED-TTL:PT1H
BEGIN:VTIMEZONE
TZID:Europe/Warsaw
BEGIN:DAYLIGHT
TZOFFSETFROM:+0100
TZOFFSETTO:+0200
TZNAME:CEST
DTSTART:20210328T010000
END:DAYLIGHT
BEGIN:STANDARD
TZOFFSETFROM:+0200
TZOFFSETTO:+0100
TZNAME:CET
DTSTART:20211031T010000
END:STANDARD
END:VTIMEZONE
BEGIN:VEVENT
DTSTART;TZID=Europe/Warsaw:20211126T200000
DTEND;TZID=Europe/Warsaw:20211126T220000
DTSTAMP:20260426T045050
CREATED:20211124T063340Z
LAST-MODIFIED:20211124T063340Z
UID:1813-1637956800-1637964000@pokladykultury.eu
SUMMARY:IX Międzynarodowy Festiwal im. Krzysztofa Pendereckiego - poziom 320. Kameralnie
DESCRIPTION:26 listopada o godz. 19.00 już po raz dziewiąty podziemia kopalni Guido wypełnią się muzyką Krzysztofa Pendereckiego tym razem w wykonaniu Kwartetu Śląskiego\, który poza interpretacją jednego z ostatnich dzieł Kompozytora IV kwartetu smyczkowego towarzyszyć będzie włoskiemu fleciście Massimo Mercellemu.  \nWspólnie z tym wybitnym interpretatorem twórczości Pendereckiego\, a prywatnie jego wielkim przyjacielem\, wykonają fletową wersję Kwartetu klarnetowego o znamiennym tytule Abschied/Pożegnanie. Wieczór zaś zwieńczą Kwartetem fletowym Wolfganga Amadeusza Mozarta D-dur KV 285. \nChoć tytuł tegorocznej edycji brzmi Kameralnie\, nie zabraknie elementów multimedialnych. Koncert zostanie poprzedzony projekcją psychodelicznego\, artystycznego filmu lalkowego Maska z muzyką Krzysztofa Pendereckiego De natura sonoris. \nWykonawcy \nMassimo Mercelli – flet\nKwartet Śląski \nProgram \nMaska – projekcja filmu w reżyserii braci Quay z muzyką Krzysztofa Pendereckiego\nDe natura sonoris – opartego na kanwie twórczości Stanisława Lema.\nKrzysztof Penderecki\nII Kwartet smyczkowy\nKwartet klarnetowy „Abschied” (wersja fletowa)\nIV Kwartet smyczkowy \nWolfgang Amadeusz Mozart\nKwartet fletowy D-dur KV 285  \nInformacje: www.penderecki320.com \nBilety: www.kopalniaguido.pl
URL:https://pokladykultury.eu/event/ix-miedzynarodowy-festiwal-im-krzysztofa-pendereckiego-poziom-320-kameralnie/
LOCATION:Kopalnia Guido\, ul. 3 Maja 93\, Zabrze\, śląskie\, 41-800\, Poland
ATTACH;FMTTYPE=image/png:https://pokladykultury.eu/wp-content/uploads/2021/11/Kameralnie-26.11.2021.png
END:VEVENT
BEGIN:VEVENT
DTSTART;TZID=Europe/Warsaw:20211127T183000
DTEND;TZID=Europe/Warsaw:20211127T203000
DTSTAMP:20260426T045050
CREATED:20211124T063928Z
LAST-MODIFIED:20211124T063928Z
UID:1817-1638037800-1638045000@pokladykultury.eu
SUMMARY:IX Międzynarodowy Festiwal im. Krzysztofa Pendereckiego - poziom 320. Kameralnie
DESCRIPTION:27 listopada o godz. 17.30 w Filharmonii Zabrzańskiej\, w trakcie koncertu Penderecki/s Sinfonietta(s) w wykonaniu Sinfonietty Cracovii pod dyrekcją Jurka Dybała\, będzie można na żywo usłyszeć utwory z Albumu o tym samym tytule\, nagranego dla prestiżowej wytwórni Sony Classical w hołdzie zmarłemu Patronowi Festiwalu i współzałożycielowi Orkiestry. \nOprócz tytułowych Sinfoniett Kompozytora w tym Sinfonietty Nr 2 – orkiestrowej permutacji kwartetu Abschied w programie koncertu znajdzie się też kompozycja\, którą Maestro Penderecki najczęściej dyrygował Sinfoniettą Cracovią\, prawdziwy przebój muzyki kameralnej\, Serenada E-dur op. 22 Antonína Dvořáka. Nie obejdzie się też bez premier. Solistą tego koncertu będzie bowiem pełniący funkcję artist in residence Festiwalu Massimo Mercelli. Dla niego właśnie słynny minimalista amerykański\, autor muzyki do filmu The Piano\, Michael Nyman napisał Koncert fletowy nr 2\, który swą polską premierę będzie miał na Zabrzańskim Festiwalu.  \nPenderecki’s Sinfonietta(s) \n  \nWykonawcy \nMassimo Merceli– flet\nJurek Dybał – dyrygent\nSinfonietta Cracovia \n \nProgram \nKrzysztof Penderecki\nTrzy utwory w dawnym stylu\nSinfonietta nr. 2 Pożegnanie\nSinfonietta nr. 3 Kartki z nienapisanego pamiętnika  \nMichael Nyman \nKoncert nr. 2 na flet i orkiestrę smyczkową (polska premiera)  \nAntonín Dvořák\nSerenada E-dur op.22  \nPenderecki’s Sinfonietta(s) Promocja płyty Sony Classical.  \n  \nInformacje: www.penderecki320.pl \nBilety : www.filharmonia.zabrze.pl
URL:https://pokladykultury.eu/event/ix-miedzynarodowy-festiwal-im-krzysztofa-pendereckiego-poziom-320-kameralnie-2/
LOCATION:Filharmonia Zabrzańska\, Park Hutniczy 7\, Zabrze\, śląskie\, 41-800\, Poland
ATTACH;FMTTYPE=image/png:https://pokladykultury.eu/wp-content/uploads/2021/11/Kameralnie-27-listopda-Filharmonia-Zabrzanska.png
END:VEVENT
END:VCALENDAR