BEGIN:VCALENDAR
VERSION:2.0
PRODID:-//Pokładykultury.eu - ECPv5.16.3.1//NONSGML v1.0//EN
CALSCALE:GREGORIAN
METHOD:PUBLISH
X-WR-CALNAME:Pokładykultury.eu
X-ORIGINAL-URL:https://pokladykultury.eu
X-WR-CALDESC:Wydarzenia dla Pokładykultury.eu
REFRESH-INTERVAL;VALUE=DURATION:PT1H
X-Robots-Tag:noindex
X-PUBLISHED-TTL:PT1H
BEGIN:VTIMEZONE
TZID:Europe/Warsaw
BEGIN:DAYLIGHT
TZOFFSETFROM:+0100
TZOFFSETTO:+0200
TZNAME:CEST
DTSTART:20220327T010000
END:DAYLIGHT
BEGIN:STANDARD
TZOFFSETFROM:+0200
TZOFFSETTO:+0100
TZNAME:CET
DTSTART:20221030T010000
END:STANDARD
END:VTIMEZONE
BEGIN:VEVENT
DTSTART;TZID=Europe/Warsaw:20220717T190000
DTEND;TZID=Europe/Warsaw:20220717T220000
DTSTAMP:20260423T232334
CREATED:20220704T081832Z
LAST-MODIFIED:20220704T082249Z
UID:4096-1658084400-1658095200@pokladykultury.eu
SUMMARY:ZABRZE SUMMER FESTIVAL 2022 - Zenon Martyniuk
DESCRIPTION:Zapraszamy na pierwszy koncert rozpoczynającego się Zabrze Summer Festival. Gwiazdą pierwszego będzie Zenon Martyniuk\, który wylansował takie przeboje jak „Gwiazda”\, „Królowa nocy”\, „Pragnienie miłości”\, „Przez twe oczy zielone” czy „Przekorny los”.\n \nOprócz koncertów przygotowano szereg atrakcji z myślą o całych rodzinach\, m.in.: punkty gastronomiczne oraz miasteczko atrakcji dla dzieci.\n \nKoncerty będą odbywały się w sercu miasta\, tj. na parkingu Centrum Handlowego Platan. 
URL:https://pokladykultury.eu/event/zabrze-summe-festival-2022-zenon-martyniuk/
LOCATION:parking przy CH Platan\, Pl. Teatralny 12\, Zabrze\, śląskie\, 41-800\, Poland
ATTACH;FMTTYPE=image/jpeg:https://pokladykultury.eu/wp-content/uploads/2022/07/ZSF-Martyniuk.jpg
END:VEVENT
END:VCALENDAR