BEGIN:VCALENDAR
VERSION:2.0
PRODID:-//Pokładykultury.eu - ECPv5.16.3.1//NONSGML v1.0//EN
CALSCALE:GREGORIAN
METHOD:PUBLISH
X-ORIGINAL-URL:https://pokladykultury.eu
X-WR-CALDESC:Wydarzenia dla Pokładykultury.eu
REFRESH-INTERVAL;VALUE=DURATION:PT1H
X-Robots-Tag:noindex
X-PUBLISHED-TTL:PT1H
BEGIN:VTIMEZONE
TZID:Europe/Warsaw
BEGIN:DAYLIGHT
TZOFFSETFROM:+0100
TZOFFSETTO:+0200
TZNAME:CEST
DTSTART:20230326T010000
END:DAYLIGHT
BEGIN:STANDARD
TZOFFSETFROM:+0200
TZOFFSETTO:+0100
TZNAME:CET
DTSTART:20231029T010000
END:STANDARD
END:VTIMEZONE
BEGIN:VEVENT
DTSTART;TZID=Europe/Warsaw:20230524T180000
DTEND;TZID=Europe/Warsaw:20230525T200000
DTSTAMP:20260420T204925
CREATED:20230523T083703Z
LAST-MODIFIED:20230525T084253Z
UID:7700-1684951200-1685044800@pokladykultury.eu
SUMMARY:Portret rodzinny
DESCRIPTION:Zapraszamy wszystkie dzieci\, młodzież\, rodziny\, dziadków i przyjaciół na wyjątkowe wydarzenie w ramach obchodów Metropolitalnego Święta Rodziny!\n\n\n \nCzego możecie się spodziewać? Otóż\, 24 i 25 maja 2023 r. w godzinach 16:00 – 18:00 w specjalnie na tę okazję zbudowanym studiu fotograficznym w Dzielnicowym Ośrodku Kultury w Biskupicach będziecie mieli okazję sfotografować się ze swoimi bliskimi. Po profesjonalnym opracowaniu i wydrukowaniu\, otrzymacie klasyczny portret w prezencie! Studio będzie przygotowane w stylu retro\, a portrety z efektem sepii staną się niezwykłą rodzinną pamiątką.\n\n\n \nNie możemy się doczekać\, aby Was powitać! Serdecznie zapraszamy na zabawę w atelier\, która potrwa przez dwa popołudnia – środę\, 24 maja i czwartek\, 25 maja.\n \nPamiętajcie\, że portrety będziecie mogli odebrać od 1 czerwca.\n\n\nDo zobaczenia na Metropolitalnym Święcie Rodziny!
URL:https://pokladykultury.eu/event/portret-rodzinny/
LOCATION:Dzielnicowy Ośrodek Kultury Biskupice\, ul. W. Kossaka 23\, Zabrze\, śląskie\, 41-800\, Poland
ATTACH;FMTTYPE=image/jpeg:https://pokladykultury.eu/wp-content/uploads/2023/05/portret-rodzinny.jpg
END:VEVENT
END:VCALENDAR