BEGIN:VCALENDAR
VERSION:2.0
PRODID:-//Pokładykultury.eu - ECPv5.16.3.1//NONSGML v1.0//EN
CALSCALE:GREGORIAN
METHOD:PUBLISH
X-ORIGINAL-URL:https://pokladykultury.eu
X-WR-CALDESC:Wydarzenia dla Pokładykultury.eu
REFRESH-INTERVAL;VALUE=DURATION:PT1H
X-Robots-Tag:noindex
X-PUBLISHED-TTL:PT1H
BEGIN:VTIMEZONE
TZID:Europe/Warsaw
BEGIN:DAYLIGHT
TZOFFSETFROM:+0100
TZOFFSETTO:+0200
TZNAME:CEST
DTSTART:20220327T010000
END:DAYLIGHT
BEGIN:STANDARD
TZOFFSETFROM:+0200
TZOFFSETTO:+0100
TZNAME:CET
DTSTART:20221030T010000
END:STANDARD
END:VTIMEZONE
BEGIN:VEVENT
DTSTART;TZID=Europe/Warsaw:20221110T183000
DTEND;TZID=Europe/Warsaw:20221110T203000
DTSTAMP:20260420T023529
CREATED:20221019T081813Z
LAST-MODIFIED:20221019T081813Z
UID:5068-1668105000-1668112200@pokladykultury.eu
SUMMARY:Spotkanie z Jerzym Hajdukiem
DESCRIPTION:Już w czwartek 10 listopada o godzinie 17.30 tuż przed końcem wystawy „KOLEKCJONER” Muzeum Miejskie w Zabrzu zaprasza na bardzo ciekawe spotkanie z Jerzym Hajdukiem\, synem legendarnego piłkarza Górnika Zabrze Henryka Hajduka\, któremu poświęciliśmy również część naszej ekspozycji z pamiątkami. \n \nCzterokrotny mistrz Polski\, zdobywca Pucharu Polski\, również zawodnik takich klubów jak Ruch Chorzów\, Polonia Gdańsk\, Legia Warszawa\, Wawel Kraków i Sośnica Gliwice. Pierwszy piłkarz w historii\, który przeszedł z Ruchu Chorzów do Górnika Zabrze\, trener Waldemara Podolskiego\, jeden z nielicznych\, który grał na boisku w okularach więc będzie o czym opowiadać i co wspominać. \nHistorie z boisk i anegdoty o legendarnych piłkarzach Górnika. \nWarto! Serdecznie zapraszamy! \n 
URL:https://pokladykultury.eu/event/spotkanie-z-jerzym-hajdukiem/
LOCATION:śląskie
ATTACH;FMTTYPE=image/jpeg:https://pokladykultury.eu/wp-content/uploads/2022/10/Jerzy-Hajduk.jpg
END:VEVENT
END:VCALENDAR