BEGIN:VCALENDAR
VERSION:2.0
PRODID:-//Pokładykultury.eu - ECPv5.16.3.1//NONSGML v1.0//EN
CALSCALE:GREGORIAN
METHOD:PUBLISH
X-ORIGINAL-URL:https://pokladykultury.eu
X-WR-CALDESC:Wydarzenia dla Pokładykultury.eu
REFRESH-INTERVAL;VALUE=DURATION:PT1H
X-Robots-Tag:noindex
X-PUBLISHED-TTL:PT1H
BEGIN:VTIMEZONE
TZID:Europe/Warsaw
BEGIN:DAYLIGHT
TZOFFSETFROM:+0100
TZOFFSETTO:+0200
TZNAME:CEST
DTSTART:20220327T010000
END:DAYLIGHT
BEGIN:STANDARD
TZOFFSETFROM:+0200
TZOFFSETTO:+0100
TZNAME:CET
DTSTART:20221030T010000
END:STANDARD
END:VTIMEZONE
BEGIN:VEVENT
DTSTART;TZID=Europe/Warsaw:20220917T160000
DTEND;TZID=Europe/Warsaw:20220917T173000
DTSTAMP:20260420T174414
CREATED:20220825T091926Z
LAST-MODIFIED:20220825T091926Z
UID:4439-1663430400-1663435800@pokladykultury.eu
SUMMARY:Spotkanie z kolekcjonerem
DESCRIPTION:Wyjątkowe spotkanie z kolekcjonerem! \n\n\n\n\nMuzeum Miejskie w Zabrzu serdecznie zaprasza na spotkanie z kolekcjonerem Grzegorzem Pawłowskim\, właścicielem wielu cennych pamiątek związanych z 14-krotnym mistrzem Polski – Górnikiem Zabrze. \nPan Grzegorz w swojej kolekcji posiada m.in: bilety\, programy meczowe\, szaliki\, afisze\, proporczyki a także zdjęcia z autografami piłkarzy zabrzańskiego klubu. Będzie to znakomita okazja aby dowiedzieć się jak powstała ta wyjątkowa kolekcja\, która cały czas się powiększa. Najważniejsze i zarazem najcenniejsze rzeczy z tej kolekcji\, będą mogli Państwo zobaczyć podczas zwiedzenia wystawy „Kolekcjoner”.
URL:https://pokladykultury.eu/event/spotkanie-z-kolekcjonerem/
LOCATION:Muzeum Miejskie w Zabrzu\, ul. Powstańców Śląskich 3\, Zabrze\, śląskie\, 41-800\, Poland
ATTACH;FMTTYPE=image/jpeg:https://pokladykultury.eu/wp-content/uploads/2022/08/EDD_Spacer.jpg
END:VEVENT
END:VCALENDAR