BEGIN:VCALENDAR
VERSION:2.0
PRODID:-//Pokładykultury.eu - ECPv5.16.3.1//NONSGML v1.0//EN
CALSCALE:GREGORIAN
METHOD:PUBLISH
X-ORIGINAL-URL:https://pokladykultury.eu
X-WR-CALDESC:Wydarzenia dla Pokładykultury.eu
REFRESH-INTERVAL;VALUE=DURATION:PT1H
X-Robots-Tag:noindex
X-PUBLISHED-TTL:PT1H
BEGIN:VTIMEZONE
TZID:Europe/Warsaw
BEGIN:DAYLIGHT
TZOFFSETFROM:+0100
TZOFFSETTO:+0200
TZNAME:CEST
DTSTART:20220327T010000
END:DAYLIGHT
BEGIN:STANDARD
TZOFFSETFROM:+0200
TZOFFSETTO:+0100
TZNAME:CET
DTSTART:20221030T010000
END:STANDARD
END:VTIMEZONE
BEGIN:VEVENT
DTSTART;TZID=Europe/Warsaw:20220424T200000
DTEND;TZID=Europe/Warsaw:20220425T015900
DTSTAMP:20260420T081244
CREATED:20220301T070415Z
LAST-MODIFIED:20220301T070830Z
UID:2775-1650830400-1650851940@pokladykultury.eu
SUMMARY:Nocny Kochanek
DESCRIPTION:Nocny Kochanek i Batna w Zabrzu\, w Kopalni Guido. Już 24 kwietnia.\nBilety dostępne tylko w sprzedaży online: 69 PLN przedsprzedaż / 79 PLN w dniu koncertu.\n \nHARMONOGRAM:\n18:00 – BRAMKA\n19:00 – 19:45 – BATNA\n20:15 – 21:45 – NOCNY KOCHANEK\nBilety: https://goingapp.pl/…/nocny-kochanek-gliwice/kwiecien-2022\nFacebook: www.facebook.com/nocnykochanek\nYouTube: www.youtube.com/c/NocnyKochanek\nStrona internetowa: www.nocnykochanek.pl\n \n\nNocny Kochanek to pod względem muzycznym klasyczny heavy metal inspirowany gigantami gatunku\, co słychać na pierwszy rzut… ucha. Teksty zawierają specyficzny nocno-kochankowy humor i zazwyczaj opierają się na faktach\, czasami nawet autentycznych..! Wykorzystując humor bazujący często na pastiszu\, grach językowych i abstrakcji\, Nocny Kochanek rysuje obraz polskiej subkultury metalowej z ogromnym dystansem do samych siebie oraz do wizerunku kojarzonego zazwyczaj z klasycznym heavy metalem. \nZespół Batna powstał z początkiem 2020 roku. W bardzo krótkim czasie zespół wypracował repertuar składający się z 10 utworów\, który według planu będzie materiałem na pełnowymiarową płytę. Ich muzyka jest prostym\, bezkompromisowym rockiem z elementami metalowego pazura. Początkiem bieżącego roku Batna zadebiutowała w serwisie YouTube z klipem do utworu „Krzycz\, kiedy trzeba”. W maju 2021 roku po raz pierwszy pojawili się w programie „Świeży Towar w Antyradiu” Marcina Bąkiewicza – dyrektora muzycznego tej rozgłośni radiowej. To właśnie antenie Antyradia zespół pojawił się z kawałkiem „Efekt Domina”. Zespół wziął udział w półfinale Antyfestu Antyradia\, a dzięki licznej grupie wiernych fanów Batna weszła do finału\, co dało im możliwość zagrania na Letniej Scenie Progresji w Warszawie. Finał okazał się nieoczekiwanym zwrotem w krótkiej karierze kapeli\, która została zwycięzcą Antyfestu Antyradia 2021 i laureatem „Złotej Kosy” – jednej z najbardziej prestiżowych nagród gitarowych brzmień.\nWygrana nie tylko zaowocowała dużym krokiem naprzód\, ale dała chłopakom szansę zagrać na dużej scenie podczas Festiwalu Pol’and’Rock\, na której\, jak wszyscy wiemy\, zagrała niejedna gwiazda światowego formatu. Jedną z nagród oferowanych przez Antyradio było nagranie płyty pod okiem producenta\, Andrzeja Puczyńskiego z Izabelin Studio.\nAktualnie zespół zarejestrował swój materiał na pierwszy album\, którego premiera planowana jest na maj. Do tego czasu chłopaki maja do zagrania dość intensywną trasę koncertową\, która ma być prologiem do trasy promującej nowy krążek kapeli. \n\nW skład zespołu wchodzą:\nMarcin Zmorzyński – wokal\, Łukasz Biedroń – gitara prowadząca\, Łukasz Pierwoła – gitara rytmiczna\, Piotr Antos – gitara basowa\, Sławek Biernat – perkusja.\nMożna nas śledzić na bieżąco tutaj:\nFB:\nwww.facebook.com/batna.band/\nIG:\nwww.instagram.com/batna_official/\nMożna nas posłuchać na: YT\, Spotify\, Apple Music\, Tidal\, Amazon Music.
URL:https://pokladykultury.eu/event/nocny-kochanek/
LOCATION:Kopalnia Guido\, ul. 3 Maja 93\, Zabrze\, śląskie\, 41-800\, Poland
ATTACH;FMTTYPE=image/jpeg:https://pokladykultury.eu/wp-content/uploads/2022/03/Nocny-kochanek.jpg
END:VEVENT
END:VCALENDAR