BEGIN:VCALENDAR
VERSION:2.0
PRODID:-//Pokładykultury.eu - ECPv5.16.3.1//NONSGML v1.0//EN
CALSCALE:GREGORIAN
METHOD:PUBLISH
X-ORIGINAL-URL:https://pokladykultury.eu
X-WR-CALDESC:Wydarzenia dla Pokładykultury.eu
REFRESH-INTERVAL;VALUE=DURATION:PT1H
X-Robots-Tag:noindex
X-PUBLISHED-TTL:PT1H
BEGIN:VTIMEZONE
TZID:Europe/Warsaw
BEGIN:DAYLIGHT
TZOFFSETFROM:+0100
TZOFFSETTO:+0200
TZNAME:CEST
DTSTART:20210328T010000
END:DAYLIGHT
BEGIN:STANDARD
TZOFFSETFROM:+0200
TZOFFSETTO:+0100
TZNAME:CET
DTSTART:20211031T010000
END:STANDARD
END:VTIMEZONE
BEGIN:VEVENT
DTSTART;TZID=Europe/Warsaw:20211113T170000
DTEND;TZID=Europe/Warsaw:20211113T190000
DTSTAMP:20260419T220620
CREATED:20210923T080440Z
LAST-MODIFIED:20210923T080440Z
UID:1353-1636822800-1636830000@pokladykultury.eu
SUMMARY:POMOC DOMOWA
DESCRIPTION:Twórcy „Mayday 2” i „Szalonych Nożyczek” zapraszają na spektakl: POMOC DOMOWA – to znakomita sztuka\, która zawładnęła scenami całego świata. Doskonała farsa mistrza Marca Camolettiego podbija serca widzów wartką akcją\, błyskotliwymi dialogami i inteligentnym humorem. Znakomita interpretacja i przekład Bartosza Wierzbięty znanego z takich przekładów jak SHREK\, ASTERIX I OBELIX\, RYBKI Z FERAJNY czy MADAGASCAR gwarantuje doskonałą zabawę!\n \nZ zapartym tchem podąża się za losami męża\, żony\,  kochanki i kochanka szczególnie gdy łączy ich jedyna\, błyskotliwa\, urzekająca\, spostrzegawcza i pełna uroku Nadia czyli POMOC DOMOWA. Pod jej okiem rozgrywają się sytuacje gorące\, szybkie i zawiłe! Nadia staje się sternikiem miłosnego labiryntu i to ona pociągając za sznureczki jako jedyna zna odpowiedź na wszystkie nurtujące pytania. Czy uda się dochować tajemnicy i  znaleźć wyjście z tej miłosnej spirali? Odpowiedzi i poczucie świetnie spędzonego czasu przekażą Państwu doskonale wykreowane postaci w gwiazdorskiej obsadzie! Serdecznie zapraszamy!\n \nOBSADA:\nNadia: DOMINIKA GWIT/PIOTR PRĘGOWSKI. \nNorbert: MICHAŁ MIKOŁAJCZAK/KRZYSZTOF IBISZ. \nOlga: JOANNA KUPIŃSKA.\nMaja: AGATA ZAŁĘCKA. \nMarek: SEBASTIAN STANKIEWICZ/MICHAŁ PIRÓG.\n \n\nReżyseria: RAFAŁ SISICKI.\nProdukcja: KAMILA POLAK.
URL:https://pokladykultury.eu/event/pomoc-domowa/
LOCATION:Dom Muzyki i Tańca w Zabrzu\, ul. Gen. de Gaulle'a 17\, Zabrze\, śląskie\, 41-800\, Poland
ATTACH;FMTTYPE=image/png:https://pokladykultury.eu/wp-content/uploads/2021/09/Pomoc_domowa.png
END:VEVENT
BEGIN:VEVENT
DTSTART;TZID=Europe/Warsaw:20211128T190000
DTEND;TZID=Europe/Warsaw:20211128T210000
DTSTAMP:20260419T220620
CREATED:20210923T081914Z
LAST-MODIFIED:20210923T081914Z
UID:1362-1638126000-1638133200@pokladykultury.eu
SUMMARY:Andrzejkowa Śląska Gala z Humorem
DESCRIPTION:28 listopada na zabrzańskiej scenie wystąpią wszystkie największe gwiazdy śląskiej sceny muzycznej oraz znakomici goście specjalni. \nAktor\, piosenkarz\, a przede wszystkim wspaniały showman – Sławomir! To On wystąpi specjalnie dla Państwa ze swoim zespołem. A jak Sławomir\, to nie może zabraknąć bąbelków\, którymi poczęstujemy Państwa w przerwie koncertu. \nZaproszenie przyjęły też trzy świetne dziewczyny\, które tworzą bardzo popularny zespół Frele. Nikt tak jak one nie wykonuje po śląsku zagranicznych coverów. Czeka Państwa mocne brzmienie trzech damskich wokali i popowy rozmach. Specjalną atrakcją tegorocznej Gali będzie Jubileusz 20-lecia duetu Claudia i Kasia Chwołka. Artystki wykonają swoje największe przeboje. Do udziału w swoim koncercie zaprosiły Anię Drabek\, śląską frelkę\, znaną m.in. z utworu Wodzionka. Zapowiada się znakomite\, jubileuszowe show i moc niezapomnianych wrażeń. \nTeraz już chyba nie ma wątpliwości\, że to właśnie w Domu Muzyki i Tańca odbędzie się największa i najgłośniejsza w Polsce impreza andrzejkowa! \nWystąpią także: \n\nJacek Silski – polski Julio Iglesias\, obiekt westchnień wielu pań\, uwodzący wspaniałym głosem.\nHappy Jędrowski Show – bez niego nie może się odbyć żadna śląska biesiada\, ani żaden prawdziwy śląski koncert. Wspaniały showman\, charyzmatyczny artysta\, który rozgrzeje każdą publiczność.\nMirek Szołtysek – nie odcina się od swoich korzeni\, a Śląsk promuje najlepiej\, jak potrafi. Na scenie występuje już ponad 30 lat! Charyzmatyczny i uwielbiany.\nClaudia i Kasia Chwołka – dwie piękne i wspaniałe Panie\, które nie są siostrami. Skromne\, ale bardzo uzdolnione. Mama i córka od lat tworzą wspaniały duet.\nMariusz Serafin – artysta z ponad piętnastoletnim stażem\, występujący głównie na Dolnym Śląsku teraz podbije serca zabrzańskiej publiczności.\n\nTegoroczną Galę poprowadzi zdecydowanie najlepsza para artystów\, która jest z nami od pierwszego andrzejkowego koncertu. Są wspaniali i uwielbiani. Takich dwóch Krzyśków nigdzie indziej Państwo nie spotkacie. Krzysztof Hanke i Krzysztof Respondek rozbawią Państwa w listopadzie!
URL:https://pokladykultury.eu/event/andrzejkowa-slaska-gala-z-humorem/
LOCATION:Dom Muzyki i Tańca w Zabrzu\, ul. Gen. de Gaulle'a 17\, Zabrze\, śląskie\, 41-800\, Poland
ATTACH;FMTTYPE=image/jpeg:https://pokladykultury.eu/wp-content/uploads/2021/09/slaska-gala.jpg
END:VEVENT
END:VCALENDAR