BEGIN:VCALENDAR
VERSION:2.0
PRODID:-//Pokładykultury.eu - ECPv5.16.3.1//NONSGML v1.0//EN
CALSCALE:GREGORIAN
METHOD:PUBLISH
X-ORIGINAL-URL:https://pokladykultury.eu
X-WR-CALDESC:Wydarzenia dla Pokładykultury.eu
REFRESH-INTERVAL;VALUE=DURATION:PT1H
X-Robots-Tag:noindex
X-PUBLISHED-TTL:PT1H
BEGIN:VTIMEZONE
TZID:Europe/Warsaw
BEGIN:DAYLIGHT
TZOFFSETFROM:+0100
TZOFFSETTO:+0200
TZNAME:CEST
DTSTART:20220327T010000
END:DAYLIGHT
BEGIN:STANDARD
TZOFFSETFROM:+0200
TZOFFSETTO:+0100
TZNAME:CET
DTSTART:20221030T010000
END:STANDARD
END:VTIMEZONE
BEGIN:VEVENT
DTSTART;TZID=Europe/Warsaw:20220129T183000
DTEND;TZID=Europe/Warsaw:20220129T213000
DTSTAMP:20260424T131345
CREATED:20220114T105950Z
LAST-MODIFIED:20220114T105950Z
UID:2371-1643481000-1643491800@pokladykultury.eu
SUMMARY:Pokaz specjalny filmu "Obłoki śmierci - Bolimów 1915” z udziałem reżysera
DESCRIPTION:29 stycznia (sobota) o godzinie 17:30 w Kinie Roma odbędzie się pokaz specjalny filmu „Obłoki śmierci – Bolimów 1915”. Gościem specjalnym wydarzenia będzie reżyser\, Ireneusz Skruczaj\, który opowie o kulisach powstawania swojego filmu oraz odpowie na pytania widzów.\n \n„Obłoki śmierci – Bolimów 1915” to pełnometrażowy\, fabularyzowany film dokumentalny opowiadający o narodzinach broni chemicznej z polskiej perspektywy. Film relacjonuje przebieg jednych z pierwszych ataków gazowych w dziejach\, do których doszło w trakcie I wojny światowej\, w samym sercu współczesnej Polski – pod Bolimowem. W latach 1914-1915 w Bitwie pod Bolimowem zginęło około 80 tysięcy żołnierzy. Państwa Polskiego nie było wówczas na mapie Europy. Na jego ziemiach starły się ze sobą potężne armie trzech zaborczych mocarstw – Imperium Rosyjskiego\, Cesarstwa Niemieckiego i Austro-Węgier. Przebieg przedstawionych w filmie wydarzeń jako pierwszy opisał w latach 70. Francuz André Malraux\, w powieści „Łazarz” (uznanej przez ówczesne polskie władze za fikcję).\n \nFilm Skruczaja nie jest kolejnym\, suchym dokumentem historycznym\, jakie znamy z popularnonaukowych stacji telewizyjnych. Twórca oparł przekaz dzieła na efektownych scenach batalistycznych\, zrealizowanych językiem nowoczesnego kina wojennego. Zabieg ten pozwala widzom przenieść się w samo centrum relacjonowanych wydarzeń i doświadczyć losu polskich żołnierzy\, walczących w armii rosyjskiej i niemieckiej\, na tle epokowego wydarzenia – narodzin broni masowego rażenia.\n \nPrzebieg i koszmar walk pod Bolimowem komentują naukowcy prowadzący badania archeologiczno-historyczne w ramach programu „Archeologiczne przywracanie pamięci o Wielkiej Wojnie”: archeolog dr Anna Zalewska\, historyk Stanisław Kaliński – autor książki „Bolimów 1915” oraz specjalista ds. broni chemicznej dr Maciej Śliwakowski. Materiał wzbogacono unikalnymi materiałami archiwalnymi pozyskanymi z brytyjskich\, niemieckich i amerykańskich archiwów. Lektorem w filmie jest aktor – Mirosław Zbrojewicz.\n \nFilm jest produkcją niezależną\, zrealizowaną dzięki zaangażowaniu niemal 200 osób: członków ekipy\, mieszkańców Bolimowa\, rekonstruktorów historycznych i aktywistów lokalnego stowarzyszenia. Znacząca dla powstania filmu była także zbiórka pieniędzy na portalu PolakPotrafi.pl. Dzięki niej projekt wsparło ponad 250 donatorów. Prace nad projektem trwały w sumie 5 lat\, zdjęcia zrealizowano w trakcie 25 dni zdjęciowych\, w 13 lokalizacjach. Zgromadzono niemal 100 godzin materiałów\, z których powstał pełnometrażowy film.\n \nOd reżysera: „Obłoki śmierci – Bolimów 1915” to film o pamięci i jej strażnikach. Opowieść o traumie\, zapomnieniu i prawdzie. Relacja o perwersji nauki na usługach masowego mordu. Dokument o nieludzkim okrucieństwie i niespotykanym miłosierdziu. To w końcu film o wielkiej historii odnalezionej za progiem rodzinnego domu\, mojego domu – Bolimowa. W trakcie I wojny światowej doszło tu do pierwszych masowych ataków przy użyciu broni chemicznej – ludzkość przekroczyła kolejną haniebną granicę.\n \nMotywem przewodnim filmu są śmiercionośne obłoki gazu bojowego. W 1915 roku spowiły one malowniczy pejzaż Bitwy nad Rawką i Bzurą\, w której wojska rosyjskie usiłowały powstrzymać marsz Niemców z Łodzi na Warszawę. Wydarzenia te spowiło następnie ludzkie zapomnienie. Spod jego zasłony tylko nieliczni słyszeli szept domagającej się upamiętnienia prawdy o losie ofiar.\n \nMój film ma tę prawdę uwiecznić\, uhonorować osoby\, które poświęciły jej lata swojego życia i opowiedzieć ją młodym pokoleniom językiem nowoczesnego kina wojennego. Kluczowym środkiem wyrazu są realistyczne\, dynamiczne sceny batalistyczne\, ukazujące najważniejsze momenty bitwy tak\, jak wyglądały one w rzeczywistości. Ujęcia są brutalne\, ale takie było oblicze tej wojny.
URL:https://pokladykultury.eu/event/pokaz-specjalny-filmu-obloki-smierci-bolimow-1915-z-udzialem-rezysera/
LOCATION:Kino Roma\, ul. Z. Padlewskiego 4\, Zabrze\, śląskie\, 41-800\, Poland
ATTACH;FMTTYPE=image/jpeg:https://pokladykultury.eu/wp-content/uploads/2022/01/Obloki-smierci.jpg
END:VEVENT
END:VCALENDAR