BEGIN:VCALENDAR
VERSION:2.0
PRODID:-//Pokładykultury.eu - ECPv5.16.3.1//NONSGML v1.0//EN
CALSCALE:GREGORIAN
METHOD:PUBLISH
X-ORIGINAL-URL:https://pokladykultury.eu
X-WR-CALDESC:Wydarzenia dla Pokładykultury.eu
REFRESH-INTERVAL;VALUE=DURATION:PT1H
X-Robots-Tag:noindex
X-PUBLISHED-TTL:PT1H
BEGIN:VTIMEZONE
TZID:Europe/Warsaw
BEGIN:DAYLIGHT
TZOFFSETFROM:+0100
TZOFFSETTO:+0200
TZNAME:CEST
DTSTART:20220327T010000
END:DAYLIGHT
BEGIN:STANDARD
TZOFFSETFROM:+0200
TZOFFSETTO:+0100
TZNAME:CET
DTSTART:20221030T010000
END:STANDARD
END:VTIMEZONE
BEGIN:VEVENT
DTSTART;TZID=Europe/Warsaw:20220730T200000
DTEND;TZID=Europe/Warsaw:20220731T000000
DTSTAMP:20260423T004957
CREATED:20220712T103142Z
LAST-MODIFIED:20220712T103142Z
UID:4173-1659211200-1659225600@pokladykultury.eu
SUMMARY:#2 Kino Plenerowe w Artystycznej
DESCRIPTION:Zapraszamy na drugą edycję Kina Plenerowego w Artystycznej.\nPierwsza edycja Kina Plenerowego w Artystycznej bardzo wam się spodobała. Dlatego wracamy do Was z drugą edycją! Tym razem z jeszcze większym rozmachem! Większy ekran\, więcej miejsc siedzących i więcej dobrych wspomnień! \nJuż 30/07/2022 wpadajcie ze znajomymi przed Artystyczną na nasze drugie kino plenerowe! Czekać na was będzie grill\, leżaki i mnóstwo dobrej zabawy! \n \nPlan wydarzenia:\n18:00 – Grillowanie\n21:00 – Shrek 2\n22:45 – TED\n \nGdzie: Zabrze\, ul. De Gaulle’a 17
URL:https://pokladykultury.eu/event/2-kino-plenerowe-w-artystycznej/
LOCATION:Artystyczna Zabrze\, ul. gen de Gaulle'a 17\, Zabrze\, śląskie\, 41-800\, Poland
ATTACH;FMTTYPE=image/jpeg:https://pokladykultury.eu/wp-content/uploads/2022/07/Kino-plenerowe_30.07.jpg
END:VEVENT
END:VCALENDAR