BEGIN:VCALENDAR
VERSION:2.0
PRODID:-//Pokładykultury.eu - ECPv5.16.3.1//NONSGML v1.0//EN
CALSCALE:GREGORIAN
METHOD:PUBLISH
X-ORIGINAL-URL:https://pokladykultury.eu
X-WR-CALDESC:Wydarzenia dla Pokładykultury.eu
REFRESH-INTERVAL;VALUE=DURATION:PT1H
X-Robots-Tag:noindex
X-PUBLISHED-TTL:PT1H
BEGIN:VTIMEZONE
TZID:Europe/Warsaw
BEGIN:DAYLIGHT
TZOFFSETFROM:+0100
TZOFFSETTO:+0200
TZNAME:CEST
DTSTART:20250330T010000
END:DAYLIGHT
BEGIN:STANDARD
TZOFFSETFROM:+0200
TZOFFSETTO:+0100
TZNAME:CET
DTSTART:20251026T010000
END:STANDARD
END:VTIMEZONE
BEGIN:VEVENT
DTSTART;TZID=Europe/Warsaw:20250926T200000
DTEND;TZID=Europe/Warsaw:20250926T230000
DTSTAMP:20260419T193834
CREATED:20250917T043403Z
LAST-MODIFIED:20250917T043403Z
UID:16393-1758916800-1758927600@pokladykultury.eu
SUMMARY:Urodzinowa kolacja degustacyjna
DESCRIPTION:Strefa Smaków KŁOS zaprasza na wyjątkowy wieczór\, podczas którego przeniesie Was w świat wyrafinowanych smaków i kulinarnej sztuki. Przygotowane zostało menu degustacyjne\, w którym każdy talerz to małe dzieło sztuki. Do tego kieliszek wina do wyboru w prezencie od KŁOSA.\n \nData: 26.09Godzina: 18:00Miejsce: Restauracja Strefa Smaków\, ul. Karola Goduli 10\, Zabrze\nCena: 300 zł / os.Ilość miejsc ograniczona!\nRezerwacje: tel. 887 771 002\, e-mail: kontakt@strefasmakowklos.pl\nPłatność z góry: przelewem na konto (54 1140 1078 0000 4052 6000 1011) lub na miejscu w restauracji.\n \nMENU:PRZYSTAWKA ITatar z tuńczyka / miso / majonez pietruszkowy / mirin / ponzu / ogórek / awokado\nPRZYSTAWKA IIHomar / jajko przepiórcze / majonez z czosnkiem niedźwiedzim\nDANIE IZakwas z młodego buraka / budyń ziemniaczany / wędzona słonina\nDANIE IILigawa cielęca / papryka pieczona / wędzona śmietana\nDANIE IIIJagnięcina nowozelandzka z kością / kremowy szpinak / demi glace z calvadosem / dziki brokuł\nDESERTarta czekoladowa / jadalne złoto / krem Chantilly\nW cenie kieliszek wina do wyboru. 
URL:https://pokladykultury.eu/event/urodzinowa-kolacja-degustacyjna/
LOCATION:Restauracja Strefa smaków KŁOS\, ul. Goduli 10\, Zabrze\, śląskie\, 41-800\, Poland
ATTACH;FMTTYPE=image/jpeg:https://pokladykultury.eu/wp-content/uploads/2025/09/Urodzinowa-kolacja-degustacyjna.jpg
END:VEVENT
END:VCALENDAR