BEGIN:VCALENDAR
VERSION:2.0
PRODID:-//Pokładykultury.eu - ECPv5.16.3.1//NONSGML v1.0//EN
CALSCALE:GREGORIAN
METHOD:PUBLISH
X-WR-CALNAME:Pokładykultury.eu
X-ORIGINAL-URL:https://pokladykultury.eu
X-WR-CALDESC:Wydarzenia dla Pokładykultury.eu
REFRESH-INTERVAL;VALUE=DURATION:PT1H
X-Robots-Tag:noindex
X-PUBLISHED-TTL:PT1H
BEGIN:VTIMEZONE
TZID:Europe/Warsaw
BEGIN:DAYLIGHT
TZOFFSETFROM:+0100
TZOFFSETTO:+0200
TZNAME:CEST
DTSTART:20230326T010000
END:DAYLIGHT
BEGIN:STANDARD
TZOFFSETFROM:+0200
TZOFFSETTO:+0100
TZNAME:CET
DTSTART:20231029T010000
END:STANDARD
END:VTIMEZONE
BEGIN:VEVENT
DTSTART;TZID=Europe/Warsaw:20230312T200000
DTEND;TZID=Europe/Warsaw:20230312T220000
DTSTAMP:20260420T205827
CREATED:20221227T114516Z
LAST-MODIFIED:20221227T114516Z
UID:6248-1678651200-1678658400@pokladykultury.eu
SUMMARY:APHKHAZETI
DESCRIPTION:Gruziński państwowy balet Aphkhazeti z chórem i orkiestrą na żywo! \n\nAphkhazeti to wyjątkowe połączenie gruzińskiego tańca\, silnie zakorzenionego w tradycji tego narodu\, ze współczesną choreografią i muzyką. To zespół o niespełna 100-letniej historii\, oficjalnie założony w 1931 roku\, który nieustannie koncertuje po całym świecie\, przybliżając widzom wszystko\, co w gruzińskiej kulturze najpiękniejsze – tradycję\, folklor i niebywałą energię. \nWojna w Abchazji i późniejsza rosyjska okupacja całego regionu zmusiły artystów\, by przenieść się w 1992 roku do Tbilisi\, ale mimo trudności\, Aphkhazeti zachował swój charakter\, umiejętności i niepowtarzalny koloryt! \nW marcu 2021 roku – wraz z pojawieniem się młodego i utalentowanego dyrektora artystycznego\, legendarnego Bachana Chanturia – rozpoczął się nowy etap w historii zespołu. Przez wiele lat był on jednym z głównych solistów Baletu Narodowego Gruzji Sukhishvili\, a swoje doświadczenie i cały talent wykorzystał\, by stworzyć nową choreografię do tradycyjnych tańców. Zaprosił znanych kompozytorów gruzińskich\, wspólnie przygotowali niepowtarzalny akompaniament muzyczny i to właśnie ten program – Choreonicon – zaprezentuje w Polsce! \nAphkhazeti to tradycyjne fragmenty muzyki gruzińskiej w zupełnie nowej odsłonie\, wykonane przez orkiestrę na żywo\, a także widowiskowe tańce różnych regionów w interpretacji legendarnego Bachana Chanturia! \nInnowacja była tak przełomowa\, że w ciągu ostatnich dwóch lat zespół występował w wielu regionach Gruzji\, koncertując także poza jej granicami. Etniczność\, balet i nowoczesność\, czyli zachwycające show\, jakiego w Polsce jeszcze nie było!
URL:https://pokladykultury.eu/event/aphkhazeti/
LOCATION:Dom Muzyki i Tańca w Zabrzu\, ul. Gen. de Gaulle'a 17\, Zabrze\, śląskie\, 41-800\, Poland
ATTACH;FMTTYPE=image/jpeg:https://pokladykultury.eu/wp-content/uploads/2022/12/BANER.jpg
END:VEVENT
BEGIN:VEVENT
DTSTART;TZID=Europe/Warsaw:20230317T190000
DTEND;TZID=Europe/Warsaw:20230317T210000
DTSTAMP:20260420T205827
CREATED:20230315T091124Z
LAST-MODIFIED:20230315T091124Z
UID:7199-1679079600-1679086800@pokladykultury.eu
SUMMARY:Dzieci grają...dorosłym
DESCRIPTION:W piątek\, 17 marca 2023 salę koncertową Filharmonii Zabrzańskiej wypełnią dźwięki utworów\, których wykonawcami będą m.in. uczniowie zabrzańskiej Państwowej Szkoły Muzycznej I i II stopnia im. Stanisława Moniuszki. \nTo już coroczna tradycja\, która daje młodym instrumentalistom i wokalistom szansę zaprezentowania swoich muzycznych umiejętności przed szerszą publicznością\, z towarzyszeniem Orkiestry Symfonicznej Filharmonii Zabrzańskiej. \nPodczas koncertu \,\,Dzieci grają dorosłym” wystąpią: \n\nJakub Balla – skrzypce\,\nEmilia Widuch – fortepian\,\nDariia Korenivska – fortepian\,\nMaria Podraza – flet\,\nMaciej Materny – skrzypce\,\nWojciech Rusak – skrzypce\,\nJakub Pilarski – akordeon\,\nMałgorzata Dyczewska – akordeon\,\nOliwia Pilichowska – śpiew\,\nMaciej Strzałkowski – śpiew\,\nMikołaj Rubin – saksofon\,\nHelena Bednarska – skrzypce\,\nMarta Matera – skrzypce\,\nZofia Wiaterek – róg.\n\nTo dla nich ogromne wyzwanie\, lecz zapewne także satysfakcja z możliwości koncertowania na filharmonicznej estradzie! Za wszystkich młodych artystów trzymać będziemy kciuki\, choć pewni jesteśmy\, iż ich solidna nauka gry lub śpiewu przyniesie doskonały efekt w postaci świetnego występu w naszej instytucji. \nOrkiestrę poprowadzi Sławomir Chrzanowski.
URL:https://pokladykultury.eu/event/dzieci-graja-doroslym-2/
LOCATION:Filharmonia Zabrzańska\, Park Hutniczy 7\, Zabrze\, śląskie\, 41-800\, Poland
ATTACH;FMTTYPE=image/jpeg:https://pokladykultury.eu/wp-content/uploads/2021/07/Filharmonia.jpg
END:VEVENT
BEGIN:VEVENT
DTSTART;TZID=Europe/Warsaw:20230318T190000
DTEND;TZID=Europe/Warsaw:20230318T210000
DTSTAMP:20260420T205827
CREATED:20230217T091914Z
LAST-MODIFIED:20230217T091914Z
UID:6949-1679166000-1679173200@pokladykultury.eu
SUMMARY:Pożar w Sercu Zabrza - Gramy dla Kamienicy Pod Orłem
DESCRIPTION:Serdecznie zapraszamy na Koncert Charytatywny dla Kamienicy pod Orłem.\n \nCały dochód z biletów zasili zbiórkę na https://zrzutka.pl/pozar-w-sercu-zabrza\n \nDzień 1 lutego 2023 okazał się być dla nas i bliskich na osób niezwykle tragicznym. O godzinie 03:56 nad ranem zapalił się strych i dach Naszego Domu – Kamienicy Pod Orłem\, Zabrzańskiej zabytkowej secesyjnej kamienicy z 1905 roku\, zaprojektowanej w stylu Art Noveau przez A. Jagera.\n \nOprócz nas zamieszkuje tutaj pięć rodzin. Budynek usytuowany w samym centrum miasta pełni ważną rolę kulturalno-oświatowo-usługową. Na pierwszym piętrze znajduje się nasza siedziba czyli Stowarzyszenie Wielka Flota Zjednoczonych Sił oraz Zabrzański Sztab Wielkiej Orkiestry Świątecznej Pomocy. Na piętrze trzecim mieści się pracownia doktora nauk plastycznych Witolda Berusa. Na parterze funkcjonuje Barber Shop oraz garmażeria.\nW wyniku pożaru dach został doszczętnie spalony. Dzięki czujności i szybkiej reakcji pana Sławomira Kuchty i jego syna Wiktora wszyscy mieszkańcy zostali bezpiecznie ewakuowani. Był to jednak dla nich ogromny stres i obciążenie\, z którymi ciężko będzie sobie poradzić.\n \nBardzo dziękujemy za wszystkie Wasze wiadomości\, ciepłe słowa i wsparcie\, które nam i wszystkim mieszkańcom Naszej Kamienicy dajecie.\n \n„Ludzie to anioły z jednym skrzydłem\, dlatego aby się wznieść\, musimy trzymać się razem” Maria Konopnicka. 
URL:https://pokladykultury.eu/event/pozar-w-sercu-zabrza-gramy-dla-kamienicy-pod-orlem/
LOCATION:Kino Roma\, ul. Z. Padlewskiego 4\, Zabrze\, śląskie\, 41-800\, Poland
ATTACH;FMTTYPE=image/jpeg:https://pokladykultury.eu/wp-content/uploads/2023/02/Pozar-w-sercu.jpg
END:VEVENT
BEGIN:VEVENT
DTSTART;TZID=Europe/Warsaw:20230324T190000
DTEND;TZID=Europe/Warsaw:20230324T200000
DTSTAMP:20260420T205827
CREATED:20230322T074450Z
LAST-MODIFIED:20230322T074706Z
UID:7327-1679684400-1679688000@pokladykultury.eu
SUMMARY:„Miłość jest kobietą” - Art-day w Jedynce
DESCRIPTION:24 marca\, o godz. 18.00\, w auli I Liceum Ogólnokształcącego im. prof. Zbigniewa Religi w Zabrzu przy ulicy Wolności 323 odbędzie się wyjątkowy koncert przygotowany przez uczennicę i uczniów pod kierunkiem Barbary Dziubak-Skotnicznej. \nTen wyjątkowy koncert przeniesie uczestników w nostalgiczny klimat muzyki lat 20. i 30.\, w miejsca w Zabrzu\, o których zapomnieliśmy\, a szkolna aula zamieni się w klimatyczną kawiarenkę. \nWstęp wolny.
URL:https://pokladykultury.eu/event/milosc-jest-kobieta-art-day-w-jedynce/
LOCATION:Aula I Liceum Ogólnokształcącego im. Zbigniewa Religi\, ul. Wolności 323\, Zabrze\, śląskie\, 41-800\, Poland
ATTACH;FMTTYPE=image/jpeg:https://pokladykultury.eu/wp-content/uploads/2023/03/milosc-jest-kobieta.jpg
END:VEVENT
BEGIN:VEVENT
DTSTART;TZID=Europe/Warsaw:20230329T210000
DTEND;TZID=Europe/Warsaw:20230329T230000
DTSTAMP:20260420T205827
CREATED:20230323T095106Z
LAST-MODIFIED:20230323T095106Z
UID:7337-1680123600-1680130800@pokladykultury.eu
SUMMARY:KOREA NATIONAL UNIVERSITY OF ARTS SYMPHONY ORCHESTRA
DESCRIPTION:Zapraszamy na koncert Korea National University of Arts Symphony Orchestra\, który odbędzie się w Domu Muzyki i Tańca w Zabrzu 29 marca o godzinie 19.00 w ramach 27. Wielkanocnego Festiwalu Ludwiga van Beethovena. W programie usłyszymy: \nLudwig van Beethoven – Uwertura Egmont op. 84\nFryderyk Chopin – Koncert fortepianowy f-moll op. 21\nYoung Jo Lee – “Glory of Dawning”\nKrzysztof Penderecki – V Symfonia „Koreańska” \n \nWykonawcy\nJi-Yeong Moon – fortepian\nKorea National University of Arts Symphony Orchestra\nChiyoung Chung – dyrygent \nKorean National University of Arts Symphony Orchestra\nOrkiestra Symfoniczna Koreańskiego Narodowego Uniwersytetu Sztuki (KNUA) powstała w 1993 roku\, wraz z otwarciem Szkoły Muzycznej. Od tego czasu jej celem było prezentowanie jak najlepszych wykonań na koncertach w Seulu i w innych miastach. Orkiestra starała się zbliżyć do publiczności poprzez występy pełne zaangażowania oraz pasji. Z okazji szczytu Korea-Rosja w 1999 roku\, KNUA wystąpiła wraz z Moskiewskim Konserwatorium Państwowym. W 2001 roku koncerty wykonywane wraz z Moskiewskim Konserwatorium Państwowym oraz Sankt-Petersburskim Państwowym Konserwatorium im. Nikołaja Rimskiego-Korsakowa zdobyły uznanie rosyjskiej publiczności. Dwa lata później\, z okazji 10-lecia szkoły\, orkiestra odniosła sukces wykonując\, wraz z Chórem Koreańskiego Narodowego Uniwersytetu Sztuki\, w którego skład wchodziło 400 studentów oraz absolwentów szkoły\, II Symfonię Gustava Mahlera. Koncert ten pozwolił orkiestrze wznieść się na wyższy poziom artystyczny.\nChiyong Chung. Jeden z najbardziej rozchwytywanych koreańskich dyrygentów swojego pokolenia. Chiyong Chung jest doceniany za intensywne interpretacje\, dogłębne zrozumienie muzyki\, pewność w prowadzeniu zespołu oraz wirtuozowską technikę dyrygencką. Dał się poznać zwłaszcza jako specjalista w dziedzinie wykonań muzyki współczesnej oraz najnowszych dzieł koreańskich kompozytorów\, w tym Isanga Yuna. Chung rozpoczął naukę gry na fortepianie w wieku pięciu lat\, później uczęszczając do Szkoły Muzyki Narodowego Uniwersytetu Seulskiego w ramach studiów kompozytorskich. Następnie ukończył studia na Uniwersytecie Mozarteum w Salzburgu\, w klasie dyrygentury prowadzonej przez Michaela Gielena. Pracował jako asystent dyrygenta na Festiwalu w Salzburgu\, a z ukończeniem studiów otrzymał Nagrodę Austriackiego Ministerstwa Kultury. Występował jako gościnny dyrygent Lipskiej Radiowej Orkiestry Symfonicznej\, Praskiej Symfonicznej Orkiestry Radiowej\, Monachijskiej Orkiestry Symfonicznej\, Orkiestry Symfonicznej Uniwersytetu Stanu Michigan oraz Rosyjskiej Filharmonii Narodowej\, by następnie w 1992 zadebiutować w Korei z Filharmonią Seulską. Dyrygował wieloma orkiestrami koreańskimi\, jest również ceniony jako dyrygent operowy. Obecnie\, jako dyrektor Szkoły Muzycznej Koreańskiego Narodowego Uniwersytetu Sztuki\, odpowiada za edukację kolejnych pokoleń koreańskich muzyków\, jest też dyrektorem muzycznym Filharmonii Incheon.\nChloe Jiyeong Mun\, fortepian\nW 2014 roku\, 19-letnia wówczas Chloe Jiyeong Mun otrzymała I nagrodę na Konkursie Genewskim\, a rok później została pierwszą azjatycką laureatką I miejsca na Konkursie Busoniego. Dzięki swym autentycznym i naturalnym interpretacjom\, młoda pianistka z Korei Południowej zdobyła w ostatnich latach uznanie zarówno publiczności\, jak i międzynarodowego jury. Jörg Demus\, przewodniczący jury 60. Międzynarodowego Konkursu Busoniego\, powiedział: „Odkryłem w niej na nowo naturalność muzykowania\, które\, jak sądziłem\, już zaniknęło”. Chloe Jiyeong Mun występowała na scenach całego świata – w Niemczech\, Francji\, Polsce\, Włoszech\, Czechach\, Szwajcarii\, Hiszpanii\, Belgii\, Anglii\, Danii\, USA\, Argentynie\, Meksyku\, Peru\, Japonii i w swojej rodzinnej Korei Południowej. Wykonywała utwory Beethovena\, Szostakowicza\, Brahmsa\, Rachmaninowa\, Brucha i Griega z towarzyszeniem takich orkiestr jak Orchestre de la Suisse Romande\, Moskiewscy Soliści\, Asian Philharmonic Orchestra\, Japan Philharmonic Orchestra\, Trieste Verdi Theater Orchestra\, Nuova Orchestra Ferruccio Busoni\, Orkiestra Filharmonii w Sankt Petersburgu\, Orkiestra Festiwalu Palermo Classica\, Orkiestra Symfoniczną MAV\, Orkiestra Wspólnoty Madryckiej\, Seulska Orkiestra Filharmoniczna\, Orkiestra Symfoniczna KBS i Koreańska Narodowa Orkiestra Symfoniczna.
URL:https://pokladykultury.eu/event/korea-national-university-of-arts-symphony-orchestra/
LOCATION:Dom Muzyki i Tańca w Zabrzu\, ul. Gen. de Gaulle'a 17\, Zabrze\, śląskie\, 41-800\, Poland
ATTACH;FMTTYPE=image/jpeg:https://pokladykultury.eu/wp-content/uploads/2023/03/koreaorchestragraf.jpg
END:VEVENT
END:VCALENDAR