BEGIN:VCALENDAR
VERSION:2.0
PRODID:-//Pokładykultury.eu - ECPv5.16.3.1//NONSGML v1.0//EN
CALSCALE:GREGORIAN
METHOD:PUBLISH
X-ORIGINAL-URL:https://pokladykultury.eu
X-WR-CALDESC:Wydarzenia dla Pokładykultury.eu
REFRESH-INTERVAL;VALUE=DURATION:PT1H
X-Robots-Tag:noindex
X-PUBLISHED-TTL:PT1H
BEGIN:VTIMEZONE
TZID:Europe/Warsaw
BEGIN:DAYLIGHT
TZOFFSETFROM:+0100
TZOFFSETTO:+0200
TZNAME:CEST
DTSTART:20230326T010000
END:DAYLIGHT
BEGIN:STANDARD
TZOFFSETFROM:+0200
TZOFFSETTO:+0100
TZNAME:CET
DTSTART:20231029T010000
END:STANDARD
END:VTIMEZONE
BEGIN:VEVENT
DTSTART;TZID=Europe/Warsaw:20230405T203000
DTEND;TZID=Europe/Warsaw:20230405T223000
DTSTAMP:20260420T160327
CREATED:20230403T073151Z
LAST-MODIFIED:20230403T073151Z
UID:7375-1680726600-1680733800@pokladykultury.eu
SUMMARY:Koncert Pasyjny
DESCRIPTION:Już w najbliższą środę\, 5 kwietnia br. o godz. 18.30 zapraszamy na tradycyjny Koncert Pasyjny\, który odbędzie się w zabrzańskim kościele pod wezwaniem Św. Anny. \n  \nWypełni go monumentalne  REQUIEM  W. A. Mozarta-najgenialniejsze dzieło gatunku mszy żałobnej. \n  \nWykonawcami będą: Orkiestra Symfoniczna Filharmonii Zabrzańskiej\, zabrzański chór młodzieżowy „Resonans con tutti” przygotowany przez Arlenę i Waldemara Gałązków\, oraz kwartet solistów – tegorocznych absolwentów katowickiej Akademii Muzycznej – Marta Wąs\, Dominika Noskiewicz\, Michał Ryguła i Remigiusz Nowak. \n  \nCałość od pulpitu dyrygenckiego poprowadzi Sławomir Chrzanowski. \n  \nKoncert organizowany będzie w ramach corocznie obchodzonych Dni Papieskich. \n 
URL:https://pokladykultury.eu/event/koncert-pasyjny-2/
LOCATION:kościół pw. św. Anny\, ul. 3 Maja 18\, Zabrze\, śląskie\, 41-800\, Poland
ATTACH;FMTTYPE=image/jpeg:https://pokladykultury.eu/wp-content/uploads/2023/04/Dni-Papieskie_baner.jpg
END:VEVENT
BEGIN:VEVENT
DTSTART;TZID=Europe/Warsaw:20230412T200000
DTEND;TZID=Europe/Warsaw:20230412T220000
DTSTAMP:20260420T160327
CREATED:20230331T102509Z
LAST-MODIFIED:20230331T102509Z
UID:7371-1681329600-1681336800@pokladykultury.eu
SUMMARY:Koncert i aukcja charytatywna na rzecz operacji Michała Lemparta
DESCRIPTION:Zapraszamy do udziału w Charytatywnym Koncercie oraz aukcji na rzecz Michała Lemparta\, który na wskutek wypadku komunikacyjnego oczekuje na operację rekonstrukcji czaszki.\n \nCałość dochodu z wejściówek oraz aukcji zostanie przekazana na rzecz operacji Michałka.\n \nKoncert uświetnią swoimi występami:\nMarcin Wyrostek – akordeonista\,\nAleksandra Stokłosa – sopranistka\noraz zespół Caville.\n \nWejściówki w cenie 50 zł będą do nabycia na miejscu (Kino Roma w Zabrzu)\, bezpośrednio przed wydarzeniem (prosimy o płatność gotówką).\nPłatność za wylicytowane przedmioty będzie realizowana przelewem na konto Fundacji Rozwoju Edukacji Międzynarodowej w Zabrzu.\n \nBądźcie z nami! Razem pomóżmy wrócić Michałowi do pełnej sprawności\, do nauki w szkole\, do przyjaciół i pasji….\nBo razem możemy więcej!
URL:https://pokladykultury.eu/event/koncert-i-aukcja-charytatywna-na-rzecz-operacji-michala-lemparta/
LOCATION:Kino Roma\, ul. Z. Padlewskiego 4\, Zabrze\, śląskie\, 41-800\, Poland
ATTACH;FMTTYPE=image/jpeg:https://pokladykultury.eu/wp-content/uploads/2023/03/Koncert-dla-Michala-Lamparta.jpg
END:VEVENT
BEGIN:VEVENT
DTSTART;TZID=Europe/Warsaw:20230415T190000
DTEND;TZID=Europe/Warsaw:20230415T220000
DTSTAMP:20260420T160327
CREATED:20230411T081350Z
LAST-MODIFIED:20230411T081350Z
UID:7464-1681585200-1681596000@pokladykultury.eu
SUMMARY:Skazani na Zabrze
DESCRIPTION:Rada Dzielnicy Śródmieście zaprasza 15.04.2023 o godzinie 17:00 na terenie Aresztu Śledczego w Zabrzu\, na pierwsze takie wydarzenie w historii tego miejsca. \nGramy mocno i z przekazem\, gdyż w trakcie koncertu będzie prowadzona zbiórka na rzecz Fundacji Pomost\, która pomaga w powrocie do życia byłym skazańcom. \nW trakcie koncertu zagrają dla nas Stonage Full of Sun\, Faul Techniczny\, Meinusch Project oraz Vernissage.\nDodatkowo w trakcie koncertu chłopaki z Vernissage będą prowadzili aukcje swoich obrazów\, z której cały dochód zasili naszą zbiórkę.
URL:https://pokladykultury.eu/event/skazani-na-zabrze/
LOCATION:Areszt Śledczy\, ul. Sądowa 1\, Zabrze\, śląskie\, 41-800\, Poland
ATTACH;FMTTYPE=image/jpeg:https://pokladykultury.eu/wp-content/uploads/2023/04/Skazani-na-Zabrze.jpg
END:VEVENT
BEGIN:VEVENT
DTSTART;TZID=Europe/Warsaw:20230416T190000
DTEND;TZID=Europe/Warsaw:20230416T200000
DTSTAMP:20260420T160327
CREATED:20230324T084308Z
LAST-MODIFIED:20230324T084308Z
UID:7340-1681671600-1681675200@pokladykultury.eu
SUMMARY:Fortepianarium zaprasza na koncert Małej Orkiestry Fletów Prostych
DESCRIPTION:Fortepianarium zaprasza na koncert Małej Orkiestry Fletów Prostych przygotowanej przez Katarzynę Czubek absolwentkę klasy fletu prostego prof. Petera Holtslaga w Akademii Muzycznej w Krakowie oraz klasy Jorge Isaaca w Conservatorium van Amsterdam. \nArtyści zaprezentują muzykę bardzo zróżnicowaną od renesansu do współczesności.
URL:https://pokladykultury.eu/event/fortepianarium-zaprasza-na-koncert-malej-orkiestry-fletow-prostych/
LOCATION:Fortepianarium\, ul. Hagera 41\, Zabrze\, śląskie\, 41-800\, Poland
ATTACH;FMTTYPE=image/png:https://pokladykultury.eu/wp-content/uploads/2023/03/koncert-14-kwietnia.png
END:VEVENT
BEGIN:VEVENT
DTSTART;TZID=Europe/Warsaw:20230421T100000
DTEND;TZID=Europe/Warsaw:20230421T190000
DTSTAMP:20260420T160327
CREATED:20230418T075259Z
LAST-MODIFIED:20230418T075259Z
UID:7498-1682071200-1682103600@pokladykultury.eu
SUMMARY:Koncert \,\,Już nie zapomnisz mnie..."
DESCRIPTION:Już w najbliższy piątek\, 21.04. 2023 r. muzycznie przeniesiemy się w czasie do lat 20-tych i 30-tych minionego stulecia. Stanie się tak za sprawą koncertu\, w którego repertuarze znajdą się znane i mniej znane kompozycje polskiego okresu XX-lecia międzywojennego! \nKoncert ten będzie nosił tytuł \,\,Już nie zapomnisz mnie…” a jego gwiazdami będzie dwoje młodych\, przemiłych i utalentowanych wokalistów: Wiola Malchar-Orynicz i Daniel Cebula-Orynicz – artyści\, których estrada połączyła także w życiu prywatnym. \nMieliśmy już ogromną przyjemność towarzyszyć im podczas koncertów w minionych latach i wiemy\, iż ich sceniczny \,\,błysk” i przekaz godny jest zobaczenia i wysłuchania \nOrkiestrę Filharmonii Zabrzańskiej poprowadzi Sławomir Chrzanowski. \nBilety w cenie 30\, 40 i 50 zł do nabycia w kasie Filharmonii.
URL:https://pokladykultury.eu/event/koncert-juz-nie-zapomnisz-mnie/
LOCATION:Filharmonia Zabrzańska\, Park Hutniczy 7\, Zabrze\, śląskie\, 41-800\, Poland
ATTACH;FMTTYPE=image/jpeg:https://pokladykultury.eu/wp-content/uploads/2021/07/Filharmonia.jpg
END:VEVENT
BEGIN:VEVENT
DTSTART;TZID=Europe/Warsaw:20230428T220000
DTEND;TZID=Europe/Warsaw:20230429T000000
DTSTAMP:20260420T160327
CREATED:20230411T081821Z
LAST-MODIFIED:20230411T102511Z
UID:7467-1682719200-1682726400@pokladykultury.eu
SUMMARY:Koncert Zabrze
DESCRIPTION:Zapraszamy na koncert zespołów Chaos z Bytomia i Ghost Mind z Zabrza\, w klimacie rockowo metalowym połączonym ze stoner rockiem.\n \nWbijajcie do Smoczego Oka-koniecznie!\n \nBilety będą dostępne przed koncertem w Pubie.\nCHAOS\nhttps://youtu.be/W0l17IETdbM\nGhost Mind\nhttps://www.youtube.com/channel/UCgnk9pmOsrS5gxqAFSSiGkg
URL:https://pokladykultury.eu/event/koncert-zabrze/
LOCATION:Pub Smocze Oko\, ul. Wolności 292\, Zabrze\, śląskie\, 41-800\, Poland
ATTACH;FMTTYPE=image/jpeg:https://pokladykultury.eu/wp-content/uploads/2023/04/Koncert-Zabrze-Pub.jpg
END:VEVENT
END:VCALENDAR