BEGIN:VCALENDAR
VERSION:2.0
PRODID:-//Pokładykultury.eu - ECPv5.16.3.1//NONSGML v1.0//EN
CALSCALE:GREGORIAN
METHOD:PUBLISH
X-WR-CALNAME:Pokładykultury.eu
X-ORIGINAL-URL:https://pokladykultury.eu
X-WR-CALDESC:Wydarzenia dla Pokładykultury.eu
REFRESH-INTERVAL;VALUE=DURATION:PT1H
X-Robots-Tag:noindex
X-PUBLISHED-TTL:PT1H
BEGIN:VTIMEZONE
TZID:Europe/Warsaw
BEGIN:DAYLIGHT
TZOFFSETFROM:+0100
TZOFFSETTO:+0200
TZNAME:CEST
DTSTART:20220327T010000
END:DAYLIGHT
BEGIN:STANDARD
TZOFFSETFROM:+0200
TZOFFSETTO:+0100
TZNAME:CET
DTSTART:20221030T010000
END:STANDARD
END:VTIMEZONE
BEGIN:VEVENT
DTSTART;TZID=Europe/Warsaw:20221105T190000
DTEND;TZID=Europe/Warsaw:20221105T210000
DTSTAMP:20260424T053838
CREATED:20220609T094032Z
LAST-MODIFIED:20220609T094032Z
UID:3884-1667674800-1667682000@pokladykultury.eu
SUMMARY:ANDRZEJ PIASECZNY 50/50
DESCRIPTION:Pięćdziesiąte urodziny to wystarczający powód do świętowania! Andrzej Piaseczny postanowił sprawić sobie jedyny w swoim rodzaju prezent – poprosił przyjaciół i ulubionych artystów o napisanie dla niego piosenki. I tak powstał niezwykły urodzinowy album „50/50” z utworami skomponowanymi i wyprodukowanymi dla Andrzeja Piasecznego przez mistrzów polskiej sceny\, takich jak: Kayah\, Mrozu\, Adam Sztaba\, Jarecki\, Kuba Badach\, Paulina Przybysz\, Michał Fox Król\, Majka Jeżowska\, Tomasz Organek. Wszyscy przygotowali zaskakujące muzyczne niespodzianki\, zapraszając do dobrej zabawy\, do spojrzenia na nowo na siebie\, świat i ludzi dookoła.
URL:https://pokladykultury.eu/event/andrzej-piaseczny-50-50/
LOCATION:Dom Muzyki i Tańca w Zabrzu\, ul. Gen. de Gaulle'a 17\, Zabrze\, śląskie\, 41-800\, Poland
ATTACH;FMTTYPE=image/jpeg:https://pokladykultury.eu/wp-content/uploads/2022/06/Piaseczny_430x560.jpg
END:VEVENT
END:VCALENDAR