BEGIN:VCALENDAR
VERSION:2.0
PRODID:-//Pokładykultury.eu - ECPv5.16.3.1//NONSGML v1.0//EN
CALSCALE:GREGORIAN
METHOD:PUBLISH
X-WR-CALNAME:Pokładykultury.eu
X-ORIGINAL-URL:https://pokladykultury.eu
X-WR-CALDESC:Wydarzenia dla Pokładykultury.eu
REFRESH-INTERVAL;VALUE=DURATION:PT1H
X-Robots-Tag:noindex
X-PUBLISHED-TTL:PT1H
BEGIN:VTIMEZONE
TZID:Europe/Warsaw
BEGIN:DAYLIGHT
TZOFFSETFROM:+0100
TZOFFSETTO:+0200
TZNAME:CEST
DTSTART:20220327T010000
END:DAYLIGHT
BEGIN:STANDARD
TZOFFSETFROM:+0200
TZOFFSETTO:+0100
TZNAME:CET
DTSTART:20221030T010000
END:STANDARD
END:VTIMEZONE
BEGIN:VEVENT
DTSTART;TZID=Europe/Warsaw:20221127T170000
DTEND;TZID=Europe/Warsaw:20221127T180000
DTSTAMP:20260424T160757
CREATED:20221122T101947Z
LAST-MODIFIED:20221122T101947Z
UID:5686-1669568400-1669572000@pokladykultury.eu
SUMMARY:XXV Jubileuszowy Koncert Piosenki Religijnej "Pieśnią Chwalmy Pana"
DESCRIPTION:Dzielnicowy Ośrodek Kultury w Pawłowie zaprasza w niedzielę\, 27 listopada o godz.16.00\, na Jubileuszowy Koncert Piosenki Religijnej „Pieśnią Chwalmy Pana”.
URL:https://pokladykultury.eu/event/xxv-jubileuszowy-koncert-piosenki-religijnej-piesnia-chwalmy-pana/
LOCATION:Dzielnicowy Ośrodek Kultury Pawłów\, ul. Sikorskiego 114\, Zabrze\, śląskie\, 41-800\, Poland
ATTACH;FMTTYPE=image/jpeg:https://pokladykultury.eu/wp-content/uploads/2022/11/Koncert-piesni-religijnej.jpg
END:VEVENT
END:VCALENDAR