BEGIN:VCALENDAR
VERSION:2.0
PRODID:-//Pokładykultury.eu - ECPv5.16.3.1//NONSGML v1.0//EN
CALSCALE:GREGORIAN
METHOD:PUBLISH
X-WR-CALNAME:Pokładykultury.eu
X-ORIGINAL-URL:https://pokladykultury.eu
X-WR-CALDESC:Wydarzenia dla Pokładykultury.eu
REFRESH-INTERVAL;VALUE=DURATION:PT1H
X-Robots-Tag:noindex
X-PUBLISHED-TTL:PT1H
BEGIN:VTIMEZONE
TZID:Europe/Warsaw
BEGIN:DAYLIGHT
TZOFFSETFROM:+0100
TZOFFSETTO:+0200
TZNAME:CEST
DTSTART:20220327T010000
END:DAYLIGHT
BEGIN:STANDARD
TZOFFSETFROM:+0200
TZOFFSETTO:+0100
TZNAME:CET
DTSTART:20221030T010000
END:STANDARD
END:VTIMEZONE
BEGIN:VEVENT
DTSTART;TZID=Europe/Warsaw:20220514T230000
DTEND;TZID=Europe/Warsaw:20220515T000000
DTSTAMP:20260425T130838
CREATED:20220513T093729Z
LAST-MODIFIED:20220513T093729Z
UID:3599-1652569200-1652572800@pokladykultury.eu
SUMMARY:Kolejowa Noc Muzeów 2022
DESCRIPTION:Już jutro – w ramach Nocy Muzeów – lokomotywa Ty2\, popularnie nazywana Schenkusiem\, ożyje z pomocą pokazów audio-wizualnych!\n\n\n \nJeśli nie możecie być z nami osobiście\, śledźcie nasze kanały w mediach społecznościowych (Facebook\, LinkedIn) – udostępnimy w nich link do streamingu z pierwszych trzech pokazów tej nocy – godz. 21:00\, 21:30 oraz 22:00! Zapraszamy!\n \n\n\nPrzypominamy też o jutrzejszym wydarzeniu w Warszawie\, którego jesteśmy dumnym partnerem – Kolejowa Noc Muzeów organizowana przez Stacja Muzeum!
URL:https://pokladykultury.eu/event/kolejowa-noc-muzeow-2022/
LOCATION:Siedziba DB Cargo Polska\, ul. Wolności 337\, Zabrze\, śląskie\, 41-800\, Poland
ATTACH;FMTTYPE=image/jpeg:https://pokladykultury.eu/wp-content/uploads/2022/05/Noc-Muzeow-w-DB-Cargo.jpg
END:VEVENT
END:VCALENDAR