BEGIN:VCALENDAR
VERSION:2.0
PRODID:-//Pokładykultury.eu - ECPv5.16.3.1//NONSGML v1.0//EN
CALSCALE:GREGORIAN
METHOD:PUBLISH
X-WR-CALNAME:Pokładykultury.eu
X-ORIGINAL-URL:https://pokladykultury.eu
X-WR-CALDESC:Wydarzenia dla Pokładykultury.eu
REFRESH-INTERVAL;VALUE=DURATION:PT1H
X-Robots-Tag:noindex
X-PUBLISHED-TTL:PT1H
BEGIN:VTIMEZONE
TZID:Europe/Warsaw
BEGIN:DAYLIGHT
TZOFFSETFROM:+0100
TZOFFSETTO:+0200
TZNAME:CEST
DTSTART:20220327T010000
END:DAYLIGHT
BEGIN:STANDARD
TZOFFSETFROM:+0200
TZOFFSETTO:+0100
TZNAME:CET
DTSTART:20221030T010000
END:STANDARD
END:VTIMEZONE
BEGIN:VEVENT
DTSTART;TZID=Europe/Warsaw:20220121T203000
DTEND;TZID=Europe/Warsaw:20220121T223000
DTSTAMP:20260423T114413
CREATED:20211201T090924Z
LAST-MODIFIED:20211201T090924Z
UID:1960-1642797000-1642804200@pokladykultury.eu
SUMMARY:Muzyka zespołu Metallika symfonicznie
DESCRIPTION:W sezonie 2021/2022 na kolejne koncerty powróci do Polski wyjątkowy projekt – pod szyldem “Muzyka zespołu Metallica symfonicznie” wystąpi SCREAM INC. jeden z najlepszych coverbandów Metallica na świecie. Towarzyszyć im będzie orkiestra symfoniczna ‘Orion’. Na koncertach usłyszymy największe przeboje Metallica w symfonicznych aranżacjach wykonanych tak jak na słynnej płycie “Metallica S&M”. To blisko dwie godziny klasyki rocka/metalu w niezwykłym wydaniu!\n  \nBilety w cenie od 99 zł dostępne w sieciach Eventim\, Ticketmaster\, Ebilet\, Kupbilecik.\nOrganizatorem trasy jest Piosenka Plus oraz Fantom Media.\n  \nScream Inc. istnieją od 2008 r i osiągnęli wielki sukces\, stając się najbardziej znaczącym tribute-band’em z Europy Środkowej. Świadczą o tym choćby wyprzedane koncerty wszędzie gdzie grają. Ich kanał na portalu Youtube jest wysoce oceniany i oglądany w Stanach Zjednoczonych i Europie głównie ze względu na wysoką jakość produkcji. Są też pierwszym i jedynym tribute-band’em który ma w dorobku symfoniczny koncert S&M. Jeden z najbardziej udanych występów zespołu odbył się 17 kwietnia 2016 w „Moskwa Kremlin Palace”\, gdzie na widowni zasiadło ponad 6.000 osób! Ten show stał się największym w historii koncertem-hołdem dla Metalliki. Nie przegapcie okazji\, aby zobaczyć na żywo najlepszy tribute band Metalliki! Oficjalne video: https://www.youtube.com/watch?v=ajgsJcVy51w\n  \nFragment nagrania z koncertu w ICE Congress Centre w Krakowie można zobaczyć tutaj: https://www.youtube.com/watch?v=DumQRdgw1bA\na z DMiT w Zabrzu tutaj: https://www.youtube.com/watch?v=CKuiCmam_WE
URL:https://pokladykultury.eu/event/muzyka-zespolu-metallika-symfonicznie/
LOCATION:Dom Muzyki i Tańca w Zabrzu\, ul. Gen. de Gaulle'a 17\, Zabrze\, śląskie\, 41-800\, Poland
ATTACH;FMTTYPE=image/jpeg:https://pokladykultury.eu/wp-content/uploads/2021/12/metallika.jpg
END:VEVENT
END:VCALENDAR