BEGIN:VCALENDAR
VERSION:2.0
PRODID:-//Pokładykultury.eu - ECPv5.16.3.1//NONSGML v1.0//EN
CALSCALE:GREGORIAN
METHOD:PUBLISH
X-WR-CALNAME:Pokładykultury.eu
X-ORIGINAL-URL:https://pokladykultury.eu
X-WR-CALDESC:Wydarzenia dla Pokładykultury.eu
REFRESH-INTERVAL;VALUE=DURATION:PT1H
X-Robots-Tag:noindex
X-PUBLISHED-TTL:PT1H
BEGIN:VTIMEZONE
TZID:Europe/Warsaw
BEGIN:DAYLIGHT
TZOFFSETFROM:+0100
TZOFFSETTO:+0200
TZNAME:CEST
DTSTART:20210328T010000
END:DAYLIGHT
BEGIN:STANDARD
TZOFFSETFROM:+0200
TZOFFSETTO:+0100
TZNAME:CET
DTSTART:20211031T010000
END:STANDARD
END:VTIMEZONE
BEGIN:VEVENT
DTSTART;TZID=Europe/Warsaw:20211203T200000
DTEND;TZID=Europe/Warsaw:20211203T220000
DTSTAMP:20260425T022126
CREATED:20210923T081113Z
LAST-MODIFIED:20211124T093728Z
UID:1359-1638561600-1638568800@pokladykultury.eu
SUMMARY:ORIGINAL ENIGMA VOICES
DESCRIPTION:Aż 3 nominacje do nagród Grammy\, 70 milionów sprzedanych płyt\, ponad 100 złotych i platynowych krążków – to tylko część sukcesów projektu ENIGMA. Przytłaczająca rekordowa sprzedaż\, a jednocześnie tajemnicze twarze wykonawców sprawiły\, że ENIGMA stała się jednym z najpopularniejszych i najbardziej mistycznych projektów muzycznych ostatnich dziesięcioleci. \nZałożony w 1980 roku przez niemieckiego producenta MICHAELA CRETU\, projekt ENIGMA przyciągnął miliony słuchaczy unikalnymi i kultowymi dźwiękami\, które są nieporównywalne z żadnymi innymi. ENIGMA pojawiła się ponad 50 razy na pierwszym miejscu\, światowych list przebojów! Ich muzyka uzależnia\, jest transowa i zarazem niezwykle entuzjastyczna. Sukces ENIGMY był i jest inspiracją dla wielu artystów i producentów\, w tym znanym na całym świecie Chóru GREGORIAN\, który wykonuje współczesne popowe i rockowe utwory inspirowane gregoriańskim stylem. \nW listopadzie 2021 roku\, zespół składający się z oryginalnych głosów ENIGMY m.in. ANDRU DONALDS\, ANGEL X\, FOX LIMA…\, wykona największe hity grupy w ramach projektu ORIGINAL ENIGMA VOICES. W programie znajdzie się ponad 20 utworów z różnych albumów w tym m.in.: Return to Innocence\, Gravity of Love\, Mea Culpa\, Sadeness\, Principles of Lust\, 7 Lives\, Many Faces\, The Rivers of Belief\, The Fall of Live of a Rebel Angel. \nCzłonkowie zespołu eksperymentują z różnymi stylami muzycznymi. Wykorzystują również śpiewy gregoriańskie\, psalmy etniczne\, dzwony kościelne\, organy i podobne instrumenty tworząc bardzo specyficzne\, klimatyczne i wręcz psychodeliczne dźwięki. Oglądanie koncertu na żywo dodatkowo umożliwia bezpośrednie obcowanie z wielkim talentem twórczym\, jaki posiadają muzycy. \nTrasa koncertowa będzie wzbogacona udziałem orkiestry oraz licznymi efektami specjalnymi. Każda kompozycja utworu to wręcz osobna produkcja. Muzyce towarzyszyć będzie elektryzująca wizualizacja i zmiana kostiumów artystów – którzy profesjonalnie znają sztukę scenicznej reinkarnacji. Ta trasa to wielowymiarowe show! To duchowa podróż w dźwięki\, obrazy\, światła i zmysły!
URL:https://pokladykultury.eu/event/original-enigma-voices/
LOCATION:Dom Muzyki i Tańca w Zabrzu\, ul. Gen. de Gaulle'a 17\, Zabrze\, śląskie\, 41-800\, Poland
ATTACH;FMTTYPE=image/jpeg:https://pokladykultury.eu/wp-content/uploads/2021/09/enigma-nowy.jpg
END:VEVENT
BEGIN:VEVENT
DTSTART;TZID=Europe/Warsaw:20211206T180000
DTEND;TZID=Europe/Warsaw:20211206T200000
DTSTAMP:20260425T022126
CREATED:20211124T111641Z
LAST-MODIFIED:20211124T111641Z
UID:1856-1638813600-1638820800@pokladykultury.eu
SUMMARY:Koncert Mikołajkowy
DESCRIPTION:Filharmonia Zabrzańska zaprasza w poniedziałek\, 6 grudnia o godz. 17.00 na Koncert Mikołajkowy. \nWśród wykonawców wystąpią:\nOrkiestra Symfoniczna Filharmonii Zabrzańskiej\nŚwięty Mikołaj – gość specjalny!\nW roli „Śnieżynki” Dorota Banaś\nSławomir Chrzanowski- dyrygent \nW repertuarze: \nMuzyka filmowa\, Czajkowski – „Dziadek do orzechów”- fragmenty\, muzyka świąteczna
URL:https://pokladykultury.eu/event/koncert-mikolajkowy/
LOCATION:Filharmonia Zabrzańska\, Park Hutniczy 7\, Zabrze\, śląskie\, 41-800\, Poland
ATTACH;FMTTYPE=image/jpeg:https://pokladykultury.eu/wp-content/uploads/2021/07/Filharmonia.jpg
END:VEVENT
BEGIN:VEVENT
DTSTART;TZID=Europe/Warsaw:20211209T200000
DTEND;TZID=Europe/Warsaw:20211209T220000
DTSTAMP:20260425T022126
CREATED:20211208T090358Z
LAST-MODIFIED:20211208T090358Z
UID:2138-1639080000-1639087200@pokladykultury.eu
SUMMARY:Meinusch Project - Muzyczny Czwartek
DESCRIPTION:Meinusch Project to zbiór muzyków inspirujących się różnymi gatunkami i stylami muzyki! Od muzyki klasycznej\, przez jazz\, aż do rock and rolla. W Artystycznej zagrają akustycznie\, ale energii na pewno nie zabraknie.\nWstęp wolny! 
URL:https://pokladykultury.eu/event/meinusch-project-muzyczny-czwartek/
LOCATION:Artystyczna Zabrze\, ul. gen de Gaulle'a 17\, Zabrze\, śląskie\, 41-800\, Poland
ATTACH;FMTTYPE=image/jpeg:https://pokladykultury.eu/wp-content/uploads/2021/12/Meinusch.jpg
END:VEVENT
BEGIN:VEVENT
DTSTART;TZID=Europe/Warsaw:20211210T190000
DTEND;TZID=Europe/Warsaw:20211210T210000
DTSTAMP:20260425T022126
CREATED:20211124T112552Z
LAST-MODIFIED:20211124T112552Z
UID:1860-1639162800-1639170000@pokladykultury.eu
SUMMARY:Koncert Adwentowy
DESCRIPTION:Filharmonia Zabrzańska zaprasza w piątek\, 10 grudnia o godz. 18.00 na Koncert Adwentowy. \nWystąpią: \nOrkiestra Symfoniczna Filharmonii Zabrzańskiej\nMarcin Ostrowski- skrzypce\nSławomir Chrzanowski- dyrygent \nW repertuarze: \nMuzyka barokowa- Corelli\, Pachelbel\, Vivaldi\, Albinoni
URL:https://pokladykultury.eu/event/koncert-adwentowy/
LOCATION:Filharmonia Zabrzańska\, Park Hutniczy 7\, Zabrze\, śląskie\, 41-800\, Poland
ATTACH;FMTTYPE=image/jpeg:https://pokladykultury.eu/wp-content/uploads/2021/07/Filharmonia.jpg
END:VEVENT
BEGIN:VEVENT
DTSTART;TZID=Europe/Warsaw:20211215T190000
DTEND;TZID=Europe/Warsaw:20211215T210000
DTSTAMP:20260425T022126
CREATED:20211208T085240Z
LAST-MODIFIED:20211208T085240Z
UID:2135-1639594800-1639602000@pokladykultury.eu
SUMMARY:Jazzowe Środy w Szybie Maciej
DESCRIPTION:„Jazzowe środy” to cykl występów artystów z kręgu muzyki jazzowej\, które odbywają się w dwie środy każdego miesiąca.\nKoncerty według swojego założenia mają być ubogaceniem oferty kulturalnej regionu\, a także możliwością bliskiego poznania artystów i obcowania z nimi w postindustrialnej przestrzeni zabytkowego kompleksu Szyb Maciej – dawnego górniczego zakładu kopalni Concordia.\nDATY NADCHODZĄCYCH KONCERTÓW:\n 15 grudnia 2021 r.\, godz. 18:00 – Duet Celloholics.\n 12 stycznia 2022 r.\, godz. 18:00 – Ireneusz Głyk(wibrafon) & Piotr Matusik(piano)\n 26 stycznia 2022 r.\, godz. 18:00 – …\nWstęp na wydarzenia jest bezpłatny – ze względu na ograniczoną ilość miejsc zalecamy dokonania rezerwacji stolików pod nr tel. 32 323 14 75
URL:https://pokladykultury.eu/event/jazzowe-srody-w-szybie-maciej/
LOCATION:Szyb Maciej\, ul. Srebrna 6\, Zabrze\, śląskie\, 41-800\, Poland
ATTACH;FMTTYPE=image/jpeg:https://pokladykultury.eu/wp-content/uploads/2021/12/jazzowe.jpg
END:VEVENT
BEGIN:VEVENT
DTSTART;TZID=Europe/Warsaw:20211215T200000
DTEND;TZID=Europe/Warsaw:20211215T220000
DTSTAMP:20260425T022126
CREATED:20211001T065422Z
LAST-MODIFIED:20211124T095320Z
UID:1439-1639598400-1639605600@pokladykultury.eu
SUMMARY:The Simon and Garfunkel Story
DESCRIPTION:The Simon and Garfunkel Story to pełen emocji koncert\, przenoszący w świat muzyki najsłynniejszego duetu wokalnego lat 60. Simon and Garfunkel trafiali wówczas do serc publiczności\, osiągając popularność równą innym legendom rocka: The Beatles czy The Rolling Stones. \nSubtelne melodie i harmonia\, w jaką układają się głosy Paula Simona i Arta Garfunkla\, niezmiennie oczarowują słuchaczy – również współcześnie. Dlatego właśnie w pięćdziesiątą rocznicę powstania grupy na londyńskim West Endzie wystawiono widowisko poświęcone temu niezwykłemu duetowi. Koncerty zachwyciły brytyjską publiczność\, co znalazło odzwierciedlenie w wyprzedanych salach\, owacjach na stojąco i entuzjastycznych recenzjach\, jakie pojawiły się m.in. w BBC: show został opisany jako „fantastyczny\, autentyczny i ekscytujący”. \nPo tak gorącym przyjęciu „The Simon and Garfunkel Story” wyrusza w światowe tournée\, obejmujące również Polskę. Podczas tego poruszającego tribute show wybrzmią największe przeboje zespołu: „Mrs. Robinson”\, „Cecilia” czy „Bridge over Troubled Water”\, a towarzyszyć im będą projekcje archiwalnych zdjęć i filmów\, tworząc prawdziwie niepowtarzalne i zapadające w pamięć muzyczne wydarzenie.
URL:https://pokladykultury.eu/event/the-simon-and-garfunkel-story/
LOCATION:Dom Muzyki i Tańca w Zabrzu\, ul. Gen. de Gaulle'a 17\, Zabrze\, śląskie\, 41-800\, Poland
ATTACH;FMTTYPE=image/jpeg:https://pokladykultury.eu/wp-content/uploads/2021/11/simon-and-garfunkel-najnowszy.jpg
END:VEVENT
BEGIN:VEVENT
DTSTART;TZID=Europe/Warsaw:20211217T190000
DTEND;TZID=Europe/Warsaw:20211217T210000
DTSTAMP:20260425T022126
CREATED:20211124T113005Z
LAST-MODIFIED:20211124T113005Z
UID:1862-1639767600-1639774800@pokladykultury.eu
SUMMARY:Koncert Świąteczny
DESCRIPTION:Filharmonia Zabrzańska zaprasza w piątek\, 17 grudnia 2021 r. o godz. 18.00 na Koncert Świąteczny. \nWystąpią:\nOrkiestra Symfoniczna Filharmonii Zabrzańskiej\nSylwia Ziółkowska\, Stanisław Napierała – soliści\nSławomir Chrzanowski – dyrygent \nW repertuarze:\nMuzyka świąteczna\, piosenki\, kolędy
URL:https://pokladykultury.eu/event/koncert-swiateczny/
LOCATION:Filharmonia Zabrzańska\, Park Hutniczy 7\, Zabrze\, śląskie\, 41-800\, Poland
ATTACH;FMTTYPE=image/jpeg:https://pokladykultury.eu/wp-content/uploads/2021/07/Filharmonia.jpg
END:VEVENT
BEGIN:VEVENT
DTSTART;TZID=Europe/Warsaw:20211217T200000
DTEND;TZID=Europe/Warsaw:20211217T220000
DTSTAMP:20260425T022126
CREATED:20211001T065820Z
LAST-MODIFIED:20211001T065820Z
UID:1442-1639771200-1639778400@pokladykultury.eu
SUMMARY:GLENN MILLER ORCHESTRA
DESCRIPTION:Najbardziej uwielbiana przez widzów BIG-BANDowa kapela świata wystąpi w grudniu 2021 r.\, w Polsce! GLENN MILLER ORCHESTRA zaprezentuje utwory ze swojej najnowszej\, tegorocznej płyty. W tym roku zespół celebruje wielki jubileusz 35-lecia pod dyrekcją słynnego Wila Saldena – wspólnie zagrali aż 5000 koncertów! W skład orkiestry wchodzą najlepsi na świecie instrumentaliści. Historia grupy jest równie bogata\, występowali m.in. z takimi gwiazdami jak: Frank Sinatra\, Johnny Desmond czy Erik Delaney. Ich prestiżowe występy to błyskotliwe i precyzyjne brzmienie sekcji instrumentów\, zupełnie jak na początku ubiegłego wieku w pięknych czasach GOLDEN SWING ERA. W oryginalnym programie scena zamienia się więc w kolebkę muzyki z początku lat ’30 i ’40 ubiegłego wieku.\n \nPodczas najbliższej trasy koncertowej usłyszymy najbardziej znane utwory z twórczości Glenna Millera jak i najnowszego jubileuszowego albumu grupy – 35 Years Aniversary Tour. Wil Salden skomentował listę utworów na tę trasę w ten sam sposób\, co kiedyś Glenn Miller: coś starego\, coś nowego\, coś pożyczonego i coś niebieskiego. Rozwijając słowa mistrza… będą to m.in hity takie jak: Moonlight Serenade\, Ain’t We Got Fun\, Somewhere over the Rainbow\, A String of Pearls\, Little Brown Jug\, At Last\, You Made Me Love You\, I’ve Got the World on a String\, Sing Sing Sing\, American Patrol\, In the Mood\, We’ll Meet Again\, Chattanooga Choo Choo\, czy Pennsylvania 6-5000.\nKażdy muzyk lub kompozytor marzy o stworzeniu absolutnie wyrazistego brzmienia\, które natychmiast będzie rozpoznawalne zaledwie po kilku pierwszych taktach – słowa założyciela orkiestry\, Glenna Millera\, stały się ogromną inspiracją dla Wila Saldena. To właśnie on 35 lat temu został mianowany za swoją wieloletnią pracę i zaangażowanie na prestiżowe stanowisko głównego dyrygenta Orkiestry. Jako perfekcjonista\, zawsze wymagał takiej postawy również od każdego członka zespołu. To właśnie jego podejście do pracy sprawiło\, że otrzymał od publiczności najcenniejszą nagrodę – podziw i zachwyt. W czerwcu 2020r. Wil Salden będzie obchodził jeszcze jeden jubileusz – swoje 70 urodziny! Wszystko wskazuje więc na to\, że tegoroczna trasa będzie naprawdę wyjątkowa.\n \nWizytówką muzycznego świata orkiestry są niewątpliwie sentymentalne ballady takie jak: Moonlight Serenade\, nutka w nutkę jak Glenn Miller przykazał. Eleganccy muzycy kochają swój emocjonalny jazz\, widać że niezwykle cieszą się swym graniem. Historię grupy tworzy już 80-letnia działalność koncertowa oraz osiągnięcia budzące zachwyt artystycznego świata. Nawet THE BEATLES czy ELVIS PRESLEY nie mogą poszczycić się taką liczbą hitów królujących na pierwszych miejscach list przebojów. GLENN MILLER ORCHESTRA występowała w całych Stanach Zjednoczonych\, Europie\, Australii\, Nowej Zelandii\, Ameryce Południowej\, Japonii i na Filipinach.
URL:https://pokladykultury.eu/event/glenn-miller-orchestra/
LOCATION:Dom Muzyki i Tańca w Zabrzu\, ul. Gen. de Gaulle'a 17\, Zabrze\, śląskie\, 41-800\, Poland
ATTACH;FMTTYPE=image/jpeg:https://pokladykultury.eu/wp-content/uploads/2021/10/glenn.jpg
END:VEVENT
END:VCALENDAR