BEGIN:VCALENDAR
VERSION:2.0
PRODID:-//Pokładykultury.eu - ECPv5.16.3.1//NONSGML v1.0//EN
CALSCALE:GREGORIAN
METHOD:PUBLISH
X-ORIGINAL-URL:https://pokladykultury.eu
X-WR-CALDESC:Wydarzenia dla Pokładykultury.eu
REFRESH-INTERVAL;VALUE=DURATION:PT1H
X-Robots-Tag:noindex
X-PUBLISHED-TTL:PT1H
BEGIN:VTIMEZONE
TZID:Europe/Warsaw
BEGIN:DAYLIGHT
TZOFFSETFROM:+0100
TZOFFSETTO:+0200
TZNAME:CEST
DTSTART:20220327T010000
END:DAYLIGHT
BEGIN:STANDARD
TZOFFSETFROM:+0200
TZOFFSETTO:+0100
TZNAME:CET
DTSTART:20221030T010000
END:STANDARD
END:VTIMEZONE
BEGIN:VEVENT
DTSTART;TZID=Europe/Warsaw:20220205T180000
DTEND;TZID=Europe/Warsaw:20220205T200000
DTSTAMP:20260424T063638
CREATED:20220125T074515Z
LAST-MODIFIED:20220125T074515Z
UID:2431-1644084000-1644091200@pokladykultury.eu
SUMMARY:OPERETKA & MUSICAL Baśń dla dorosłych
DESCRIPTION:OPERETKA & MUSICAL Baśń dla dorosłych odbywa się w całej Polsce. Za sprawą wspaniałych artystów przeniosą się Państwo do cudownego i wyjątkowego świata Operetki i Musicalu\, pełnego miłości\, czułości\, wzruszeń\, namiętności\, gorących pocałunków… Usłyszycie Państwo najpiękniejsze i najznakomitsze melodie muzycznego króla walca Johanna Straussa jak również Emmericha Kalmana\, Franza Lehara\, Paula Abrahama. Zabrzmią duety wszech czasów: „Usta milczą\, dusza śpiewa” „Co się dzieje\, oszaleję”\, „W rytm walczyka”\, „Myszko\, to była piękna noc”\, wspaniałe arie: „Aria ze śmiechem”\, popisowe utwory instrumentalne\, jak i piosenki z repertuaru Jana Kiepury: „Brunetki\, blondynki” oraz duety musicalowe\, a to wszystko podane na najwyższym poziomie.\n \nGala cieszy się wielkim powodzeniem i uznaniem\, za sprawą porywających solistów\, Joanny Wojtaszewskiej oraz Kamila Rocha Karolczuka\, ich poruszającej i subtelnej gry scenicznej\, fantastycznego kontaktu z publicznością oraz wdzięku i uroku osobistego a do tego niesamowitej wrażliwości oraz muzykalności. Repertuar zaczerpnięty z najbardziej znanych i lubianych Operetek oraz Musicali\, takich\, jak: „Zemsta Nietoperza”\, „Księżniczka Czardasza”\, „Wesoła Wdówka”\, „Baron Cygański”\, „Wiedeńska krew”\, „My Fair Lady” czy „Upiór w Operze”.\n \nŚpiewakom towarzyszą wspaniali Kameraliści Operetkowi\, składający się z wybitnie uzdolnionych artystów nowego pokolenia muzycznego. Koncert jest dedykowany każdemu\, kto kocha piękną\, melodyjną muzykę i jest gotów by szeroko otworzyć swe serce na nowe\, muzyczne i nie tylko\, doznania.\n \nObsada:\nJoanna Wojtaszewska – sopran\nKamil Roch Karolczuk – tenor\nKameraliści operetkowi\n \nCzas trwania koncertu: ok.80 minut (bez przerwy).\nBilety dostępne na stronie : https://www.kupbilecik.pl/…/Operetka+i+musical+-+Ba%C5…/ lub w kasie Kina Roma
URL:https://pokladykultury.eu/event/operetka-musical-basn-dla-doroslych/
LOCATION:Kino Roma\, ul. Z. Padlewskiego 4\, Zabrze\, śląskie\, 41-800\, Poland
ATTACH;FMTTYPE=image/jpeg:https://pokladykultury.eu/wp-content/uploads/2022/01/Operetka-musical.jpg
END:VEVENT
BEGIN:VEVENT
DTSTART;TZID=Europe/Warsaw:20220211T190000
DTEND;TZID=Europe/Warsaw:20220211T200000
DTSTAMP:20260424T063638
CREATED:20220207T101857Z
LAST-MODIFIED:20220207T101857Z
UID:2564-1644606000-1644609600@pokladykultury.eu
SUMMARY:Muzyka i miłość
DESCRIPTION:Filharmonia Zabrzańska zaprasza na koncert\, którego tematem przewodnim będą historie miłosne. \,\,Muzyka i Miłość” czyli \,\,od klasyki do filmu” to program \, który przygotują zabrzańscy muzycy wspólnie z Gościem\, Maestro Tomaszem Tokarczykiem\, pod którego batutą Orkiestra Symfoniczna Filharmonii Zabrzańskiej wykona m.in. dzieła Czajkowskiego\, Wagnera\, Bernsteina\, Loevego i Hornera. \nKoncert ten będzie idealnym prezentem walentynkowym dla osób bliskich Państwa sercu \nBilety w cenie 40 i 30 zł do nabycia w kasie. \nUprzejmie przypominamy\, iż koncert odbędzie się w obowiązującym cały czas standardzie sanitarnym\, stąd uprzejmie prosimy o nieco wcześniejsze pojawienie się w budynku Filharmonii.
URL:https://pokladykultury.eu/event/muzyka-i-milosc/
LOCATION:Filharmonia Zabrzańska\, Park Hutniczy 7\, Zabrze\, śląskie\, 41-800\, Poland
ATTACH;FMTTYPE=image/jpeg:https://pokladykultury.eu/wp-content/uploads/2021/07/Filharmonia.jpg
END:VEVENT
BEGIN:VEVENT
DTSTART;TZID=Europe/Warsaw:20220213T200000
DTEND;TZID=Europe/Warsaw:20220213T220000
DTSTAMP:20260424T063638
CREATED:20220203T095504Z
LAST-MODIFIED:20220203T095504Z
UID:2523-1644782400-1644789600@pokladykultury.eu
SUMMARY:MALEŃCZUK RHYTHM SECTION
DESCRIPTION:Koncert promujący album Klauzula sumienia\, na którym nie zabraknie również największych pieśni artysty: Ostatnia Nocka\, Tango Libido\, Sługi za szlugi\, Synu czy Dawna Dziewczyno. \n\nMaciejowi na scenie towarzyszyć będą muzycy znani m.in z Piwnicy pod Baranami czy poprzednich tras koncertowych jak Maleńczuk gra Młynarskiego czy Maleńczuk+\, Wiesław Jamioł (perkusja) i Dominik Wywrocki (kontrabas)\nNiektórych artystów można opisać krótko i w kilku zdaniach. Maciej Maleńczuk zdecydowanie do nich nie należy\, a szybki opis jego pracy artystycznej jest absolutnie niemożliwy. Z pewnością można powiedzieć\, że to jeden z najważniejszych\, najbardziej charyzmatycznych\, a przy tym kontrowersyjnych artystów ostatnich czterech dekad. Pieśniarz obdarzony świetnym głosem i darem pisania tekstów pełnych ciekawych obserwacji – nie zawsze miłych. Klauzula Sumienia nakazuje więcej nie mówić i słuchać.
URL:https://pokladykultury.eu/event/malenczuk-rhythm-section/
LOCATION:Dom Muzyki i Tańca w Zabrzu\, ul. Gen. de Gaulle'a 17\, Zabrze\, śląskie\, 41-800\, Poland
ATTACH;FMTTYPE=image/jpeg:https://pokladykultury.eu/wp-content/uploads/2022/02/malenczukgraf.jpg
END:VEVENT
BEGIN:VEVENT
DTSTART;TZID=Europe/Warsaw:20220219T183000
DTEND;TZID=Europe/Warsaw:20220219T203000
DTSTAMP:20260424T063638
CREATED:20220215T064131Z
LAST-MODIFIED:20220215T064131Z
UID:2629-1645295400-1645302600@pokladykultury.eu
SUMMARY:Muzyka - Wsparcie osób w depresji. Koncert Zespołu Wokalnego LUNA PLENA
DESCRIPTION:Zespół Wokalny LUNA PLENA serdecznie zaprasza na swój koncert. Koncert odbędzie się w ramach akcji Muzyka – wsparcie osób w depresji\, przyczyniającej się do podniesienia świadomości o depresji – 23 lutego obchodzimy Międzynarodowy Dzień Walki z Depresją.\n \nPragniemy za pomocą śpiewu pokazać\, że muzyka i podjęcie aktywności w formie śpiewania w chórze\, może być świetnym remedium dla osób borykających się z tą chorobą. Koncert będzie także wyrazem uznania dla specjalistów\, którzy na co dzień dzielnie zajmują się leczeniem tej wciąż niestety bagatelizowanej przypadłości.\n \nW repertuarze muzyka świecka\, rozrywkowa\, polska i zagraniczna. Każdy znajdzie coś dla siebie! \nDyrygent – Barbara Gajek-Kraska\n \nOrganizator akcji „Muzyka – wsparcie osób w depresji” –\nMiędzynarodowy Portal Chóralny CHÓRTOWNIA\nPartner – Ogólnopolska Konferencja MAM GŁOS\nPartner merytoryczny – Poradnia Psychologiczno-Pedagogiczna w Zabrzu\nPartner medialny – GŁOS Zabrza i Rudy Śląskiej\nKoncert w Łaźni Łańcuszkowej odbędzie się dzięki uprzejmości Muzeum Górnictwa Węglowego w Zabrzu.
URL:https://pokladykultury.eu/event/muzyka-wsparcie-osob-w-depresji-koncert-zespolu-wokalnego-luna-plena/
LOCATION:Łaźnia Łańcuszkowa\, Sztolnia Królowa Luiza\, ul. Wolności 410\, Zabrze\, śląskie\, 41-800\, Poland
ATTACH;FMTTYPE=image/jpeg:https://pokladykultury.eu/wp-content/uploads/2022/02/Muzyka-wsparcie-osob-w-depresji.jpg
END:VEVENT
BEGIN:VEVENT
DTSTART;TZID=Europe/Warsaw:20220226T170000
DTEND;TZID=Europe/Warsaw:20220226T190000
DTSTAMP:20260424T063638
CREATED:20220223T095303Z
LAST-MODIFIED:20220223T095303Z
UID:2710-1645894800-1645902000@pokladykultury.eu
SUMMARY:Próba otwarta z Risonanza Continua
DESCRIPTION:Risonanza Continua serdecznie zaprasza na próbę otwartą z chórem Risonanza Continua w ramach obchodzonego Ogólnopolskiego Dnia Walki z Depresją. \nOgólnopolski Dzień Walki z Depresją – święto obchodzone 23 lutego od 2001 roku\, którego celem jest upowszechnienie wiedzy na temat depresji i zachęcenie chorych do leczenia.
URL:https://pokladykultury.eu/event/proba-otwarta-z-risonanza-continua/
LOCATION:kościół pw. Niepokalanego Serca NMP\, ul. Franciszkańska 1\, Zabrze\, śląskie\, 41-800\, Poland
ATTACH;FMTTYPE=image/jpeg:https://pokladykultury.eu/wp-content/uploads/2022/02/Proba-otwarta.jpg
END:VEVENT
BEGIN:VEVENT
DTSTART;TZID=Europe/Warsaw:20220226T200000
DTEND;TZID=Europe/Warsaw:20220226T220000
DTSTAMP:20260424T063638
CREATED:20220208T091846Z
LAST-MODIFIED:20220208T092339Z
UID:2578-1645905600-1645912800@pokladykultury.eu
SUMMARY:Grubson w Kopalni Guido
DESCRIPTION:Kopalnia Guido zaprasza w swoje podziemia na wyjątkowy koncert\, organizowany z cyklu „Muzyka na poziomie”. Już 26 lutego br. na najniżej położonej scenie w Polsce\, wystąpi Grubson. \nKażdy jego koncert to prawdziwe muzyczne wydarzenie. Jego albumy wielokrotnie pokryły się zarówno złotem\, jak i platyną. Producent\, raper i wokalista\, który ze swoją piosenką \,\,Na szczycie” – pobił rekord YT – był to pierwszy utwór hip-hopowy\, który zdobył ponad 100 mln wyświetleń. \nOstatni album artysty z listopada 2020\, o przewrotnym tytule „ AKUSTYCZ(NIE)ZUPEŁNIE\, to zupełnie świeża akustyczno elektroniczna odsłona jego twórczości. \nZjazdy pod ziemię od godziny 18:00\nBilety: 69 zł. dostępne wkrótce na www.bilety.kopalniaguido.pl 
URL:https://pokladykultury.eu/event/grubson-w-kopalni-guido/
LOCATION:Kopalnia Guido\, ul. 3 Maja 93\, Zabrze\, śląskie\, 41-800\, Poland
ATTACH;FMTTYPE=image/png:https://pokladykultury.eu/wp-content/uploads/2022/02/Grubson.png
END:VEVENT
BEGIN:VEVENT
DTSTART;TZID=Europe/Warsaw:20220226T210000
DTEND;TZID=Europe/Warsaw:20220226T230000
DTSTAMP:20260424T063638
CREATED:20220223T095719Z
LAST-MODIFIED:20220223T095719Z
UID:2714-1645909200-1645916400@pokladykultury.eu
SUMMARY:Tribute to MOTÖRHEAD & METALLICA - Orgasmatron & AlcoholicA
DESCRIPTION:CK Wiatrak zaprasza na fantastyczny wieczór z utworami legend heavy metalu 26 lutego w klubie CK Wiatrak.\nZagrają: supergrupa ORGASMATRON oraz jeden z najlepszych polskich tribute band – ALCOHOLICA.\nORGASMATRON to supergrupa \, muzyczny kolektyw\, hołdujący twórczości m.in. Lemmiego Kilmistera i Motörhead złożony ze znakomitości polskiej sceny rockowo-metalowej.\nNa chwilę obecną zespół tworzą muzycy Acid Drinkers\, Gomor\, Flapjack\, Turbo i Ceti.\nSami o sobie tak piszą:\n„Zebraliśmy się w tak zacnym gronie\,\, żeby pokłonić się gigantowi. Aby oddać hołd facetowi który z gatunku muzycznego\, którym jest rocknroll\, zrobił sobie sposób na życie.\nZrobił to uczciwie szczerze i konsekwentnie. W normalnych warunkach ludzie potrafią uczcić swoich bohaterów minutą ciszy…\, ale nie my i nie dzisiaj… i nie minutą\, ale kolejnymi godzinami Cholernego Łomotu!!!”\nZespół ALCOHOLICA powstał w 2004 roku z myślą o graniu muzyki zespołu Metallica.\nNazwa zespołu została wybrana nie przypadkowo – przydomek ten zyskała Metallica w pierwszych latach swojej działalności.\nAlcoholicA zagra najbardziej znane kompozycje Metalliki zarówno ze starszych płyt\, jak i Hardwired… To Self-Destruct.\nFormacja zagra też utwory ze swojej pierwszej płyty SUB ZERO.\nbilety:\n50 zł – I pula\n60 zł – II pula\nPrzy zakupie biletów prosimy o zaznaczenie właściwej opcji\n– dla osób bez paszportu covid – ilość ograniczona.\n– dla osób z paszportem covid – bez ograniczeń do wyczerpania biletów.\n \nPUNKTY SPRZEDAŻY BILETÓW:\n– zakup ze strony klubowej – BILETERIA GOINGAPP – bilet elektroniczny przychodzi na maila.\n– BILETOMAT.PL\n– EMPIK\n– w dniu koncertu od godz:19.30\n \nWażne: Uczestnik koncertu oświadcza\, że w przypadku wystąpienia u niego objawów choroby wywołanej przez wirusa SARS-CoV-2\, nie weźmie udziału w wydarzeniu.
URL:https://pokladykultury.eu/event/tribute-to-motorhead-metallica-orgasmatron-alcoholica/
LOCATION:Klub CK Wiatrak\, ul. Wolności 395\, Zabrze\, śląskie\, 41-800\, Poland
ATTACH;FMTTYPE=image/jpeg:https://pokladykultury.eu/wp-content/uploads/2022/02/Alcoholika.jpg
END:VEVENT
END:VCALENDAR