BEGIN:VCALENDAR
VERSION:2.0
PRODID:-//Pokładykultury.eu - ECPv5.16.3.1//NONSGML v1.0//EN
CALSCALE:GREGORIAN
METHOD:PUBLISH
X-ORIGINAL-URL:https://pokladykultury.eu
X-WR-CALDESC:Wydarzenia dla Pokładykultury.eu
REFRESH-INTERVAL;VALUE=DURATION:PT1H
X-Robots-Tag:noindex
X-PUBLISHED-TTL:PT1H
BEGIN:VTIMEZONE
TZID:Europe/Warsaw
BEGIN:DAYLIGHT
TZOFFSETFROM:+0100
TZOFFSETTO:+0200
TZNAME:CEST
DTSTART:20220327T010000
END:DAYLIGHT
BEGIN:STANDARD
TZOFFSETFROM:+0200
TZOFFSETTO:+0100
TZNAME:CET
DTSTART:20221030T010000
END:STANDARD
END:VTIMEZONE
BEGIN:VEVENT
DTSTART;TZID=Europe/Warsaw:20220305T200000
DTEND;TZID=Europe/Warsaw:20220305T220000
DTSTAMP:20260423T150638
CREATED:20211124T094723Z
LAST-MODIFIED:20211124T094723Z
UID:1827-1646510400-1646517600@pokladykultury.eu
SUMMARY:Państwowy Akademicki Ansambl Pieśni i Tańca Gruzji «Rustavi»
DESCRIPTION:Od ponad 50 lat zespół «Rustavi» prezentuje publiczności gruzińskie pieśni i tańce w różnych krajach świata. Zespół charakteryzuje się bogatym repertuarem\, kwintesencją\, polifonią i cechami wykonawczymi. \nW listopadzie 2021 roku Narodowy akademicki ansambl Gruzji «Rustavi» zaprezentuje swoje najlepsze i nowe tańce w Polsce i jak zawsze zaskoczy publiczność fantastyczną energią oraz choreografią. Wszystko odbędzie się pod akompaniament pięknej gruzińskiej muzyki i śpiewu unikalnego chóru na żywo. Energia gorących mężczyzn z gór Kaukazu\, elementy prawdziwego pojedynku na szablach\, akrobacje\, oraz czułość i łagodność pięknych kobiet\, jakby płynących po scenie w fantastycznie kolorowych kostiumach. W każdym tańcu\, w każdej pieśni rozbrzmiewa historia całego narodu\, regionu\, miasta. To są emocje dla całej rodziny: od dzieci do seniorów. \n\n\nTańcom Rustavi towarzyszą pieśni ludowe i instrumenty z różnych prowincji Gruzji co tworzy harmonijny spektakl\, tym samym dodatkowo wzmacniając cechy regionalne\, co odróżnia «Rustavi» od innych zespołów. Piosenkarze\, tancerze i instrumentaliści ludowi «Rustavi» umiejętnie łączą się w harmonii podczas swojego programu koncertowego\, malując bogaty gobelin Kultury Ludowej Gruzji.
URL:https://pokladykultury.eu/event/panstwowy-akademicki-ansambl-piesni-i-tanca-gruzji-rustavi-2/
LOCATION:Dom Muzyki i Tańca w Zabrzu\, ul. Gen. de Gaulle'a 17\, Zabrze\, śląskie\, 41-800\, Poland
ATTACH;FMTTYPE=image/jpeg:https://pokladykultury.eu/wp-content/uploads/2021/11/rustavi-najnowszy.jpg
END:VEVENT
BEGIN:VEVENT
DTSTART;TZID=Europe/Warsaw:20220308T190000
DTEND;TZID=Europe/Warsaw:20220308T200000
DTSTAMP:20260423T150638
CREATED:20220307T095026Z
LAST-MODIFIED:20220307T095026Z
UID:2823-1646766000-1646769600@pokladykultury.eu
SUMMARY:\,\,Kobieta w dźwiękach zaklęta”
DESCRIPTION:Filharmonia Zabrzańska zaprasza we wtorek\, 8 marca na koncert „Kobieta w dźwiękach zaklęta”. \nWystąpią Orkiestra Symfoniczna Filharmonii Zabrzańskiej pod batutą Wojciecha Barczyńskiego. \nW repertuarze utwory Delibas\, Gershwina\, Straussa\, Kerna\, Sibeliusa\, Piosenki Madonny i ABBY \n 
URL:https://pokladykultury.eu/event/kobieta-w-dzwiekach-zakleta/
LOCATION:Filharmonia Zabrzańska\, Park Hutniczy 7\, Zabrze\, śląskie\, 41-800\, Poland
ATTACH;FMTTYPE=image/jpeg:https://pokladykultury.eu/wp-content/uploads/2021/07/Filharmonia.jpg
END:VEVENT
BEGIN:VEVENT
DTSTART;TZID=Europe/Warsaw:20220310T210000
DTEND;TZID=Europe/Warsaw:20220310T230000
DTSTAMP:20260423T150638
CREATED:20211201T092822Z
LAST-MODIFIED:20220203T095626Z
UID:1972-1646946000-1646953200@pokladykultury.eu
SUMMARY:Sylwia Grzeszczak
DESCRIPTION:Wyjątkowy koncert\, największe przeboje oraz mnóstwo pozytywnej energii. \nSylwia Grzeszczak to wokalistka\, kompozytorka i autorka tekstów\, której nie trzeba przedstawiać. Znana jest z niezwykłego głosu oraz umiejętności gry na pianinie\, których połączenie z wielką gracją i niebywałą łatwością przekuwa w kolejne hity. \nPosłuchaj największych przebojów artystki\, nowych aranżacji i piosenek podczas trasy koncertu w Zabrzu już 10.03.2022.
URL:https://pokladykultury.eu/event/sylwia-grzeszczak/
LOCATION:Dom Muzyki i Tańca w Zabrzu\, ul. Gen. de Gaulle'a 17\, Zabrze\, śląskie\, 41-800\, Poland
ATTACH;FMTTYPE=image/jpeg:https://pokladykultury.eu/wp-content/uploads/2021/12/sylgrznew.jpg
END:VEVENT
BEGIN:VEVENT
DTSTART;TZID=Europe/Warsaw:20220318T190000
DTEND;TZID=Europe/Warsaw:20220318T200000
DTSTAMP:20260423T150638
CREATED:20220318T094806Z
LAST-MODIFIED:20220318T094806Z
UID:2972-1647630000-1647633600@pokladykultury.eu
SUMMARY:„Dzieci grają...dorosłym”
DESCRIPTION: Filharmonia Zabrzańska zaprasza na koncert pt. „Dzieci grają … dorosłym”. Koncert odbędzie się w piątek\, 18 marca o godz. 18.00 w sali Filharmonii Zabrzańskiej.\n \nWykonawcy:\nOrkiestra Symfoniczna Filharmonii Zabrzańskiej\n\n\n\n\nWojciech Barczyński – dyrygent\nMaciej Materny – skrzypce: Wieniawski – Dudziarz\nNatalia Białas – flet: Blake – Taniec bałwanka\nWojciech Rusak – skrzypce: ivaldi – Koncert F-dur\nJakub Jurowski – trąbka: Cook – Spica\nNatalia Gleba – fortepian: Miśkiewicz – Hiszpańska pomarańcza\nDominik Balla – fortepian: Kordaczuk – Koncert fortepianowy dla dzieci\nKamil Wrotniak – skrzypce: Twardowski – Oberek\nLaura Iwaniuk\, Szymon Nitka- śpiew- Rossini- Duet kotów\nMarta Matera – skrzypce: Mozart – Koncert skrzypcowy G-dur\nHelena Bednarska – skrzypce: Bruch- Koncert skrzypcowy g-moll \nBilety: \nNormalny – 30 zł\, ulgowy – 20 zł do nabycia w kasie Filharmonii Zabrzańskiej.
URL:https://pokladykultury.eu/event/dzieci-graja-doroslym/
LOCATION:Filharmonia Zabrzańska\, Park Hutniczy 7\, Zabrze\, śląskie\, 41-800\, Poland
ATTACH;FMTTYPE=image/jpeg:https://pokladykultury.eu/wp-content/uploads/2021/07/Filharmonia.jpg
END:VEVENT
BEGIN:VEVENT
DTSTART;TZID=Europe/Warsaw:20220318T210000
DTEND;TZID=Europe/Warsaw:20220319T005900
DTSTAMP:20260423T150638
CREATED:20220304T084154Z
LAST-MODIFIED:20220304T094731Z
UID:2816-1647637200-1647651540@pokladykultury.eu
SUMMARY:Dzień św. Patryka - koncert CARRANTUOHILL
DESCRIPTION:Kopalnia Guido w Zabrzu zaprasza na koncert zespołu Carrantuohill organizowany w ramach obchodów dnia św. Patryka. \nPrzygotujcie się na moc zielonych wrażeń w najbardziej niekonwencjonalnej scenerii w Europie! Jeśli masz ochotę celebrować dzień św. Patryka – irlandzkie święto narodowe i religijne koniecznie odwiedź strefę K8 w Kopalni Guido\, 320 metrów pod ziemią. \nJak irlandzkie święto\, to i irlandzka muzyka – na scenie wystąpi CARRANTUOHILL. Grający tradycyjną muzykę celtycką – irlandzką i szkocką zespół wykorzystuje takie instrumenty jak skrzypce\, akordeon\, buzouki\, bodhran\, flety\, blaszane gwizdki\, piszczałki uilleann\, cytrę i gitarę akustyczną. W celu podkreślenia brzmienia zespołu często dodajemy bębny\, klawisze i bas. Jak brzmi takie połączenie? Sprawdźcie sami \nW dniu koncertu nie zabraknie koloru zielonego również w naszym menu – tradycyjnie lejemy wtedy nasze sławne już zielone piwo. \nZjazdy od godziny 18:00\nStart imprezy godzina 20:00\nPub czynny do północy.
URL:https://pokladykultury.eu/event/dzien-sw-patryka-koncert-carrantuohill/
LOCATION:Kopalnia Guido\, ul. 3 Maja 93\, Zabrze\, śląskie\, 41-800\, Poland
ATTACH;FMTTYPE=image/jpeg:https://pokladykultury.eu/wp-content/uploads/2022/03/Dzien-Patryka.jpg
END:VEVENT
BEGIN:VEVENT
DTSTART;TZID=Europe/Warsaw:20220327T200000
DTEND;TZID=Europe/Warsaw:20220327T220000
DTSTAMP:20260423T150638
CREATED:20220318T095821Z
LAST-MODIFIED:20220318T095821Z
UID:2976-1648411200-1648418400@pokladykultury.eu
SUMMARY:26 Wielkanocny Festiwal im. L. van Beethovena – Mistrzowski recital fortepianowy
DESCRIPTION: Filharmonia Zabrzańska zaprasza na Mistrzowski recital fortepianowy organizowany w ramach 26. Wielkanocnego Festiwalu im. L. van Beethovena. Koncert odbędzie się w niedzielę\, 27 marca o godz. 18.00 w sali koncertowej Filharmonii.\n\n\n \n\n\n\n\nWykonawcy: \nJonathan Fournel – (Francja)- solista \nW repertuarze: \nChopin\, Brahms \nBilety: w cenie normalny – 40 zł. i ulgowy – 30 zł. do nabycia w kasie Filharmonii.
URL:https://pokladykultury.eu/event/26-wielkanocny-festiwal-im-l-van-beethovena-mistrzowski-recital-fortepianowy/
LOCATION:Filharmonia Zabrzańska\, Park Hutniczy 7\, Zabrze\, śląskie\, 41-800\, Poland
ATTACH;FMTTYPE=image/jpeg:https://pokladykultury.eu/wp-content/uploads/2021/07/Filharmonia.jpg
END:VEVENT
END:VCALENDAR