BEGIN:VCALENDAR
VERSION:2.0
PRODID:-//Pokładykultury.eu - ECPv5.16.3.1//NONSGML v1.0//EN
CALSCALE:GREGORIAN
METHOD:PUBLISH
X-WR-CALNAME:Pokładykultury.eu
X-ORIGINAL-URL:https://pokladykultury.eu
X-WR-CALDESC:Wydarzenia dla Pokładykultury.eu
REFRESH-INTERVAL;VALUE=DURATION:PT1H
X-Robots-Tag:noindex
X-PUBLISHED-TTL:PT1H
BEGIN:VTIMEZONE
TZID:Europe/Warsaw
BEGIN:DAYLIGHT
TZOFFSETFROM:+0100
TZOFFSETTO:+0200
TZNAME:CEST
DTSTART:20220327T010000
END:DAYLIGHT
BEGIN:STANDARD
TZOFFSETFROM:+0200
TZOFFSETTO:+0100
TZNAME:CET
DTSTART:20221030T010000
END:STANDARD
END:VTIMEZONE
BEGIN:VEVENT
DTSTART;TZID=Europe/Warsaw:20220408T200000
DTEND;TZID=Europe/Warsaw:20220408T210000
DTSTAMP:20260423T023941
CREATED:20220404T073646Z
LAST-MODIFIED:20220404T073646Z
UID:3127-1649448000-1649451600@pokladykultury.eu
SUMMARY:„Razem z Ukrainą…”
DESCRIPTION:Już w najbliższy piątek\, 8 kwietnia br. o godz.18.00. na estradzie Filharmonii Zabrzańskiej wystąpi wielce utalentowana\, młoda wokalistka\, pochodząca z Ukrainy – Monika Glazer. \n Artystka uciekając przed wojną znalazła wraz z rodziną schronienie w domu jednego z naszych muzyków. Szybko okazało się\, iż los najwidoczniej chciał\, aby pani Monika trafiła do muzycznego domu. Szybko okazało się\, iż młoda wokalistka jest niezwykle utalentowana\, stąd od kilku tygodni towarzyszy zabrzańskim filharmonikom na estradzie. \nNie inaczej będzie 8 kwietnia podczas koncertu „Razem z Ukrainą”\, gdzie 12-latka zaśpiewa popularne przeboje Celine Dion\, Leonarda Cohena czy grupy Queen. \nArtystce towarzyszyć będzie Orkiestra Symfoniczna Filharmonii Zabrzańskiej pod dyrekcją Sławomira Chrzanowskiego\, która dopełni wieczór cudownymi suitami muzyki filmowej\, musicalowej\, jazzowej i rozrywkowej. \nBilety w cenie 40 i 30 zł do nabycia w kasie Filharmonii.
URL:https://pokladykultury.eu/event/razem-z-ukraina/
LOCATION:Filharmonia Zabrzańska\, Park Hutniczy 7\, Zabrze\, śląskie\, 41-800\, Poland
ATTACH;FMTTYPE=image/jpeg:https://pokladykultury.eu/wp-content/uploads/2021/07/Filharmonia.jpg
END:VEVENT
BEGIN:VEVENT
DTSTART;TZID=Europe/Warsaw:20220422T210000
DTEND;TZID=Europe/Warsaw:20220422T230000
DTSTAMP:20260423T023941
CREATED:20211001T065129Z
LAST-MODIFIED:20211201T093452Z
UID:1436-1650661200-1650668400@pokladykultury.eu
SUMMARY:Cohen i Kobiety
DESCRIPTION:Na scenie zobaczymy „kobiety Cohena”\, jak mówią o sobie wspaniałe artystki\, a przede wszystkim gwiazdy kilku pokoleń polskiej wokalistyki. Każda z nich we własny i niepowtarzalny sposób zinterpretowała niezapomniane przeboje Leonarda Cohena\, legendarnego kanadyjskiego barda i poety. \nKażdy z koncertów to niemal magiczne spotkanie z nastrojową i niepowtarzalną piosenką Leonarda Cohena\, który stworzył swój własny\, niepodrabialny styl i klimat. Doskonale odnajdują się w nim wspaniałe wokalistki: Anita Lipnicka\, Natalia Kukulska\, Daria Zawiałow\, Grażyna Łobaszewska\, Julia Pietrucha\, Barbara Wrońska i Matylda Damięcka.\nKażda z nich utworom Cohena daje coś od siebie\, co w połączeniu z tekstami w przekładzie Macieja Zembatego i nieoczywistymi aranżacjami Leszka Biolika\, urzeka już przy pierwszym zetknięciu. Klimatu dopełniają wizualizacje i grafiki Matyldy Damięckiej. \nKoncert to doskonała okazja\, by jeszcze raz spotkać się z jego muzyką i przebojami: „In My Secret Life”\, „Suzanne” czy „Dance Me To The End Of Love” w niezwykłym towarzystwie kobiet\, gwiazd polskiej sceny muzycznej.\n“Cohen i Kobiety” – koncert  4.12.2021 r.  Dom Muzyki i Tańca |(przeniesiony z 29.03 i 8.11.2020 r.) \nProjekt „Cohen i Kobiety”\, uzyskał wsparcie ze środków Funduszu Przeciwdziałania COVID-19.
URL:https://pokladykultury.eu/event/cohen-i-kobiety/
LOCATION:Dom Muzyki i Tańca w Zabrzu\, ul. Gen. de Gaulle'a 17\, Zabrze\, śląskie\, 41-800\, Poland
ATTACH;FMTTYPE=image/jpeg:https://pokladykultury.eu/wp-content/uploads/2021/10/cohen-najnjowszyyy.jpg
END:VEVENT
BEGIN:VEVENT
DTSTART;TZID=Europe/Warsaw:20220423T190000
DTEND;TZID=Europe/Warsaw:20220423T210000
DTSTAMP:20260423T023941
CREATED:20220407T092831Z
LAST-MODIFIED:20220407T092831Z
UID:3151-1650740400-1650747600@pokladykultury.eu
SUMMARY:Koncert "Wspólnie dla Ukrainy"
DESCRIPTION:Pub Oficyna zaprasza na niezwykły koncert charytatywny „Gramy dla Ukrainy”. Celem wydarzenia jest zbiórka funduszy na pomoc ukraińskim rodzinom\, które zamieszkały w Zabrzu. \n \nW trakcie koncertu na scenie Oficyny wystąpią:\n Chór Mieszany „Klaster” pod dyrekcją Łukasza Łobody\n Zespół kameralny Parafii E-A Varia Consort pod Dyrekcją Łukasza Ungera\n Rokotus\n Borek\n Meinusch Project\n Evil Walks AC/DC Cover Band\nDodatkowo:\n Pokaz mody – Królestwo NELI\n LICYTACJE CHARYTATYWNE\nW trakcie wydarzenia będziemy zbierać środki dla ukraińskich rodzin z Zabrza\, w tym dla Kristiny i Jarosława\, którzy zamieszkali w Zabrzu wraz ze swoimi dziećmi – Damian (3 lata)\, Karolina (6 lat)\, David (8 lat)\, Dominik (10 lat)\, Daniel (12 lat) i Veronika (17 lat).\n\nWydarzenie jest wspólnym przedsięwzięciem zabrzańskich organizacji pozarządowych\, w skład których wchodzą:\n Stowarzyszenie Wspólnie dla Zabrzan\n Stowarzyszenie Miasto Marzeń\n Stowarzyszenie Otoczka\n Fundacja Piastun\n Zespół Meinusch Project
URL:https://pokladykultury.eu/event/koncert-wspolnie-dla-ukrainy/
LOCATION:Pub Oficyna\, ul. Wolności 211 a\, Zabrze\, śląskie\, 41-800\, Poland
ATTACH;FMTTYPE=image/jpeg:https://pokladykultury.eu/wp-content/uploads/2022/04/Wspolnie-dla-Ukrainy.jpg
END:VEVENT
BEGIN:VEVENT
DTSTART;TZID=Europe/Warsaw:20220424T200000
DTEND;TZID=Europe/Warsaw:20220425T015900
DTSTAMP:20260423T023941
CREATED:20220301T070415Z
LAST-MODIFIED:20220301T070830Z
UID:2775-1650830400-1650851940@pokladykultury.eu
SUMMARY:Nocny Kochanek
DESCRIPTION:Nocny Kochanek i Batna w Zabrzu\, w Kopalni Guido. Już 24 kwietnia.\nBilety dostępne tylko w sprzedaży online: 69 PLN przedsprzedaż / 79 PLN w dniu koncertu.\n \nHARMONOGRAM:\n18:00 – BRAMKA\n19:00 – 19:45 – BATNA\n20:15 – 21:45 – NOCNY KOCHANEK\nBilety: https://goingapp.pl/…/nocny-kochanek-gliwice/kwiecien-2022\nFacebook: www.facebook.com/nocnykochanek\nYouTube: www.youtube.com/c/NocnyKochanek\nStrona internetowa: www.nocnykochanek.pl\n \n\nNocny Kochanek to pod względem muzycznym klasyczny heavy metal inspirowany gigantami gatunku\, co słychać na pierwszy rzut… ucha. Teksty zawierają specyficzny nocno-kochankowy humor i zazwyczaj opierają się na faktach\, czasami nawet autentycznych..! Wykorzystując humor bazujący często na pastiszu\, grach językowych i abstrakcji\, Nocny Kochanek rysuje obraz polskiej subkultury metalowej z ogromnym dystansem do samych siebie oraz do wizerunku kojarzonego zazwyczaj z klasycznym heavy metalem. \nZespół Batna powstał z początkiem 2020 roku. W bardzo krótkim czasie zespół wypracował repertuar składający się z 10 utworów\, który według planu będzie materiałem na pełnowymiarową płytę. Ich muzyka jest prostym\, bezkompromisowym rockiem z elementami metalowego pazura. Początkiem bieżącego roku Batna zadebiutowała w serwisie YouTube z klipem do utworu „Krzycz\, kiedy trzeba”. W maju 2021 roku po raz pierwszy pojawili się w programie „Świeży Towar w Antyradiu” Marcina Bąkiewicza – dyrektora muzycznego tej rozgłośni radiowej. To właśnie antenie Antyradia zespół pojawił się z kawałkiem „Efekt Domina”. Zespół wziął udział w półfinale Antyfestu Antyradia\, a dzięki licznej grupie wiernych fanów Batna weszła do finału\, co dało im możliwość zagrania na Letniej Scenie Progresji w Warszawie. Finał okazał się nieoczekiwanym zwrotem w krótkiej karierze kapeli\, która została zwycięzcą Antyfestu Antyradia 2021 i laureatem „Złotej Kosy” – jednej z najbardziej prestiżowych nagród gitarowych brzmień.\nWygrana nie tylko zaowocowała dużym krokiem naprzód\, ale dała chłopakom szansę zagrać na dużej scenie podczas Festiwalu Pol’and’Rock\, na której\, jak wszyscy wiemy\, zagrała niejedna gwiazda światowego formatu. Jedną z nagród oferowanych przez Antyradio było nagranie płyty pod okiem producenta\, Andrzeja Puczyńskiego z Izabelin Studio.\nAktualnie zespół zarejestrował swój materiał na pierwszy album\, którego premiera planowana jest na maj. Do tego czasu chłopaki maja do zagrania dość intensywną trasę koncertową\, która ma być prologiem do trasy promującej nowy krążek kapeli. \n\nW skład zespołu wchodzą:\nMarcin Zmorzyński – wokal\, Łukasz Biedroń – gitara prowadząca\, Łukasz Pierwoła – gitara rytmiczna\, Piotr Antos – gitara basowa\, Sławek Biernat – perkusja.\nMożna nas śledzić na bieżąco tutaj:\nFB:\nwww.facebook.com/batna.band/\nIG:\nwww.instagram.com/batna_official/\nMożna nas posłuchać na: YT\, Spotify\, Apple Music\, Tidal\, Amazon Music.
URL:https://pokladykultury.eu/event/nocny-kochanek/
LOCATION:Kopalnia Guido\, ul. 3 Maja 93\, Zabrze\, śląskie\, 41-800\, Poland
ATTACH;FMTTYPE=image/jpeg:https://pokladykultury.eu/wp-content/uploads/2022/03/Nocny-kochanek.jpg
END:VEVENT
END:VCALENDAR