BEGIN:VCALENDAR
VERSION:2.0
PRODID:-//Pokładykultury.eu - ECPv5.16.3.1//NONSGML v1.0//EN
CALSCALE:GREGORIAN
METHOD:PUBLISH
X-WR-CALNAME:Pokładykultury.eu
X-ORIGINAL-URL:https://pokladykultury.eu
X-WR-CALDESC:Wydarzenia dla Pokładykultury.eu
REFRESH-INTERVAL;VALUE=DURATION:PT1H
X-Robots-Tag:noindex
X-PUBLISHED-TTL:PT1H
BEGIN:VTIMEZONE
TZID:Europe/Warsaw
BEGIN:DAYLIGHT
TZOFFSETFROM:+0100
TZOFFSETTO:+0200
TZNAME:CEST
DTSTART:20220327T010000
END:DAYLIGHT
BEGIN:STANDARD
TZOFFSETFROM:+0200
TZOFFSETTO:+0100
TZNAME:CET
DTSTART:20221030T010000
END:STANDARD
END:VTIMEZONE
BEGIN:VEVENT
DTSTART;TZID=Europe/Warsaw:20220514T210000
DTEND;TZID=Europe/Warsaw:20220514T230000
DTSTAMP:20260423T114558
CREATED:20211001T063642Z
LAST-MODIFIED:20211001T063642Z
UID:1427-1652562000-1652569200@pokladykultury.eu
SUMMARY:A Tribute to Whitney Houston
DESCRIPTION:Showtime Australia prezentuje chwalony przez krytyków koncert honorujący talent\, muzykę i pamięć Whitney. Muzyczna spuścizna Whitney Houston zostaje ponownie przedstawiona w tym wspaniałym Tribute Show\, często określanym jako „niesamowity”\, „wspaniały”. \nDajcie się zaskoczyć zapierającym dech w piersiach wokalem Belindy Davids – artystki\, która znalazła się na szczycie list przebojów RiSA w jej rodzinnym kraju RPA – oraz wystąpiła m.in. w programie Fox TV „Showtime at the Apollo” i Telewizji BBC1 „Jeszcze lepsza niż prawdziwa”. \nPrzy „żywym” akompaniamencie zespołu\, wokalistów wspierających i tancerzy\, a także wspaniałej realizacji dźwięku i świateł\, wizji i efektach teatralnych\, będziecie uczestniczyć w pięknie wykonanym Tribute dla jednej z najbardziej uznanych wokalistek na świecie. \nDwugodzinne widowisko wypełni Cię radością\, nostalgią i zachwytem\, zabierając Cię w sentymentalną podróż przez największe przeboje Houston\, w tym: „I will Always Love You”\, „ I Wanna Dance With Somebody”\, „How Will I Know”\, „One Moment In Time”\, „I Have Nothing”\, „Run To You”\, „Didn’t We Almost Have It All”\, „Greatest Love Of All”\, „I Am Every Woman”\, „Queen Of The Night”\, „Exhale (Shoop Shoop)”\, Million Dollar Bill” i wiele innych.
URL:https://pokladykultury.eu/event/a-tribute-to-whitney-houston/
LOCATION:Dom Muzyki i Tańca w Zabrzu\, ul. Gen. de Gaulle'a 17\, Zabrze\, śląskie\, 41-800\, Poland
ATTACH;FMTTYPE=image/jpeg:https://pokladykultury.eu/wp-content/uploads/2021/10/whitney.jpg
END:VEVENT
BEGIN:VEVENT
DTSTART;TZID=Europe/Warsaw:20220515T170000
DTEND;TZID=Europe/Warsaw:20220515T210000
DTSTAMP:20260423T114558
CREATED:20220502T060344Z
LAST-MODIFIED:20220502T060344Z
UID:3357-1652634000-1652648400@pokladykultury.eu
SUMMARY:Holi Święto Kolorów w Zabrzu
DESCRIPTION:Wracamy w sezonie 2022 z dobrymi wiadomościami. W końcu imprezy Holi bez limitów covidowych. \nOficjalnie informujemy – Holi Święto Kolorów odbędzie się na Kąpielisku Leśnym już 15 maja 2022. Pora zapisać sobie tę datę w kalendarzach. Ten dzień na pewno długo pozostanie w Waszych głowach.\n \n𝙎𝙥𝙧𝙖𝙬𝙙𝙯́ 𝙘𝙤 𝙥𝙧𝙯𝙮𝙜𝙤𝙩𝙤𝙬𝙖𝙡𝙞𝙨́𝙢𝙮:\n Przygotowaliśmy dla Was aż 9 kolorów proszków\n Nasi DJe zagrają tak\, abyście nawet na moment nie przestali się bawić\n Kolorowa wata cukrowa\n Kolorowe okulary\n Bazooki CO2\n Strefa foodtruck\n \nDaj się ponieść kolorowemu szaleństwu! Przyjdź ze swoimi znajomymi i wspólnie pokolorujcie się nawzajem w rytm najlepszej muzyki granej przez naszych DJów!\n \n𝗖𝘇𝗮𝘀 𝗻𝗮 𝗽𝗼𝗱𝘀𝘂𝗺𝗼𝘄𝗮𝗻𝗶𝗲!\n 15 maja 2022\n 15.00 – 19.00\n Kąpielisko Leśne\n bezpłatny wstęp \n \nUWAGA! Ze względów bezpieczeństwa na teren imprezy obowiązuje zakaz wnoszenia własnych proszków.
URL:https://pokladykultury.eu/event/holi-swieto-kolorow-w-zabrzu/
LOCATION:Kąpielisko Leśne\, ul. Srebrna 10\, Zabrze\, śląskie\, 41-800\, Poland
ATTACH;FMTTYPE=image/jpeg:https://pokladykultury.eu/wp-content/uploads/2022/05/Holi.jpg
END:VEVENT
BEGIN:VEVENT
DTSTART;TZID=Europe/Warsaw:20220522T120000
DTEND;TZID=Europe/Warsaw:20220522T200000
DTSTAMP:20260423T114558
CREATED:20220502T061503Z
LAST-MODIFIED:20220502T063125Z
UID:3363-1653220800-1653249600@pokladykultury.eu
SUMMARY:Piknik Przyjaźni
DESCRIPTION:Niedziela\, maj\, słoneczko. To może oznaczać tylko jedno idealne warunki na piknik.\n22 maja w Parku 12C Sztolni Królowa Luiza odbędzie się Piknik Przyjaźni (polsko-ukraińskiej).Smakoszy  z pewnością zainteresuje zestawienie smaków kuchni ukraińskiej z kuchnią polską!\nDla najmłodszych przygotowaliśmy mnóstwo atrakcji na świeżym powietrzu:\n– warsztaty dla dzieci\n– skakanie w gumę \n– wyścigi w workach\n– grę trenową\n \nCzas spakować kocyk i wybrać się do nas! Jeśli nie masz swojego nic straconego\, zadbamy o kocyki\, superową atmosferę\, pyszną kuchnię i muzykę!\n \nStartujemy o 11:00 występem Orkiestry Muzeum Górnictwa Węglowego w Zabrzu\, a na koniec… koncert.\nO 17:00 specjalnie dla Was na scenie wystąpią KUCZERYKI.\n \nFolkowy klimat ich utworów\, w których słychać inspirację śląskimi kominami\, beskidzkimi polanami i ukraińskimi wsiami pozwoli Wam w pełni poczuć klimat naszego pikniku.\n \nDo zobaczenia! – Побачимось!\n \nWstęp wolny.
URL:https://pokladykultury.eu/event/piknik-przyjazni/
LOCATION:Park 12C\, Sztolnia Królowa Luiza\, ul. M. Mochnackiego 12\, Zabrze\, śląskie\, 41-800\, Poland
ATTACH;FMTTYPE=image/jpeg:https://pokladykultury.eu/wp-content/uploads/2022/05/Piknik-przyjazni.jpg
END:VEVENT
BEGIN:VEVENT
DTSTART;TZID=Europe/Warsaw:20220527T210000
DTEND;TZID=Europe/Warsaw:20220527T230000
DTSTAMP:20260423T114558
CREATED:20220207T100040Z
LAST-MODIFIED:20220207T100040Z
UID:2556-1653685200-1653692400@pokladykultury.eu
SUMMARY:Wesoła Wdówka
DESCRIPTION:Nie lada gratka szykuje się dla miłośników operetki. Ten szczególnie chyba ulubiony przez widzów sceniczny utwór muzyczny z dialogami\, pozornie zbliżony do opery\, ale charakteryzujący się lekką\, melodyjną muzyką i komediową akcją\, znów zagości w Domu Muzyki i Tańca. Już w styczniu na zabrzańskiej scenie planowany jest bowiem spektakl operetkowy do muzyki Franza Lehara „Wesoła wdówka”. \nTa znana i bardzo lubiana przez publiczność operetka prapremierę miała 30 grudnia 1905 r. w Wiedniu. Już po niespełna roku grana była na scenie w Warszawie. Początkowo opinie publiczności\, jak i krytyków były niepochlebne o utworze\, jednak „Wesoła wdówka” szybko zyskała ogromną popularność. Dzisiaj refren słynnego duetu dwójki głównych bohaterów – Hanny Glawari oraz hrabiego Daniły – „Usta milczą\, dusza śpiewa”\, potrafi zanucić chyba każdy. \nChociaż trudno w to uwierzyć operetka „Wesoła Wdówka” długo czekała na miano arcydzieła gatunku. Dopiero po stu zagranych spektaklach Wiedeń oszalał – sale pękały w szwach\, w kawiarniach orkiestry grały melodie z Wdówki\, sprzedawano kapelusze\, buty\, cygara\, perfumy a la Wesoła Wdówka. Operetka z wielkim powodzeniem grana jest do dziś i urzeka wspaniałymi melodiami. \nLibretto wzorowane na francuskiej powieści komediowej zabiera widzów w świat paryskich salonów z początku XX wieku\, w środowisko śmietanki towarzyskiej\, gdzie pije się szampana\, plotkuje\, flirtuje\, knuje intrygi i przeżywa romanse. Piękna i młoda Hanna Glawari to bajecznie bogata wdowa\, która przyjeżdża do Paryża z księstwa Pontevedry\, wprowadzając w społeczność paryskich elit niemałe zamieszanie. Plotka bowiem głosi\, że kobieta przyjeżdża by poznać miłość swojego życia. To jednak nie jest w smak ministrowi skarbu Pontevedry\, który pragnie by miliony wdówki pozostały w kraju. Widzowie stają się świadkami szeregu intryg i sekretów\, mających na celu odwieść Hannę od małżeństwa. Historia opowiedziana jest z właściwą dla operetki lekkością\, okraszona wpadającymi w ucho melodiami Lehara\, pełna humoru lecz również obfitująca w muzyczne uniesienia. Jak potoczą się ostatecznie losy Hanny i jej majątku? By się o tym przekonać\, najlepiej przyjść na zabrzański spektakl do Domu Muzyki i Tańca i spotkać się na żywo z jego bohaterami. \n 
URL:https://pokladykultury.eu/event/wesola-wdowka-2/
LOCATION:Dom Muzyki i Tańca w Zabrzu\, ul. Gen. de Gaulle'a 17\, Zabrze\, śląskie\, 41-800\, Poland
ATTACH;FMTTYPE=image/jpeg:https://pokladykultury.eu/wp-content/uploads/2022/02/wesola-wdowka-nowa-data.jpg
END:VEVENT
BEGIN:VEVENT
DTSTART;TZID=Europe/Warsaw:20220530T193000
DTEND;TZID=Europe/Warsaw:20220530T204500
DTSTAMP:20260423T114558
CREATED:20220505T053044Z
LAST-MODIFIED:20220505T053044Z
UID:3416-1653939000-1653943500@pokladykultury.eu
SUMMARY:Magiczny koncert - Bajki Świata
DESCRIPTION:Kino Roma zaprasza na niezwykłą muzyczną podróż w świat ulubionych bajek\, podczas której bohaterowie zejdą z ekranu\, by podzielić się najpiękniejszymi i najbardziej znanymi utworami. \n \nPoczynając od Stumilowego Lasu\, który zwiedzimy w towarzystwie Kubusia Puchatka\, wpłyniemy na wielkie wody południowego Pacyfiku pod przywództwem legendarnej Vaiany\, by przez chwilę zanurkować z Małą Syrenką w niezmierzonych\, morskich głębinach. Następnie wskakując na latający dywan wraz z Aladynem dolecimy aż do indiańskiej wioski Pocahontas. Nagle Zaplątani na lianie z Tarzanem wylądujemy na gorącej Sawannie\, gdzie panuje słynny Król Lew\, by potem ochłodzić się w mroźniej Krainie Lodu…\n \n\n\nWidowisko pełne kolorowych strojów\, baniek mydlanych\, śniegu\, dymu\, śmieszne dialogi\, wspólna zabawa\, namalują uśmiechy na twarzach młodych widzów. Widowisko przeznaczone dla dzieci i młodzieży.\n \nKoncert ma na celu pobudzić i rozwijać wyobraźnię oraz ciekawość poznawczą dziecka oraz zachęcić do aktywnego uczestniczenia w życiu kulturalnym m.in poprzez:\n\n\n\nUwrażliwianie na przeżycia estetyczne\,\nDostarczanie\, za pomocą fragmentów bajek\, nowej wiedzy o świecie i o innych ludziach\, co pomaga zrozumieć ich postawy i zachowania\,\nUczenie przestrzegania zakazów i bycia dobrym – w bajkach świat jest sprawiedliwy i rządzony według jednoznacznych reguł\, szlachetność jest nagradzana\,\nUwrażliwianie na odpowiednie zachowania społeczne poprzez obserwacje zachowań bohaterów bajek\,\nUtożsamianie się z ulubionymi bohaterami bajek\,\nOdreagowywanie napięć – relaks\, odprężenie\, zabawa\,\nRozwijanie wrażliwości słuchowej i umiejętności odbierania muzyki\,\nKształcenie zainteresowań muzycznych\,\nOgólne kształtowanie i rozwijanie słuchu muzycznego\,\nRozbudzanie zamiłowań do indywidualnego i zbiorowego muzykowania\,\nWdrażanie do aktywności artystycznej kulturalnego wykorzystania wolnego czasu.\n\n\n\nDzieci do lat 2 wchodzą za darmo\, miejsce na kolanach opiekuna.\n\n\nCzas trwania ok. 75 minut\n\n\n \nbiletyna: https://bilety.io/ayCaX\nkup bilecik: https://www.kupbilecik.pl/…/Magiczny+Koncert+-+Bajki…/
URL:https://pokladykultury.eu/event/magiczny-koncert-bajki-swiata/
LOCATION:Kino Roma\, ul. Z. Padlewskiego 4\, Zabrze\, śląskie\, 41-800\, Poland
ATTACH;FMTTYPE=image/jpeg:https://pokladykultury.eu/wp-content/uploads/2022/05/Koncert-bajki.jpg
END:VEVENT
END:VCALENDAR