BEGIN:VCALENDAR
VERSION:2.0
PRODID:-//Pokładykultury.eu - ECPv5.16.3.1//NONSGML v1.0//EN
CALSCALE:GREGORIAN
METHOD:PUBLISH
X-ORIGINAL-URL:https://pokladykultury.eu
X-WR-CALDESC:Wydarzenia dla Pokładykultury.eu
REFRESH-INTERVAL;VALUE=DURATION:PT1H
X-Robots-Tag:noindex
X-PUBLISHED-TTL:PT1H
BEGIN:VTIMEZONE
TZID:Europe/Warsaw
BEGIN:DAYLIGHT
TZOFFSETFROM:+0100
TZOFFSETTO:+0200
TZNAME:CEST
DTSTART:20220327T010000
END:DAYLIGHT
BEGIN:STANDARD
TZOFFSETFROM:+0200
TZOFFSETTO:+0100
TZNAME:CET
DTSTART:20221030T010000
END:STANDARD
END:VTIMEZONE
BEGIN:VEVENT
DTSTART;TZID=Europe/Warsaw:20220604T200000
DTEND;TZID=Europe/Warsaw:20220604T220000
DTSTAMP:20260422T232837
CREATED:20220512T082751Z
LAST-MODIFIED:20220512T082751Z
UID:3504-1654372800-1654380000@pokladykultury.eu
SUMMARY:Pictures of Poland
DESCRIPTION:Dom Muzyki i Tańca w Zabrzu zaprasza na wyjątkowy spektakl baletowy „Pictures of Poland”\, będący choreograficzno-plastyczną opowieścią o dziejach Polski i Polaków.\n  \nSpektakularne widowisko odnoszące się do wartości narodowych\, takich jak: wolność\, solidarność\, ofiarność czy duma zabierze widzów w podróż po najciekawszych wydarzeniach począwszy od powstania Państwa Polskiego\, aż do czasów współczesnych.\n  \nBaletowy teatr symboli zbudowany na bazie najistotniejszych historycznie wydarzeń dając możliwość śledzenia polskich losów nie pozwala się nudzić\, pełni tym samym znakomite funkcje popularyzatorskie oraz edukacyjne.\n  \nWarto wspomnieć\, iż muzyczną podstawę spektaklu tworzy album „Poland” grupy Tangerine Dream\, grającej elektroniczną muzykę o charakterze symfonicznego rocka. ​Z kolei pomysłodawcą\, reżyserem i choreografem widowiska jest Artur Żymełka – nagrodzony Teatralną Nagrodą Muzyczną im. Jana Kiepury w kategorii „Najlepszy choreograf” oraz Złotą Maską w kategorii „Przedstawienie roku 2021” – za wyreżyserowany spektakl baletowy Sól Ziemi Czarnej.\n  \nPołączenie wyjątkowej muzyki z tematyką spektaklu sprawi\, iż czekają na Państwa niesamowite wrażenia!
URL:https://pokladykultury.eu/event/pictures-of-poland/
LOCATION:Dom Muzyki i Tańca w Zabrzu\, ul. Gen. de Gaulle'a 17\, Zabrze\, śląskie\, 41-800\, Poland
ATTACH;FMTTYPE=image/jpeg:https://pokladykultury.eu/wp-content/uploads/2022/05/plakat_picures.jpg
END:VEVENT
BEGIN:VEVENT
DTSTART;TZID=Europe/Warsaw:20220610T200000
DTEND;TZID=Europe/Warsaw:20220610T210000
DTSTAMP:20260422T232837
CREATED:20220606T053356Z
LAST-MODIFIED:20220606T053356Z
UID:3860-1654891200-1654894800@pokladykultury.eu
SUMMARY:Koncert na zakończenie sezonu 2021/2022
DESCRIPTION:W piątek\, 10 lipca na estradzie Filharmonii Zabrzańskiej wystąpi jeden z najbardziej cenionych\, polskich saksofonistów – Paweł Gusnar. \nSaksofonista\, kameralista\, pedagog\, profesor doktor habilitowany. Od roku 2003 pracuje w Uniwersytecie Muzycznym Fryderyka Chopina w Warszawie oraz w Akademii Muzycznej im. Grażyny i Kiejstuta Bacewiczów w Łodzi. Jest artystą wszechstronnym\, otwartym na różne style i formy ekspresji. Na równie wysokim poziomie łączy działalność na polu muzyki klasycznej\, jazzowej i rozrywkowej. Jest propagatorem muzyki współczesnej\, inspiratorem i pierwszym wykonawcą wielu dzieł polskich kompozytorów (dla niego powstało ponad 80 utworów\, w tym aż 16 na saksofon z orkiestrą). \nZasiada w jury konkursów i prowadzi kursy mistrzowskie w najlepszych ośrodkach muzycznych świata – od Korei Południowej i Chin\, przez liczne kraje europejskie\, po Zjednoczone Emiraty Arabskie i USA. W dorobku ma ponad 60 płyt CD\, w tym blisko 20 autorskich i współautorskich. Jest zdobywcą czterech „Fryderyków” (2014\, 2015\, 2016\, 2019)\, Armatki Kultury za rok 2019 (za płytę Masses\, DUX 1613)\, Pizzicato Supersonic Award (2009). Trzykrotnie był nominowany do tytułu Koryfeusza Muzyki Polskiej (2014\, 2015\, 2017). Uzyskał także nominację do International Classical Music Awards 2020 oraz do Wrocławskiej Nagrody Muzycznej (2017). Jest założycielem i dyrygentem Warsaw Saxophone Orchestra\, z którą koncertuje w Polsce i za granicą. Angażuje się w działania popularyzujące naukę\, kulturę i sztukę. \nPodczas koncertu artysta wykona utwory Astora Piazzolli (\,\,Tango Ballet”) i George’a Gershwina (suita \,\,Porgy and Bess”). W drugiej części wieczoru zabrzmi słynna IX Symfonia e- moll- „Z Nowego Świata” Antonina Dworzaka. \nOrkiestrę od pulpitu jak i cały koncert od mikrofonu poprowadzi Sławomir Chrzanowski. \nBilety w cenie 40 i 30 zł do nabycia w kasie.
URL:https://pokladykultury.eu/event/koncert-na-zakonczenie-sezonu-2021-2022/
LOCATION:Filharmonia Zabrzańska\, Park Hutniczy 7\, Zabrze\, śląskie\, 41-800\, Poland
ATTACH;FMTTYPE=image/jpeg:https://pokladykultury.eu/wp-content/uploads/2021/07/Filharmonia.jpg
END:VEVENT
BEGIN:VEVENT
DTSTART;TZID=Europe/Warsaw:20220623T210000
DTEND;TZID=Europe/Warsaw:20220624T000000
DTSTAMP:20260422T232837
CREATED:20220623T061923Z
LAST-MODIFIED:20220623T061923Z
UID:3969-1656018000-1656028800@pokladykultury.eu
SUMMARY:Muzyczny Czwartek - Cocotier
DESCRIPTION:Artystyczna w Zabrzu zaprasza na Muzyczny Czwartek – Cocotier.\n\n \n„COCOTIER”- po francusku oznacza „palmę kokosową” czy „mieć palmę na jakimś punkcie”. Jak twierdzą członkowie grupy nazwa ta doskonale oddaje ich artystyczną pasję. Zespół funkcjonuje jako trio gitarowe: Andrzej Krośniak – gitara\, Krzysztof Cisowski – gitara\, Dariusz Stepanik – instrumenty perkusyjne.\nNa koncertach i płytach powstaje improwizowana mieszanka\, muzyka pełna energii i rytmu\, dynamiczna a zarazem delikatna i klimatyczna\, utrzymana w stylu z pogranicza gitary klasycznej\, flamenco\, folku\, jazzu\, gypsy jazzu\, ECM i innym.\n \n\nWSTĘP WOLNY!\nRezerwacja stolików: 534 148 555.\n 
URL:https://pokladykultury.eu/event/muzyczny-czwartek-cocotier/
LOCATION:Artystyczna Zabrze\, ul. gen de Gaulle'a 17\, Zabrze\, śląskie\, 41-800\, Poland
ATTACH;FMTTYPE=image/jpeg:https://pokladykultury.eu/wp-content/uploads/2022/06/Cocotier.jpg
END:VEVENT
END:VCALENDAR