BEGIN:VCALENDAR
VERSION:2.0
PRODID:-//Pokładykultury.eu - ECPv5.16.3.1//NONSGML v1.0//EN
CALSCALE:GREGORIAN
METHOD:PUBLISH
X-ORIGINAL-URL:https://pokladykultury.eu
X-WR-CALDESC:Wydarzenia dla Pokładykultury.eu
REFRESH-INTERVAL;VALUE=DURATION:PT1H
X-Robots-Tag:noindex
X-PUBLISHED-TTL:PT1H
BEGIN:VTIMEZONE
TZID:Europe/Warsaw
BEGIN:DAYLIGHT
TZOFFSETFROM:+0100
TZOFFSETTO:+0200
TZNAME:CEST
DTSTART:20220327T010000
END:DAYLIGHT
BEGIN:STANDARD
TZOFFSETFROM:+0200
TZOFFSETTO:+0100
TZNAME:CET
DTSTART:20221030T010000
END:STANDARD
END:VTIMEZONE
BEGIN:VEVENT
DTSTART;TZID=Europe/Warsaw:20220804T210000
DTEND;TZID=Europe/Warsaw:20220804T230000
DTSTAMP:20260422T062135
CREATED:20220623T062938Z
LAST-MODIFIED:20220623T063005Z
UID:3976-1659646800-1659654000@pokladykultury.eu
SUMMARY:TEQUILA SUNRISE
DESCRIPTION:Artystyczna zaprasza na koncert zespołu TEQUILA SUNRISE. \nZespół powstał wiosną 2016 roku z inicjatywy Andrzeja Żelaskiewicza i Michała Adamka. Dziesiątki koncertów w całej Polsce\, żywiołowe koncerty to wizytówka zespołu. Dyskografia grupy to kilka teledysków oraz singiel ” Dezynfekcja „. Początek roku to długo oczekiwana stabilizacja składu który obecnie prezentuje się następująco: \n\nAdamek Michał – śpiew i niestety gitara\nAndrzej Żelaskiewicz – gitary i niestety śpiew\nJacek ” Jackie” – potężny bas i chyba coś też ryczy w refrenach\nAndrzej Andrzejewski – niespotykanie spokojny perkusista\n\n….. 2022 to też rok poważnej premiery wydawniczej.
URL:https://pokladykultury.eu/event/tequila-sunrise/
LOCATION:Artystyczna Zabrze\, ul. gen de Gaulle'a 17\, Zabrze\, śląskie\, 41-800\, Poland
ATTACH;FMTTYPE=image/jpeg:https://pokladykultury.eu/wp-content/uploads/2022/06/Tequila.jpg
END:VEVENT
BEGIN:VEVENT
DTSTART;TZID=Europe/Warsaw:20220805T213000
DTEND;TZID=Europe/Warsaw:20220806T000000
DTSTAMP:20260422T062135
CREATED:20220802T095708Z
LAST-MODIFIED:20220802T095708Z
UID:4249-1659735000-1659744000@pokladykultury.eu
SUMMARY:Carnall Festival - koncert zespołu Mr. Beat
DESCRIPTION:Sztolnia Królowa Luiza zaprasza do najbardziej industrialnej strefy w Polsce\, która tego lata ponownie wypełnia się dźwiękami muzyki granej w ramach Carnall Festival.\n\n \n\n \nW piątek\, 5 lipca przeboje The Beatles\, zagrają dla chłopaki z Mr.Beat\, którym ze względu na pogodę\, nie udało się wystąpić tydzień temu.
URL:https://pokladykultury.eu/event/carnall-festival-koncert-zespolu-mr-beat/
LOCATION:Strefa Carnall\, Sztolnia Królowa Luiza\, ul. Wolności 408\, Zabrze\, śląskie\, 41-800\, Poland
ATTACH;FMTTYPE=image/jpeg:https://pokladykultury.eu/wp-content/uploads/2022/08/Mr-Beat-nowy-termin.jpg
END:VEVENT
BEGIN:VEVENT
DTSTART;TZID=Europe/Warsaw:20220806T213000
DTEND;TZID=Europe/Warsaw:20220807T000000
DTSTAMP:20260422T062135
CREATED:20220802T100329Z
LAST-MODIFIED:20220802T100329Z
UID:4252-1659821400-1659830400@pokladykultury.eu
SUMMARY:Carnall Festival – koncert zespołu Kraków Street Band
DESCRIPTION:Sztolnia Królowa Luiza zaprasza do najbardziej industrialnej strefy w Polsce\, która tego lata ponownie wypełnia się dźwiękami muzyki granej w ramach Carnall Festival.\n \nW sobotę\, 6 lipca koncert zespołu Kraków Street Band.
URL:https://pokladykultury.eu/event/carnall-festival-koncert-zespolu-krakow-street-band-2/
LOCATION:Strefa Carnall\, Sztolnia Królowa Luiza\, ul. Wolności 408\, Zabrze\, śląskie\, 41-800\, Poland
ATTACH;FMTTYPE=image/jpeg:https://pokladykultury.eu/wp-content/uploads/2022/08/Krakow-Street-Band.jpg
END:VEVENT
BEGIN:VEVENT
DTSTART;TZID=Europe/Warsaw:20220818T210000
DTEND;TZID=Europe/Warsaw:20220818T230000
DTSTAMP:20260422T062135
CREATED:20220817T072914Z
LAST-MODIFIED:20220817T072914Z
UID:4355-1660856400-1660863600@pokladykultury.eu
SUMMARY:Letnia Scena w Szybie Maciej
DESCRIPTION:Szyb Maciej zaprasza na koncert Krzysztofa Kaczora.\nKoncert odbędzie się w ramach cyklu bezpłatnych koncertów organizowanych co czwartek w Szybie Maciej.\n \nZapraszamy
URL:https://pokladykultury.eu/event/letnia-scena-w-szybie-maciej-2/
LOCATION:Szyb Maciej\, ul. Srebrna 6\, Zabrze\, śląskie\, 41-800\, Poland
ATTACH;FMTTYPE=image/jpeg:https://pokladykultury.eu/wp-content/uploads/2022/08/Letnia-scena_Krzysztof-Kaczor.jpg
END:VEVENT
BEGIN:VEVENT
DTSTART;TZID=Europe/Warsaw:20220820T213000
DTEND;TZID=Europe/Warsaw:20220820T233000
DTSTAMP:20260422T062135
CREATED:20220817T065730Z
LAST-MODIFIED:20220817T065730Z
UID:4351-1661031000-1661038200@pokladykultury.eu
SUMMARY:Carnall Festivall - koncert BOOGIE BOYS
DESCRIPTION:Muzyczne lato w zrewitalizowanej strefie Carnall trwa. W każdą sobotę lata najbardziej industrialna strefa w Polsce wypełnia się dźwiękami muzyki. \nJuż w najbliższą sobotę\, 20 sierpnia zapraszamy na koncert zespołu BOOGIE BOYS (blues i rock and roll). \nNa wszystkich spragnionych uczty muzycznej czeka też i strefa gastro. \n 
URL:https://pokladykultury.eu/event/carnall-festivall-koncert-boogie-boys/
LOCATION:Strefa Carnall\, Sztolnia Królowa Luiza\, ul. Wolności 408\, Zabrze\, śląskie\, 41-800\, Poland
ATTACH;FMTTYPE=image/png:https://pokladykultury.eu/wp-content/uploads/2022/08/8-20.08.2022-KRAKOW-BOOGIE-BOYS.png
END:VEVENT
BEGIN:VEVENT
DTSTART;TZID=Europe/Warsaw:20220827T200000
DTEND;TZID=Europe/Warsaw:20220828T000000
DTSTAMP:20260422T062135
CREATED:20220824T073935Z
LAST-MODIFIED:20220824T073935Z
UID:4387-1661630400-1661644800@pokladykultury.eu
SUMMARY:Carnall Festival 22 - Grubson i Smolik/Kev Fox
DESCRIPTION:Sztolnia Królowa Luiza zaprasza na WIELKI FINAŁ Carnall Festival 2022.\nNa zakończenie wakacji na dużej scenie w Strefie Carnall wystąpią dla Was Grubson i SMOLIK / KEV FOX.\n \nNa wszystkich spragnionych uczty muzycznej czeka też i strefa gastro.\n \nZapraszamy!\n 
URL:https://pokladykultury.eu/event/carnall-festival-22-grubson-i-smolik-kev-fox/
LOCATION:Strefa Carnall\, Sztolnia Królowa Luiza\, ul. Wolności 408\, Zabrze\, śląskie\, 41-800\, Poland
ATTACH;FMTTYPE=image/jpeg:https://pokladykultury.eu/wp-content/uploads/2022/08/Carnall-Festival_27.08.jpg
END:VEVENT
END:VCALENDAR