BEGIN:VCALENDAR
VERSION:2.0
PRODID:-//Pokładykultury.eu - ECPv5.16.3.1//NONSGML v1.0//EN
CALSCALE:GREGORIAN
METHOD:PUBLISH
X-WR-CALNAME:Pokładykultury.eu
X-ORIGINAL-URL:https://pokladykultury.eu
X-WR-CALDESC:Wydarzenia dla Pokładykultury.eu
REFRESH-INTERVAL;VALUE=DURATION:PT1H
X-Robots-Tag:noindex
X-PUBLISHED-TTL:PT1H
BEGIN:VTIMEZONE
TZID:Europe/Warsaw
BEGIN:DAYLIGHT
TZOFFSETFROM:+0100
TZOFFSETTO:+0200
TZNAME:CEST
DTSTART:20220327T010000
END:DAYLIGHT
BEGIN:STANDARD
TZOFFSETFROM:+0200
TZOFFSETTO:+0100
TZNAME:CET
DTSTART:20221030T010000
END:STANDARD
END:VTIMEZONE
BEGIN:VEVENT
DTSTART;TZID=Europe/Warsaw:20221202T180000
DTEND;TZID=Europe/Warsaw:20221202T200000
DTSTAMP:20260420T114222
CREATED:20221121T123750Z
LAST-MODIFIED:20221121T124025Z
UID:5658-1670004000-1670011200@pokladykultury.eu
SUMMARY:Koncert Muzyki Ormiańskiej
DESCRIPTION:Miejski Ośrodek Kultury zaprasza na koncert muzyki ormiańskiej. Koncert organizowany jest w ramach I Festiwalu kultury ormiańskiej. \nW programie koncert Sargisa Davtyana z zespołem „Armenian Folk Project” oraz zespołu folkowego „HabiArJan”. \nOrganizator: Ormiańsko-Polski Komitet Społeczny \nPartnerzy: Muzeum Górnictwa Węglowego w Zabrzu\, Kopalnia Guido\, Miejski Ośrodek Kultury w Zabrzu
URL:https://pokladykultury.eu/event/i-festiwal-kultury-ormianskiej/
LOCATION:Miejski Ośrodek Kultury w Zabrzu\, ul. 3 Maja 91a\, Zabrze\, śląskie\, 41-800\, Poland
ATTACH;FMTTYPE=image/jpeg:https://pokladykultury.eu/wp-content/uploads/2022/11/festiwal_kultury_rmiaskiej_baner_rgb-scaled.jpg
END:VEVENT
BEGIN:VEVENT
DTSTART;TZID=Europe/Warsaw:20221204T180000
DTEND;TZID=Europe/Warsaw:20221204T190000
DTSTAMP:20260420T114222
CREATED:20221122T093635Z
LAST-MODIFIED:20221122T093849Z
UID:5676-1670176800-1670180400@pokladykultury.eu
SUMMARY:Koncert kameralnej muzyki baroku
DESCRIPTION:Stowarzyszenie Kopalnia Sztuki zaprasza na jesienny koncert Fortepianarium. W niedzielę 4 grudnia o godzinie 17:00 podczas koncertu pn. “Koncert kameralnej muzyki baroku” 3x TRIO wystąpią: \nOlena Kholodkova (skrzypce)\, Natalia Kierakowicz (Skrzypce)\, Elżbieta Ziarnik (klawesyn); \nRodrigo Barata (recorder)\, Agata Sanchez (dessus de viole)\, Elżbieta Ziarnik (klawesyn); \noraz \nOlena Kholodkowa (skrzypce)\, Karina Krychun (viola da gamba)\, Elżbieta Ziarnik. \n  \nWięcej informacji znajduje się na stronach: \nhttps://fortepianarium.wordpress.com\nhttps://www.facebook.com/fortepianarium \noraz  \nwww.kopalniasztuki.com
URL:https://pokladykultury.eu/event/koncert-kameralnej-muzyki-baroku/
LOCATION:Fortepianarium\, ul. Hagera 41\, Zabrze\, śląskie\, 41-800\, Poland
ATTACH;FMTTYPE=image/jpeg:https://pokladykultury.eu/wp-content/uploads/2022/11/Fortepianarium-program-4-12.jpg
END:VEVENT
BEGIN:VEVENT
DTSTART;TZID=Europe/Warsaw:20221206T200000
DTEND;TZID=Europe/Warsaw:20221206T210000
DTSTAMP:20260420T114222
CREATED:20221206T093340Z
LAST-MODIFIED:20221206T093340Z
UID:5948-1670356800-1670360400@pokladykultury.eu
SUMMARY:#premieraNorthCape2022
DESCRIPTION:Już 16 grudnia pojawi się najnowszy utwór zespołu North Cape wraz z klipem! \nZapraszamy na spotkanie z muzykami na: \n\nYouTube\nSpotify\nDeezeer\nTidal\nApple Music i gdzie tylko chcecie!
URL:https://pokladykultury.eu/event/premieranorthcape2022/
LOCATION:online\, Poland
ATTACH;FMTTYPE=image/jpeg:https://pokladykultury.eu/wp-content/uploads/2022/12/North-Cape.jpg
END:VEVENT
BEGIN:VEVENT
DTSTART;TZID=Europe/Warsaw:20221208T200000
DTEND;TZID=Europe/Warsaw:20221208T220000
DTSTAMP:20260420T114222
CREATED:20221208T093319Z
LAST-MODIFIED:20221208T093319Z
UID:6004-1670529600-1670536800@pokladykultury.eu
SUMMARY:ANIA KARWAN SWOBODNIE TOUR
DESCRIPTION:Ania Karwan\, pracuje właśnie nad kolejnym albumem\, czego efekty usłyszymy w ciągu kilku najbliższych miesięcy.\nTymczasem\, zapraszamy na trasę koncertową\, zatytułowaną „Swobodnie”. \nSeria klubowych koncertów\, będzie stanowić przedsmak tego co usłyszymy na nowym krążku. Podczas koncertów\, usłyszymy nowe kompozycje – między innymi „Swobodnie” oraz „Papierosy”\, a także znane przeboje Ani w nowych\, niebanalnych aranżacjach.
URL:https://pokladykultury.eu/event/ania-karwan-swobodnie-tour/
LOCATION:Dom Muzyki i Tańca w Zabrzu\, ul. Gen. de Gaulle'a 17\, Zabrze\, śląskie\, 41-800\, Poland
ATTACH;FMTTYPE=image/jpeg:https://pokladykultury.eu/wp-content/uploads/2022/12/Ania-Karwan.jpg
END:VEVENT
BEGIN:VEVENT
DTSTART;TZID=Europe/Warsaw:20221210T190000
DTEND;TZID=Europe/Warsaw:20221210T200000
DTSTAMP:20260420T114222
CREATED:20221201T093653Z
LAST-MODIFIED:20221202T120918Z
UID:5907-1670698800-1670702400@pokladykultury.eu
SUMMARY:Koncert ukraińskiego zespołu Joryj Kloc
DESCRIPTION:Sztolnia Królowa Luiza zaprasza w sobotę\, 10 grudnia 2022\, godzina 18:00 na koncert ukraińskiego zespołu Joryj Kloc. \n  \nKoncert odbędzie się w Warsztacie Mechanicznym w Strefie Carnall. \nPodczas koncertu prowadzona będzie zbiórka słodyczy dla Dzieci z Ukrainy. \n  \nWstęp: bilet cegiełka do nabycia przed koncertem (30 zł)
URL:https://pokladykultury.eu/event/koncert-ukrainskiego-zespolu-joryj-kloc/
LOCATION:Strefa Carnall\, Sztolnia Królowa Luiza\, ul. Wolności 408\, Zabrze\, śląskie\, 41-800\, Poland
ATTACH;FMTTYPE=image/jpeg:https://pokladykultury.eu/wp-content/uploads/2022/12/Juryj-Kloc-2.jpg
END:VEVENT
END:VCALENDAR