BEGIN:VCALENDAR
VERSION:2.0
PRODID:-//Pokładykultury.eu - ECPv5.16.3.1//NONSGML v1.0//EN
CALSCALE:GREGORIAN
METHOD:PUBLISH
X-ORIGINAL-URL:https://pokladykultury.eu
X-WR-CALDESC:Wydarzenia dla Pokładykultury.eu
REFRESH-INTERVAL;VALUE=DURATION:PT1H
X-Robots-Tag:noindex
X-PUBLISHED-TTL:PT1H
BEGIN:VTIMEZONE
TZID:Europe/Warsaw
BEGIN:DAYLIGHT
TZOFFSETFROM:+0100
TZOFFSETTO:+0200
TZNAME:CEST
DTSTART:20210328T010000
END:DAYLIGHT
BEGIN:STANDARD
TZOFFSETFROM:+0200
TZOFFSETTO:+0100
TZNAME:CET
DTSTART:20211031T010000
END:STANDARD
END:VTIMEZONE
BEGIN:VEVENT
DTSTART;TZID=Europe/Warsaw:20211001T100000
DTEND;TZID=Europe/Warsaw:20211001T190000
DTSTAMP:20260425T033152
CREATED:20211001T070602Z
LAST-MODIFIED:20211001T070602Z
UID:1445-1633082400-1633114800@pokladykultury.eu
SUMMARY:GREGORIAN
DESCRIPTION:Setki koncertów\, mnóstwo ponadczasowych hitów i ponad 20 lat na scenie! Uwielbiany przez publiczność chór Gregorian zaprasza na wielką jubileuszową trasę koncertową która odbędzie się za rok. Usłyszymy najbardziej znane utwory muzyki POP i ROCK  poddane wyjątkowym interpretacjom i charakterystycznej gregoriańskiej mieszance średniowiecznego brzmienia\, bogaty repertuar grupy zawiera m.in. utwory: So Sad (Gregorian)\, Nothing Else Matters (Metallica)\, Moment of Peace (Gregorian)\, Join Me (HIM)\, Voyage Voyage (Desireless)\, Sadeness (Enigma)\, Angels (Robbie Williams)\, Forever Young (Alphaville)\, Let Down (Radiohead)\, Fix You (Coldplay) i wiele innych. Wraz z grupą na scenie wystąpi gościnnie znakomita wokalistka\, młodsza siostra Sarah Brightman\, – Amelia Brightman. Trasa została przygotowana z wielkim rozmachem\, a program artystyczny utrzymany jest w nadzwyczajnej gregoriańskiej atmosferze. Nie zabraknie zapierającej dech w piersi choreografii\, spektakularnych efektów scenicznych z użyciem ognia\, świateł i pirotechniki. \n \nChór Gregorian powstał na początku lat 90. XX wieku. Światowym sukcesem okazał się  oryginalny pomysł znanego producenta muzycznego\, Franka Petersena – połączenie średniowiecznych chorałów gregoriańskich z współczesną muzyką POP i ROCK. Już pierwszy album grupy – Masters of Chant\, przyniósł jej ogromną popularność –  status złotej płyty w 6 krajach Europy\, a w Portugalii okrył się platyną. Album dostał się również na prestiżową listę TOP 10 w dziesięciu krajach świata. Pozostając na fali sukcesu\, zespół wydał rok później drugi album – Masters of Chant – Chapter II. Okazało się\, że pomysł stylizowania utworów na śpiew liturgiczny zachwyca publiczność. Płyta została wydana w 19 krajach i powtórzyła niebywały sukces\, zdobywając złoto w 8 krajach Europy i platynę w Finlandii. Album dostał się na 6 miejsce TOP 10 najlepiej sprzedających się albumów\, a singiel Moment of Peace stał się spektakularnym hitem.\n \nTuż po opublikowaniu dwóch pierwszych płyt\, Frank Peterson\, Carsten Heusmann\, Jan-Eric Kohrs i Michael Soltau zaczęli przygotowania do produkcji trzeciego krążka. Podobnie jak w przypadku poprzednich albumów\, kompozycje zostały utrzymane w stylu średniowiecznego śpiewu liturgicznego wywodzącego się z Kościoła rzymskokatolickiego. Utwory muszą sprostać wielu regułom\, co jak widać\, w imponujący sposób wychodzi mnichom. W ich repertuarze znajdziemy cały przekrój muzycznego świata – od Stinga po Duran Duran. Oprócz serii Masters of Chant w dorobku zespołu są również takie pozycje jak album The Dark Side\, na którym pojawiły się cięższe brzmienia\, czy Gregorian Christmas: Chants & Motets – alternatywa do tradycyjnej muzyki bożonarodzeniowej.\n \nJuż za rok w styczniu 2022 roku polska publiczność ma szansę posłuchać tych wyjątkowych utworów na żywo!  Największe hity Gregorian oraz wyjątkowe efekty sceniczne zobaczymy podczas czterech koncertów w Polsce: w Warszawie\, Krakowie\, Zabrzu oraz Gdańsku. To spektakularne show Gregorian pozostaje na długo w pamięci. Koncerty GREGORIAN są obowiązkowym punktem w kalendarzu każdego miłośnika muzyki. Zapraszamy na największe przeboje muzyki rozrywkowej w nowej odsłonie!
URL:https://pokladykultury.eu/event/gregorian/
LOCATION:Dom Muzyki i Tańca w Zabrzu\, ul. Gen. de Gaulle'a 17\, Zabrze\, śląskie\, 41-800\, Poland
ATTACH;FMTTYPE=image/jpeg:https://pokladykultury.eu/wp-content/uploads/2021/10/gregorian.jpg
END:VEVENT
END:VCALENDAR