BEGIN:VCALENDAR
VERSION:2.0
PRODID:-//Pokładykultury.eu - ECPv5.16.3.1//NONSGML v1.0//EN
CALSCALE:GREGORIAN
METHOD:PUBLISH
X-ORIGINAL-URL:https://pokladykultury.eu
X-WR-CALDESC:Wydarzenia dla Pokładykultury.eu
REFRESH-INTERVAL;VALUE=DURATION:PT1H
X-Robots-Tag:noindex
X-PUBLISHED-TTL:PT1H
BEGIN:VTIMEZONE
TZID:Europe/Warsaw
BEGIN:DAYLIGHT
TZOFFSETFROM:+0100
TZOFFSETTO:+0200
TZNAME:CEST
DTSTART:20210328T010000
END:DAYLIGHT
BEGIN:STANDARD
TZOFFSETFROM:+0200
TZOFFSETTO:+0100
TZNAME:CET
DTSTART:20211031T010000
END:STANDARD
END:VTIMEZONE
BEGIN:VEVENT
DTSTART;TZID=Europe/Warsaw:20211023T190000
DTEND;TZID=Europe/Warsaw:20211023T210000
DTSTAMP:20260425T051334
CREATED:20210923T074633Z
LAST-MODIFIED:20210923T074633Z
UID:1341-1635015600-1635022800@pokladykultury.eu
SUMMARY:Waldemar Malicki i Filharmonia Dowcipu - Co tu jest grane?
DESCRIPTION:Waldemar Malicki i Filharmonia Dowcipu w premierowym programie „Co tu jest grane?”. Dowcipne skecze muzyczne\, perfekcyjne wykonanie i zaskakujące aranżacje charyzmatycznego wirtuoza i zjawiskowego zespołu. Zapraszamy na najnowszy program bezkompromisowego\, kompletnie oszalałego muzycznego show! Tylko tutaj piękne i zmysłowe kobiety\, eleganccy i czarujący mężczyźni wspólnie zawadiacko wywracają klasykę do góry nogami i tworzą rozrywkę na najwyższym poziomie. To zderzenie zapierającej dech w piersiach urody i ogromnego talentu\, gdzie prawdziwy styl łączy się z poczuciem humoru.\n \nGospodarz widowiska\, Waldemar Malicki\, w towarzystwie energetycznej orkiestry i wybitnych solistów\, oczarowuje i bawi\, ale nie bezrefleksyjnie. Dlatego też nie zabraknie satyryczno-obyczajowych monologów wokół tak intrygujących tematów\, jak prawa kobiet\, tolerancja\, popularne programy telewizyjne czy „medyczna” marihuana\, ani muzyczno-słownych komentarzy do pojawiających się w Polsce niedorzeczności. Reprezentujemy współczesny głos „zwykłego człowieka”\, w którym znajdujemy swoje odbicie\, codzienne zawodowe trudności i komizm życia.\n \nFilharmonia Dowcipu to również gratka dla wprawionych melomanów! Sięgając do klasyki w kontekście roku Moniuszkowskiego\, przywołamy ‘Prząśniczkę” i zaszalejemy z „Tym zegarem starym” w wersji folk\, pop\, rap\, a także włoskiej\, francuskiej i niemieckiej. Przekonajcie się\, że Moniuszko i AC/DC są sobie bliżsi niż przypuszczaliście! Zapraszamy na dwie godziny sumarycznej zabawy\, refleksji\, śmiechu i świetnej\, obłędnie wykonanej muzyki. Po każdym koncercie z radością się z Państwem spotkamy i wymienimy myślami w poszukiwaniu odpowiedzi na pytanie „Co tu jest grane?”.\n \nOBSADA:\nFortepian: WALDEMAR MALICKI. \nDyrygent: BERNARD CHMIELARZ\nSopran: ANITA RYWALSKA.\nTenor: MARCIN POMYKAŁA.\nOraz muzycy. \n \nScenariusz i reżyseria: JACEK KĘCIK.
URL:https://pokladykultury.eu/event/waldemar-malicki-i-filharmonia-dowcipu-co-tu-jest-grane/
LOCATION:Dom Muzyki i Tańca w Zabrzu\, ul. Gen. de Gaulle'a 17\, Zabrze\, śląskie\, 41-800\, Poland
ATTACH;FMTTYPE=image/jpeg:https://pokladykultury.eu/wp-content/uploads/2021/09/Malicki.jpg
END:VEVENT
END:VCALENDAR