BEGIN:VCALENDAR
VERSION:2.0
PRODID:-//Pokładykultury.eu - ECPv5.16.3.1//NONSGML v1.0//EN
CALSCALE:GREGORIAN
METHOD:PUBLISH
X-ORIGINAL-URL:https://pokladykultury.eu
X-WR-CALDESC:Wydarzenia dla Pokładykultury.eu
REFRESH-INTERVAL;VALUE=DURATION:PT1H
X-Robots-Tag:noindex
X-PUBLISHED-TTL:PT1H
BEGIN:VTIMEZONE
TZID:Europe/Warsaw
BEGIN:DAYLIGHT
TZOFFSETFROM:+0100
TZOFFSETTO:+0200
TZNAME:CEST
DTSTART:20210328T010000
END:DAYLIGHT
BEGIN:STANDARD
TZOFFSETFROM:+0200
TZOFFSETTO:+0100
TZNAME:CET
DTSTART:20211031T010000
END:STANDARD
END:VTIMEZONE
BEGIN:VEVENT
DTSTART;TZID=Europe/Warsaw:20211030T220000
DTEND;TZID=Europe/Warsaw:20211031T040000
DTSTAMP:20260425T051452
CREATED:20211013T090622Z
LAST-MODIFIED:20211013T090622Z
UID:1469-1635631200-1635652800@pokladykultury.eu
SUMMARY:Symfonia grozy - Horror Party 2021
DESCRIPTION:A z ciemności wyłania się on…\nPotężny i magnetyczny!\nChoć nie chcesz musisz się poddać.\nChoć chcesz uciekać nie robisz tego! \nTak właśnie działa\, cichutko\, z boku ale to musi się wydarzyć…\nCzujesz jak powoli oplata Cię Symfonia grozy i już nie masz wyjścia\, robisz co Ci każe! \n\nPytaliście\, czekaliście i stało się…\nJuż 30 października\, na poziomie 320 w Kopalni Guido odbędzie się HORROR PARTY 2021!\nCzym zaskoczymy\, a raczej \,\,wystraszymy Was” tym razem?\nO tym musicie przekonać się sami. My możemy jednie zdradzić rąbek mrożącej krew w żyłach tajemnicy! Dobrze będzie zabrać ze sobą odrobinę czosnku!!\nNie zapomnijcie również o dobrym humorze i świetnych przebraniach!!\n \nZjazdy pod ziemię od godz. 19.00
URL:https://pokladykultury.eu/event/symfonia-grozy-horror-party-2021/
LOCATION:Kopalnia Guido\, ul. 3 Maja 93\, Zabrze\, śląskie\, 41-800\, Poland
ATTACH;FMTTYPE=image/jpeg:https://pokladykultury.eu/wp-content/uploads/2021/10/Horror-Party.jpg
END:VEVENT
END:VCALENDAR