BEGIN:VCALENDAR
VERSION:2.0
PRODID:-//Pokładykultury.eu - ECPv5.16.3.1//NONSGML v1.0//EN
CALSCALE:GREGORIAN
METHOD:PUBLISH
X-WR-CALNAME:Pokładykultury.eu
X-ORIGINAL-URL:https://pokladykultury.eu
X-WR-CALDESC:Wydarzenia dla Pokładykultury.eu
REFRESH-INTERVAL;VALUE=DURATION:PT1H
X-Robots-Tag:noindex
X-PUBLISHED-TTL:PT1H
BEGIN:VTIMEZONE
TZID:Europe/Warsaw
BEGIN:DAYLIGHT
TZOFFSETFROM:+0100
TZOFFSETTO:+0200
TZNAME:CEST
DTSTART:20210328T010000
END:DAYLIGHT
BEGIN:STANDARD
TZOFFSETFROM:+0200
TZOFFSETTO:+0100
TZNAME:CET
DTSTART:20211031T010000
END:STANDARD
END:VTIMEZONE
BEGIN:VEVENT
DTSTART;TZID=Europe/Warsaw:20211126T190000
DTEND;TZID=Europe/Warsaw:20211126T210000
DTSTAMP:20260424T063706
CREATED:20211124T112028Z
LAST-MODIFIED:20211124T112028Z
UID:1858-1637953200-1637960400@pokladykultury.eu
SUMMARY:Baśniowy Koncert Andrzejkowy
DESCRIPTION:Filharmonia Zabrzańska zaprasza w piątek\, 26 listopada 2021 r. o godz. 18.00 na Baśniowy Koncert Andrzejkowy. \nWystąpią: \nOrkiestra Symfoniczna Filharmonii Zabrzańskiej\nMarcin Ostrowski – solo skrzypcowe\nSławomir Chrzanowski – dyrygent \nW repertuarze: \nM. Musorgski – Noc na Łysej Górze – fantazja orkiestrowa\, M. Rimski – Korsakov – Szeherezada
URL:https://pokladykultury.eu/event/basniowy-koncert-andrzejkowy/
LOCATION:Filharmonia Zabrzańska\, Park Hutniczy 7\, Zabrze\, śląskie\, 41-800\, Poland
ATTACH;FMTTYPE=image/jpeg:https://pokladykultury.eu/wp-content/uploads/2021/07/Filharmonia.jpg
END:VEVENT
BEGIN:VEVENT
DTSTART;TZID=Europe/Warsaw:20211126T200000
DTEND;TZID=Europe/Warsaw:20211126T220000
DTSTAMP:20260424T063706
CREATED:20210923T080727Z
LAST-MODIFIED:20210923T080727Z
UID:1356-1637956800-1637964000@pokladykultury.eu
SUMMARY:Paweł Domagała - WRACAJ TOUR
DESCRIPTION:Paweł Domagała to jeden z najbardziej rozpoznawanych aktorów młodego pokolenia. W jego dorobku znajduje się wiele ról teatralnych\, serialowych\, a także filmowych. Nie każdy jednak wie\, że drugą największą pasją Pawła oprócz aktorstwa jest muzyka. Pisze i wykonuje swoje piosenki od wielu lat\, spełniając się artystycznie również na tym polu. Jesienią 2016 roku ukazał się długo wyczekiwany debiutancki album Pawła Domagały pt. „Opowiem Ci o mnie”. Płyta trafiła do serc szerokiego grona odbiorców\, osiągając status Złotej Płyty. Koncerty promujące album\, których od daty premiery Paweł zagrał już kilkadziesiąt\, również cieszyły się ogromnym powodzeniem. Bilety najczęściej były wyprzedane na wiele dni przed datą wydarzenia. Zachęcony sukcesem pierwszego albumu\, Paweł podjął pracę nad kolejnym krążkiem. Nowe wydawnictwo ukazało się 16 listopada i nosi tytuł „1984”. Album promowała piosenka „Weź nie pytaj”\, która stała się ogromnym przebojem (w tej chwili niemal 120 mln wyświetleń na YouTube).
URL:https://pokladykultury.eu/event/pawel-domagala-wracaj-tour/
LOCATION:Dom Muzyki i Tańca w Zabrzu\, ul. Gen. de Gaulle'a 17\, Zabrze\, śląskie\, 41-800\, Poland
ATTACH;FMTTYPE=image/jpeg:https://pokladykultury.eu/wp-content/uploads/2021/09/domagala-1.jpg
END:VEVENT
BEGIN:VEVENT
DTSTART;TZID=Europe/Warsaw:20211126T200000
DTEND;TZID=Europe/Warsaw:20211126T220000
DTSTAMP:20260424T063706
CREATED:20211124T063340Z
LAST-MODIFIED:20211124T063340Z
UID:1813-1637956800-1637964000@pokladykultury.eu
SUMMARY:IX Międzynarodowy Festiwal im. Krzysztofa Pendereckiego - poziom 320. Kameralnie
DESCRIPTION:26 listopada o godz. 19.00 już po raz dziewiąty podziemia kopalni Guido wypełnią się muzyką Krzysztofa Pendereckiego tym razem w wykonaniu Kwartetu Śląskiego\, który poza interpretacją jednego z ostatnich dzieł Kompozytora IV kwartetu smyczkowego towarzyszyć będzie włoskiemu fleciście Massimo Mercellemu.  \nWspólnie z tym wybitnym interpretatorem twórczości Pendereckiego\, a prywatnie jego wielkim przyjacielem\, wykonają fletową wersję Kwartetu klarnetowego o znamiennym tytule Abschied/Pożegnanie. Wieczór zaś zwieńczą Kwartetem fletowym Wolfganga Amadeusza Mozarta D-dur KV 285. \nChoć tytuł tegorocznej edycji brzmi Kameralnie\, nie zabraknie elementów multimedialnych. Koncert zostanie poprzedzony projekcją psychodelicznego\, artystycznego filmu lalkowego Maska z muzyką Krzysztofa Pendereckiego De natura sonoris. \nWykonawcy \nMassimo Mercelli – flet\nKwartet Śląski \nProgram \nMaska – projekcja filmu w reżyserii braci Quay z muzyką Krzysztofa Pendereckiego\nDe natura sonoris – opartego na kanwie twórczości Stanisława Lema.\nKrzysztof Penderecki\nII Kwartet smyczkowy\nKwartet klarnetowy „Abschied” (wersja fletowa)\nIV Kwartet smyczkowy \nWolfgang Amadeusz Mozart\nKwartet fletowy D-dur KV 285  \nInformacje: www.penderecki320.com \nBilety: www.kopalniaguido.pl
URL:https://pokladykultury.eu/event/ix-miedzynarodowy-festiwal-im-krzysztofa-pendereckiego-poziom-320-kameralnie/
LOCATION:Kopalnia Guido\, ul. 3 Maja 93\, Zabrze\, śląskie\, 41-800\, Poland
ATTACH;FMTTYPE=image/png:https://pokladykultury.eu/wp-content/uploads/2021/11/Kameralnie-26.11.2021.png
END:VEVENT
END:VCALENDAR