BEGIN:VCALENDAR
VERSION:2.0
PRODID:-//Pokładykultury.eu - ECPv5.16.3.1//NONSGML v1.0//EN
CALSCALE:GREGORIAN
METHOD:PUBLISH
X-ORIGINAL-URL:https://pokladykultury.eu
X-WR-CALDESC:Wydarzenia dla Pokładykultury.eu
REFRESH-INTERVAL;VALUE=DURATION:PT1H
X-Robots-Tag:noindex
X-PUBLISHED-TTL:PT1H
BEGIN:VTIMEZONE
TZID:Europe/Warsaw
BEGIN:DAYLIGHT
TZOFFSETFROM:+0100
TZOFFSETTO:+0200
TZNAME:CEST
DTSTART:20210328T010000
END:DAYLIGHT
BEGIN:STANDARD
TZOFFSETFROM:+0200
TZOFFSETTO:+0100
TZNAME:CET
DTSTART:20211031T010000
END:STANDARD
END:VTIMEZONE
BEGIN:VEVENT
DTSTART;TZID=Europe/Warsaw:20211203T200000
DTEND;TZID=Europe/Warsaw:20211203T220000
DTSTAMP:20260424T160907
CREATED:20210923T081113Z
LAST-MODIFIED:20211124T093728Z
UID:1359-1638561600-1638568800@pokladykultury.eu
SUMMARY:ORIGINAL ENIGMA VOICES
DESCRIPTION:Aż 3 nominacje do nagród Grammy\, 70 milionów sprzedanych płyt\, ponad 100 złotych i platynowych krążków – to tylko część sukcesów projektu ENIGMA. Przytłaczająca rekordowa sprzedaż\, a jednocześnie tajemnicze twarze wykonawców sprawiły\, że ENIGMA stała się jednym z najpopularniejszych i najbardziej mistycznych projektów muzycznych ostatnich dziesięcioleci. \nZałożony w 1980 roku przez niemieckiego producenta MICHAELA CRETU\, projekt ENIGMA przyciągnął miliony słuchaczy unikalnymi i kultowymi dźwiękami\, które są nieporównywalne z żadnymi innymi. ENIGMA pojawiła się ponad 50 razy na pierwszym miejscu\, światowych list przebojów! Ich muzyka uzależnia\, jest transowa i zarazem niezwykle entuzjastyczna. Sukces ENIGMY był i jest inspiracją dla wielu artystów i producentów\, w tym znanym na całym świecie Chóru GREGORIAN\, który wykonuje współczesne popowe i rockowe utwory inspirowane gregoriańskim stylem. \nW listopadzie 2021 roku\, zespół składający się z oryginalnych głosów ENIGMY m.in. ANDRU DONALDS\, ANGEL X\, FOX LIMA…\, wykona największe hity grupy w ramach projektu ORIGINAL ENIGMA VOICES. W programie znajdzie się ponad 20 utworów z różnych albumów w tym m.in.: Return to Innocence\, Gravity of Love\, Mea Culpa\, Sadeness\, Principles of Lust\, 7 Lives\, Many Faces\, The Rivers of Belief\, The Fall of Live of a Rebel Angel. \nCzłonkowie zespołu eksperymentują z różnymi stylami muzycznymi. Wykorzystują również śpiewy gregoriańskie\, psalmy etniczne\, dzwony kościelne\, organy i podobne instrumenty tworząc bardzo specyficzne\, klimatyczne i wręcz psychodeliczne dźwięki. Oglądanie koncertu na żywo dodatkowo umożliwia bezpośrednie obcowanie z wielkim talentem twórczym\, jaki posiadają muzycy. \nTrasa koncertowa będzie wzbogacona udziałem orkiestry oraz licznymi efektami specjalnymi. Każda kompozycja utworu to wręcz osobna produkcja. Muzyce towarzyszyć będzie elektryzująca wizualizacja i zmiana kostiumów artystów – którzy profesjonalnie znają sztukę scenicznej reinkarnacji. Ta trasa to wielowymiarowe show! To duchowa podróż w dźwięki\, obrazy\, światła i zmysły!
URL:https://pokladykultury.eu/event/original-enigma-voices/
LOCATION:Dom Muzyki i Tańca w Zabrzu\, ul. Gen. de Gaulle'a 17\, Zabrze\, śląskie\, 41-800\, Poland
ATTACH;FMTTYPE=image/jpeg:https://pokladykultury.eu/wp-content/uploads/2021/09/enigma-nowy.jpg
END:VEVENT
END:VCALENDAR