BEGIN:VCALENDAR
VERSION:2.0
PRODID:-//Pokładykultury.eu - ECPv5.16.3.1//NONSGML v1.0//EN
CALSCALE:GREGORIAN
METHOD:PUBLISH
X-ORIGINAL-URL:https://pokladykultury.eu
X-WR-CALDESC:Wydarzenia dla Pokładykultury.eu
REFRESH-INTERVAL;VALUE=DURATION:PT1H
X-Robots-Tag:noindex
X-PUBLISHED-TTL:PT1H
BEGIN:VTIMEZONE
TZID:Europe/Warsaw
BEGIN:DAYLIGHT
TZOFFSETFROM:+0100
TZOFFSETTO:+0200
TZNAME:CEST
DTSTART:20220327T010000
END:DAYLIGHT
BEGIN:STANDARD
TZOFFSETFROM:+0200
TZOFFSETTO:+0100
TZNAME:CET
DTSTART:20221030T010000
END:STANDARD
END:VTIMEZONE
BEGIN:VEVENT
DTSTART;TZID=Europe/Warsaw:20220101T180000
DTEND;TZID=Europe/Warsaw:20220101T200000
DTSTAMP:20260424T090158
CREATED:20211124T094237Z
LAST-MODIFIED:20211124T094237Z
UID:1820-1641060000-1641067200@pokladykultury.eu
SUMMARY:Koncert Noworoczny
DESCRIPTION:To już tradycja\, że zabrzanie pierwszy dzień nowego roku witają ze śpiewem i muzyką. Nie muszą jednak wcale jechać do Wiednia\, by w towarzystwie tamtejszych filharmoników rozpoczynać w ten sposób kolejny rok\, skoro z muzyką operetkową i to w doskonałym wydaniu\, mogą spotkać się 1 stycznia o godz. 17 w Zabrzu\, w Domu Muzyki i Tańca. \nTen już naprawdę prestiżowy i zawsze długo oczekiwany przez melomanów Koncert Noworoczny uświetni\, jak to bywało w latach ubiegłych\, Orkiestra Symfoniczna Filharmonii Zabrzańskiej pod dyrekcją Sławomira Chrzanowskiego. Zaproszono też znakomitych solistów: Katarzynę Oleś-Blachę – sopran\, Monikę Ledzion-Porczyńską – mezzosopran i Tomasza Kuka – tenor. \nW Wielkiej Gali Operetkowej nie może zabraknąć ruchu scenicznego\, barwnych strojów i dekoracji\, zatem widzowie będą mogli też podziwiać plejadę polskich tancerzy. Wystąpią: Dorota Rak\, Kamila Borowska\, Joanna Lichorowicz-Greś\, Zofia Czechlewska\, Sławomir Greś\, Mateusz Ludwikowski\, Adam Czechlewski\, Bartłomiej Marszałek. Choreografię i kostiumy przygotowała Zofia Czechlewska. Kierownikiem muzycznym Koncertu Noworocznego jest Sławomir Chrzanowski\, który dyrygować będzie zabrzańskimi filharmonikami.
URL:https://pokladykultury.eu/event/koncert-noworoczny/
LOCATION:Dom Muzyki i Tańca w Zabrzu\, ul. Gen. de Gaulle'a 17\, Zabrze\, śląskie\, 41-800\, Poland
ATTACH;FMTTYPE=image/jpeg:https://pokladykultury.eu/wp-content/uploads/2021/11/koncert-noworoczny.jpg
END:VEVENT
END:VCALENDAR