BEGIN:VCALENDAR
VERSION:2.0
PRODID:-//Pokładykultury.eu - ECPv5.16.3.1//NONSGML v1.0//EN
CALSCALE:GREGORIAN
METHOD:PUBLISH
X-ORIGINAL-URL:https://pokladykultury.eu
X-WR-CALDESC:Wydarzenia dla Pokładykultury.eu
REFRESH-INTERVAL;VALUE=DURATION:PT1H
X-Robots-Tag:noindex
X-PUBLISHED-TTL:PT1H
BEGIN:VTIMEZONE
TZID:Europe/Warsaw
BEGIN:DAYLIGHT
TZOFFSETFROM:+0100
TZOFFSETTO:+0200
TZNAME:CEST
DTSTART:20220327T010000
END:DAYLIGHT
BEGIN:STANDARD
TZOFFSETFROM:+0200
TZOFFSETTO:+0100
TZNAME:CET
DTSTART:20221030T010000
END:STANDARD
END:VTIMEZONE
BEGIN:VEVENT
DTSTART;TZID=Europe/Warsaw:20220114T190000
DTEND;TZID=Europe/Warsaw:20220114T210000
DTSTAMP:20260424T173221
CREATED:20220103T084341Z
LAST-MODIFIED:20220103T084341Z
UID:2255-1642186800-1642194000@pokladykultury.eu
SUMMARY:Karnawałowa Fantazja
DESCRIPTION:W piątek\, 14 stycznia o godz. 18.00 Filharmonia Zabrzańska zaprasza na koncert „Karnawałowa Fantazja”. \nWśród wykonawców wystąpią: Orkiestra Symfoniczna Filharmonii Zabrzańskiej\, Krzysztof Grzybowski – klarnet i Sławomir Chrzanowski – dyrygent. \nW repertuarze fantazje na tematy z oper Verdiego\, uwertury operowe. \nRezerwacja biletów od 27 grudnia 2021 drogą telefoniczną (32 2714717)\, bądź w kasie Filharmonii.
URL:https://pokladykultury.eu/event/karnawalowa-fantazja/
LOCATION:Filharmonia Zabrzańska\, Park Hutniczy 7\, Zabrze\, śląskie\, 41-800\, Poland
ATTACH;FMTTYPE=image/jpeg:https://pokladykultury.eu/wp-content/uploads/2021/07/Filharmonia.jpg
END:VEVENT
END:VCALENDAR