BEGIN:VCALENDAR
VERSION:2.0
PRODID:-//Pokładykultury.eu - ECPv5.16.3.1//NONSGML v1.0//EN
CALSCALE:GREGORIAN
METHOD:PUBLISH
X-ORIGINAL-URL:https://pokladykultury.eu
X-WR-CALDESC:Wydarzenia dla Pokładykultury.eu
REFRESH-INTERVAL;VALUE=DURATION:PT1H
X-Robots-Tag:noindex
X-PUBLISHED-TTL:PT1H
BEGIN:VTIMEZONE
TZID:Europe/Warsaw
BEGIN:DAYLIGHT
TZOFFSETFROM:+0100
TZOFFSETTO:+0200
TZNAME:CEST
DTSTART:20220327T010000
END:DAYLIGHT
BEGIN:STANDARD
TZOFFSETFROM:+0200
TZOFFSETTO:+0100
TZNAME:CET
DTSTART:20221030T010000
END:STANDARD
END:VTIMEZONE
BEGIN:VEVENT
DTSTART;TZID=Europe/Warsaw:20220130T170000
DTEND;TZID=Europe/Warsaw:20220130T190000
DTSTAMP:20260424T191344
CREATED:20211201T092439Z
LAST-MODIFIED:20211201T092439Z
UID:1969-1643562000-1643569200@pokladykultury.eu
SUMMARY:Wesoła wdówka
DESCRIPTION:„Wesoła wdówka” Franza Lehara to znana i bardzo lubiana przez publiczność operetka prapremierę miała 30 grudnia 1905 r. w Wiedniu. Już po niespełna roku grana była na scenie w Warszawie. Początkowo opinie publiczności\, jak i krytyków były niepochlebne o utworze\, jednak „Wesoła wdówka” szybko zyskała ogromną popularność. Dzisiaj refren słynnego duetu dwójki głównych bohaterów – Hanny Glawari oraz hrabiego Daniły – „Usta milczą\, dusza śpiewa”\, potrafi zanucić chyba każdy.\n  \nChociaż trudno w to uwierzyć operetka „Wesoła Wdówka” długo czekała na miano arcydzieła gatunku. Dopiero po stu zagranych spektaklach Wiedeń oszalał – sale pękały w szwach\, w kawiarniach orkiestry grały melodie z Wdówki\, sprzedawano kapelusze\, buty\, cygara\, perfumy a la Wesoła Wdówka. Operetka z wielkim powodzeniem grana jest do dziś i urzeka wspaniałymi melodiami.\n  \nLibretto wzorowane na francuskiej powieści komediowej zabiera widzów w świat paryskich salonów z początku XX wieku\, w środowisko śmietanki towarzyskiej\, gdzie pije się szampana\, plotkuje\, flirtuje\, knuje intrygi i przeżywa romanse. Piękna i młoda Hanna Glawari to bajecznie bogata wdowa\, która przyjeżdża do Paryża z księstwa Pontevedry\, wprowadzając w społeczność paryskich elit niemałe zamieszanie. Plotka bowiem głosi\, że kobieta przyjeżdża by poznać miłość swojego życia. To jednak nie jest w smak ministrowi skarbu Pontevedry\, który pragnie by miliony wdówki pozostały w kraju. Widzowie stają się świadkami szeregu intryg i sekretów\, mających na celu odwieść Hannę od małżeństwa. Historia opowiedziana jest z właściwą dla operetki lekkością\, okraszona wpadającymi w ucho melodiami Lehara\, pełna humoru lecz również obfitująca w muzyczne uniesienia. Jak potoczą się ostatecznie losy Hanny i jej majątku? By się o tym przekonać\, najlepiej przyjść na zabrzański spektakl do Domu Muzyki i Tańca i spotkać się na żywo z jego bohaterami.\n  \n„Wesoła Wdówka” – operetka w trzech aktach\, DMiT 30 stycznia 2022 r.\, godz. 16.00\n  \nOBSADA:\nHanna Glawari – Justyna Dyla\nHrabia Daniło -Tomasz Białek\nCamille de Rosillon – Adam Sobierajski\nWalentyna – Anna Pieszka\nOlga – Barbara Pakura-Brzoska\nBron Zeta – Wiesław Gawałek\nNiegus – Sebastian Dylnicki / Jerzy Gościński\nSt.Broche -Jarosław Tyran\nCascada – Marcin Kotarba\nTancerze Teatru Muzycznego Castello\n  \nReżyseria\nTomasz Białek\n  \nChoreografia\nAgnieszka Bednarz-Tyran\n  \nDyrygent\nMieczysław Unger\n  \nOrkiestra\nUnger Ensemble\n  \nReżyseria Światła\nWacław Czarnecki\n  \nReżyseria dźwięku\nTomasz Wolny
URL:https://pokladykultury.eu/event/wesola-wdowka/
LOCATION:Dom Muzyki i Tańca w Zabrzu\, ul. Gen. de Gaulle'a 17\, Zabrze\, śląskie\, 41-800\, Poland
ATTACH;FMTTYPE=image/jpeg:https://pokladykultury.eu/wp-content/uploads/2021/12/wesola-wdowka.jpg
END:VEVENT
END:VCALENDAR