BEGIN:VCALENDAR
VERSION:2.0
PRODID:-//Pokładykultury.eu - ECPv5.16.3.1//NONSGML v1.0//EN
CALSCALE:GREGORIAN
METHOD:PUBLISH
X-WR-CALNAME:Pokładykultury.eu
X-ORIGINAL-URL:https://pokladykultury.eu
X-WR-CALDESC:Wydarzenia dla Pokładykultury.eu
REFRESH-INTERVAL;VALUE=DURATION:PT1H
X-Robots-Tag:noindex
X-PUBLISHED-TTL:PT1H
BEGIN:VTIMEZONE
TZID:Europe/Warsaw
BEGIN:DAYLIGHT
TZOFFSETFROM:+0100
TZOFFSETTO:+0200
TZNAME:CEST
DTSTART:20220327T010000
END:DAYLIGHT
BEGIN:STANDARD
TZOFFSETFROM:+0200
TZOFFSETTO:+0100
TZNAME:CET
DTSTART:20221030T010000
END:STANDARD
END:VTIMEZONE
BEGIN:VEVENT
DTSTART;TZID=Europe/Warsaw:20220219T183000
DTEND;TZID=Europe/Warsaw:20220219T203000
DTSTAMP:20260424T152251
CREATED:20220215T064131Z
LAST-MODIFIED:20220215T064131Z
UID:2629-1645295400-1645302600@pokladykultury.eu
SUMMARY:Muzyka - Wsparcie osób w depresji. Koncert Zespołu Wokalnego LUNA PLENA
DESCRIPTION:Zespół Wokalny LUNA PLENA serdecznie zaprasza na swój koncert. Koncert odbędzie się w ramach akcji Muzyka – wsparcie osób w depresji\, przyczyniającej się do podniesienia świadomości o depresji – 23 lutego obchodzimy Międzynarodowy Dzień Walki z Depresją.\n \nPragniemy za pomocą śpiewu pokazać\, że muzyka i podjęcie aktywności w formie śpiewania w chórze\, może być świetnym remedium dla osób borykających się z tą chorobą. Koncert będzie także wyrazem uznania dla specjalistów\, którzy na co dzień dzielnie zajmują się leczeniem tej wciąż niestety bagatelizowanej przypadłości.\n \nW repertuarze muzyka świecka\, rozrywkowa\, polska i zagraniczna. Każdy znajdzie coś dla siebie! \nDyrygent – Barbara Gajek-Kraska\n \nOrganizator akcji „Muzyka – wsparcie osób w depresji” –\nMiędzynarodowy Portal Chóralny CHÓRTOWNIA\nPartner – Ogólnopolska Konferencja MAM GŁOS\nPartner merytoryczny – Poradnia Psychologiczno-Pedagogiczna w Zabrzu\nPartner medialny – GŁOS Zabrza i Rudy Śląskiej\nKoncert w Łaźni Łańcuszkowej odbędzie się dzięki uprzejmości Muzeum Górnictwa Węglowego w Zabrzu.
URL:https://pokladykultury.eu/event/muzyka-wsparcie-osob-w-depresji-koncert-zespolu-wokalnego-luna-plena/
LOCATION:Łaźnia Łańcuszkowa\, Sztolnia Królowa Luiza\, ul. Wolności 410\, Zabrze\, śląskie\, 41-800\, Poland
ATTACH;FMTTYPE=image/jpeg:https://pokladykultury.eu/wp-content/uploads/2022/02/Muzyka-wsparcie-osob-w-depresji.jpg
END:VEVENT
END:VCALENDAR