BEGIN:VCALENDAR
VERSION:2.0
PRODID:-//Pokładykultury.eu - ECPv5.16.3.1//NONSGML v1.0//EN
CALSCALE:GREGORIAN
METHOD:PUBLISH
X-ORIGINAL-URL:https://pokladykultury.eu
X-WR-CALDESC:Wydarzenia dla Pokładykultury.eu
REFRESH-INTERVAL;VALUE=DURATION:PT1H
X-Robots-Tag:noindex
X-PUBLISHED-TTL:PT1H
BEGIN:VTIMEZONE
TZID:Europe/Warsaw
BEGIN:DAYLIGHT
TZOFFSETFROM:+0100
TZOFFSETTO:+0200
TZNAME:CEST
DTSTART:20220327T010000
END:DAYLIGHT
BEGIN:STANDARD
TZOFFSETFROM:+0200
TZOFFSETTO:+0100
TZNAME:CET
DTSTART:20221030T010000
END:STANDARD
END:VTIMEZONE
BEGIN:VEVENT
DTSTART;TZID=Europe/Warsaw:20220318T190000
DTEND;TZID=Europe/Warsaw:20220318T200000
DTSTAMP:20260423T163337
CREATED:20220318T094806Z
LAST-MODIFIED:20220318T094806Z
UID:2972-1647630000-1647633600@pokladykultury.eu
SUMMARY:„Dzieci grają...dorosłym”
DESCRIPTION: Filharmonia Zabrzańska zaprasza na koncert pt. „Dzieci grają … dorosłym”. Koncert odbędzie się w piątek\, 18 marca o godz. 18.00 w sali Filharmonii Zabrzańskiej.\n \nWykonawcy:\nOrkiestra Symfoniczna Filharmonii Zabrzańskiej\n\n\n\n\nWojciech Barczyński – dyrygent\nMaciej Materny – skrzypce: Wieniawski – Dudziarz\nNatalia Białas – flet: Blake – Taniec bałwanka\nWojciech Rusak – skrzypce: ivaldi – Koncert F-dur\nJakub Jurowski – trąbka: Cook – Spica\nNatalia Gleba – fortepian: Miśkiewicz – Hiszpańska pomarańcza\nDominik Balla – fortepian: Kordaczuk – Koncert fortepianowy dla dzieci\nKamil Wrotniak – skrzypce: Twardowski – Oberek\nLaura Iwaniuk\, Szymon Nitka- śpiew- Rossini- Duet kotów\nMarta Matera – skrzypce: Mozart – Koncert skrzypcowy G-dur\nHelena Bednarska – skrzypce: Bruch- Koncert skrzypcowy g-moll \nBilety: \nNormalny – 30 zł\, ulgowy – 20 zł do nabycia w kasie Filharmonii Zabrzańskiej.
URL:https://pokladykultury.eu/event/dzieci-graja-doroslym/
LOCATION:Filharmonia Zabrzańska\, Park Hutniczy 7\, Zabrze\, śląskie\, 41-800\, Poland
ATTACH;FMTTYPE=image/jpeg:https://pokladykultury.eu/wp-content/uploads/2021/07/Filharmonia.jpg
END:VEVENT
BEGIN:VEVENT
DTSTART;TZID=Europe/Warsaw:20220318T210000
DTEND;TZID=Europe/Warsaw:20220319T005900
DTSTAMP:20260423T163337
CREATED:20220304T084154Z
LAST-MODIFIED:20220304T094731Z
UID:2816-1647637200-1647651540@pokladykultury.eu
SUMMARY:Dzień św. Patryka - koncert CARRANTUOHILL
DESCRIPTION:Kopalnia Guido w Zabrzu zaprasza na koncert zespołu Carrantuohill organizowany w ramach obchodów dnia św. Patryka. \nPrzygotujcie się na moc zielonych wrażeń w najbardziej niekonwencjonalnej scenerii w Europie! Jeśli masz ochotę celebrować dzień św. Patryka – irlandzkie święto narodowe i religijne koniecznie odwiedź strefę K8 w Kopalni Guido\, 320 metrów pod ziemią. \nJak irlandzkie święto\, to i irlandzka muzyka – na scenie wystąpi CARRANTUOHILL. Grający tradycyjną muzykę celtycką – irlandzką i szkocką zespół wykorzystuje takie instrumenty jak skrzypce\, akordeon\, buzouki\, bodhran\, flety\, blaszane gwizdki\, piszczałki uilleann\, cytrę i gitarę akustyczną. W celu podkreślenia brzmienia zespołu często dodajemy bębny\, klawisze i bas. Jak brzmi takie połączenie? Sprawdźcie sami \nW dniu koncertu nie zabraknie koloru zielonego również w naszym menu – tradycyjnie lejemy wtedy nasze sławne już zielone piwo. \nZjazdy od godziny 18:00\nStart imprezy godzina 20:00\nPub czynny do północy.
URL:https://pokladykultury.eu/event/dzien-sw-patryka-koncert-carrantuohill/
LOCATION:Kopalnia Guido\, ul. 3 Maja 93\, Zabrze\, śląskie\, 41-800\, Poland
ATTACH;FMTTYPE=image/jpeg:https://pokladykultury.eu/wp-content/uploads/2022/03/Dzien-Patryka.jpg
END:VEVENT
END:VCALENDAR