BEGIN:VCALENDAR
VERSION:2.0
PRODID:-//Pokładykultury.eu - ECPv5.16.3.1//NONSGML v1.0//EN
CALSCALE:GREGORIAN
METHOD:PUBLISH
X-WR-CALNAME:Pokładykultury.eu
X-ORIGINAL-URL:https://pokladykultury.eu
X-WR-CALDESC:Wydarzenia dla Pokładykultury.eu
REFRESH-INTERVAL;VALUE=DURATION:PT1H
X-Robots-Tag:noindex
X-PUBLISHED-TTL:PT1H
BEGIN:VTIMEZONE
TZID:Europe/Warsaw
BEGIN:DAYLIGHT
TZOFFSETFROM:+0100
TZOFFSETTO:+0200
TZNAME:CEST
DTSTART:20220327T010000
END:DAYLIGHT
BEGIN:STANDARD
TZOFFSETFROM:+0200
TZOFFSETTO:+0100
TZNAME:CET
DTSTART:20221030T010000
END:STANDARD
END:VTIMEZONE
BEGIN:VEVENT
DTSTART;TZID=Europe/Warsaw:20220514T210000
DTEND;TZID=Europe/Warsaw:20220514T230000
DTSTAMP:20260423T061112
CREATED:20211001T063642Z
LAST-MODIFIED:20211001T063642Z
UID:1427-1652562000-1652569200@pokladykultury.eu
SUMMARY:A Tribute to Whitney Houston
DESCRIPTION:Showtime Australia prezentuje chwalony przez krytyków koncert honorujący talent\, muzykę i pamięć Whitney. Muzyczna spuścizna Whitney Houston zostaje ponownie przedstawiona w tym wspaniałym Tribute Show\, często określanym jako „niesamowity”\, „wspaniały”. \nDajcie się zaskoczyć zapierającym dech w piersiach wokalem Belindy Davids – artystki\, która znalazła się na szczycie list przebojów RiSA w jej rodzinnym kraju RPA – oraz wystąpiła m.in. w programie Fox TV „Showtime at the Apollo” i Telewizji BBC1 „Jeszcze lepsza niż prawdziwa”. \nPrzy „żywym” akompaniamencie zespołu\, wokalistów wspierających i tancerzy\, a także wspaniałej realizacji dźwięku i świateł\, wizji i efektach teatralnych\, będziecie uczestniczyć w pięknie wykonanym Tribute dla jednej z najbardziej uznanych wokalistek na świecie. \nDwugodzinne widowisko wypełni Cię radością\, nostalgią i zachwytem\, zabierając Cię w sentymentalną podróż przez największe przeboje Houston\, w tym: „I will Always Love You”\, „ I Wanna Dance With Somebody”\, „How Will I Know”\, „One Moment In Time”\, „I Have Nothing”\, „Run To You”\, „Didn’t We Almost Have It All”\, „Greatest Love Of All”\, „I Am Every Woman”\, „Queen Of The Night”\, „Exhale (Shoop Shoop)”\, Million Dollar Bill” i wiele innych.
URL:https://pokladykultury.eu/event/a-tribute-to-whitney-houston/
LOCATION:Dom Muzyki i Tańca w Zabrzu\, ul. Gen. de Gaulle'a 17\, Zabrze\, śląskie\, 41-800\, Poland
ATTACH;FMTTYPE=image/jpeg:https://pokladykultury.eu/wp-content/uploads/2021/10/whitney.jpg
END:VEVENT
END:VCALENDAR