BEGIN:VCALENDAR
VERSION:2.0
PRODID:-//Pokładykultury.eu - ECPv5.16.3.1//NONSGML v1.0//EN
CALSCALE:GREGORIAN
METHOD:PUBLISH
X-ORIGINAL-URL:https://pokladykultury.eu
X-WR-CALDESC:Wydarzenia dla Pokładykultury.eu
REFRESH-INTERVAL;VALUE=DURATION:PT1H
X-Robots-Tag:noindex
X-PUBLISHED-TTL:PT1H
BEGIN:VTIMEZONE
TZID:Europe/Warsaw
BEGIN:DAYLIGHT
TZOFFSETFROM:+0100
TZOFFSETTO:+0200
TZNAME:CEST
DTSTART:20220327T010000
END:DAYLIGHT
BEGIN:STANDARD
TZOFFSETFROM:+0200
TZOFFSETTO:+0100
TZNAME:CET
DTSTART:20221030T010000
END:STANDARD
END:VTIMEZONE
BEGIN:VEVENT
DTSTART;TZID=Europe/Warsaw:20220721T210000
DTEND;TZID=Europe/Warsaw:20220721T230000
DTSTAMP:20260423T080852
CREATED:20220718T073955Z
LAST-MODIFIED:20220718T073955Z
UID:4186-1658437200-1658444400@pokladykultury.eu
SUMMARY:Muzyczny Czwartek - Grzegorz May i Krzysztof Kaczor
DESCRIPTION:Artystyczna w Zabrzu zaprasza na Muzyczny Czwartek i koncert duetu Grzegorz May oraz Krzysztof Kaczor.\n \nDuet młodych Muzyków z Zabrza\, absolwenci Akademii Muzycznej W Katowicach oraz Uniwersytetu Śląskiego w Cieszynie. Muzycy występują na Zabrzańskiej scenie już od wielu lat\, początkowo w zespole The Sudden Entrance\, teraz solowo lub w duecie. W swoim repertuarze przypomną najpiękniejsze przedwojenne polskie utwory w nowych aranżacjach\, a także współczesny repertuar rozrywkowy składający się z największych przebojów ostatnich lat.\n \nRezerwacja stolików: 534 148 555.
URL:https://pokladykultury.eu/event/muzyczny-czwartek-grzegorz-may-i-krzysztof-kaczor/
LOCATION:Artystyczna Zabrze\, ul. gen de Gaulle'a 17\, Zabrze\, śląskie\, 41-800\, Poland
ATTACH;FMTTYPE=image/jpeg:https://pokladykultury.eu/wp-content/uploads/2022/07/Krzysztof-Kaczor_21.07.jpg
END:VEVENT
END:VCALENDAR