BEGIN:VCALENDAR
VERSION:2.0
PRODID:-//Pokładykultury.eu - ECPv5.16.3.1//NONSGML v1.0//EN
CALSCALE:GREGORIAN
METHOD:PUBLISH
X-WR-CALNAME:Pokładykultury.eu
X-ORIGINAL-URL:https://pokladykultury.eu
X-WR-CALDESC:Wydarzenia dla Pokładykultury.eu
REFRESH-INTERVAL;VALUE=DURATION:PT1H
X-Robots-Tag:noindex
X-PUBLISHED-TTL:PT1H
BEGIN:VTIMEZONE
TZID:Europe/Warsaw
BEGIN:DAYLIGHT
TZOFFSETFROM:+0100
TZOFFSETTO:+0200
TZNAME:CEST
DTSTART:20220327T010000
END:DAYLIGHT
BEGIN:STANDARD
TZOFFSETFROM:+0200
TZOFFSETTO:+0100
TZNAME:CET
DTSTART:20221030T010000
END:STANDARD
END:VTIMEZONE
BEGIN:VEVENT
DTSTART;TZID=Europe/Warsaw:20220728T220000
DTEND;TZID=Europe/Warsaw:20220729T000000
DTSTAMP:20260423T060325
CREATED:20220712T103816Z
LAST-MODIFIED:20220712T103816Z
UID:4176-1659045600-1659052800@pokladykultury.eu
SUMMARY:SIKSA - koncert w Oficynie
DESCRIPTION:Po trzech latach SIKSA wraca do Oficyny. Bądźcie. Warto.\n \nSIKSA to artystyczny nielot ze spalonego lasu. Wasza stara przyjaciółka sztuka. Nie jest niczym innym\njak zwykłą odmianą zwierząt i niczym innym nie jest\, jak drżącą odmianą ludzi. Gnębiona wieczną\nkuleczką niepokoju\, ociera łzę przydymioną tapczanim powietrzem i wyrusza wciąż na nowo w\npodróże CUDOWNE i POŻYTECZNE. Instynkt prowadzi ją przez ulice\, a wyboiste języki sprawiły\, że\npoznała zaprawdę smak. A wy i tak niedowierzacie własnym oczom-węgielkom… Wtem! SIKSA cała\nkłębi się już w dymie! SIKSA zasypia na chwilę\, a uśpić SIKSĘ – każdy z nas wie – jest nie lada\nwyczynem. Spała 7 lat i ani jednej nocy. Więc nie żegnaj się z nią – jeszcze Ci się przyda.\n \nSIKSA is an artsy flightless creature from a burned forest. She is your old friend – the art. She is\nnothing else than the ordinary variation of an animal and nothing else than the trembling variation of\na human. Tormented by the tiny everlasting ball of unrest\, she wipes out a tear clouded by the air\nfrom a dusty couch\, and all over again she goes on her adventures of THE USES OF ENCHANTMENT.\nHer instinct leads her through the streets\, and thanks to the bumpy languages she was indeed able to\nget to know the taste. And you still cannot believe your eyes made of coal… And then\, all of a\nsudden! SIKSA swirls around in the smoke! SIKSA falls asleep for a moment\, and we all know – to put\nSIKSA to sleep is a true accomplishment. She was asleep for 7 years and not a single night. So do not\nbid farewell to her – she might still come useful.\n \nBilety: 25 zł (do nabycia w Oficynie)\n \nWydarzenie będzie fotografowane.
URL:https://pokladykultury.eu/event/siksa-koncert-w-oficynie/
LOCATION:Pub Oficyna\, ul. Wolności 211 a\, Zabrze\, śląskie\, 41-800\, Poland
ATTACH;FMTTYPE=image/jpeg:https://pokladykultury.eu/wp-content/uploads/2022/07/Siksa.jpg
END:VEVENT
END:VCALENDAR