BEGIN:VCALENDAR
VERSION:2.0
PRODID:-//Pokładykultury.eu - ECPv5.16.3.1//NONSGML v1.0//EN
CALSCALE:GREGORIAN
METHOD:PUBLISH
X-WR-CALNAME:Pokładykultury.eu
X-ORIGINAL-URL:https://pokladykultury.eu
X-WR-CALDESC:Wydarzenia dla Pokładykultury.eu
REFRESH-INTERVAL;VALUE=DURATION:PT1H
X-Robots-Tag:noindex
X-PUBLISHED-TTL:PT1H
BEGIN:VTIMEZONE
TZID:Europe/Warsaw
BEGIN:DAYLIGHT
TZOFFSETFROM:+0100
TZOFFSETTO:+0200
TZNAME:CEST
DTSTART:20220327T010000
END:DAYLIGHT
BEGIN:STANDARD
TZOFFSETFROM:+0200
TZOFFSETTO:+0100
TZNAME:CET
DTSTART:20221030T010000
END:STANDARD
END:VTIMEZONE
BEGIN:VEVENT
DTSTART;TZID=Europe/Warsaw:20220909T200000
DTEND;TZID=Europe/Warsaw:20220909T220000
DTSTAMP:20260421T214221
CREATED:20220906T071319Z
LAST-MODIFIED:20220907T053706Z
UID:4531-1662753600-1662760800@pokladykultury.eu
SUMMARY:Koła czasu
DESCRIPTION:Filharmonia Zabrzańska zaprasza w piątek\, 9 września br. o godz.18.00 na koncert otwierający 73. sezon artystyczny Filharmonii. \nPodczas koncertu zaprezentowane zostaną utwory Pawła Pudło\, oraz Feliksa Mendelssohna-Bartholdy`ego.\nJednym z nich będzie światowe prawykonanie Symfonii \,\,Koła Czasu” – utworu napisanego specjalnie na 100-lecie nadania praw miejskich Zabrzu. Jest to dzieło na skrzypce i orkiestrę – partię solową wykona młoda i niezwykle uzdolniona artystka Zofia Olesik. \nOrkiestrę Symfoniczną Filharmonii poprowadzi od pulpitu dyrygenckiego Sławomir Chrzanowski. \nPaweł Pudło jest kompozytorem muzyki symfonicznej\, kameralnej oraz filmowej. Często łączy obsadę orkiestrową z elektroniką i instrumentami etnicznymi. Utwory koncertowe oraz filmy z jego muzyką prezentowane były na całym świecie. Reżyser oraz producent przedsięwzięć multidyscyplinarnych („Elements”\, „Miasta Feniksy” oraz „Violemi”\, które również usłyszymy podczas koncertu). Stypendysta Ministerstwa Kultury i Dziedzictwa Narodowego. Jest również laureatem nagrody kompozytorskiej Festiwalu Transatlantyk 2012\, wybranym spośród ponad 100 kompozytorów filmowych z całego świata. \nMuzykę Pawła Pudło wykonują wybitni muzycy polscy i zagraniczni\, współpracujący m.in. z Berliner Philharmoniker\, Operą we Florencji\, Filharmonią Narodową w Warszawie\, Teatrem Wielkim – Operą Narodową w Warszawie oraz Narodową Orkiestrą Symfoniczną Polskiego Radia w Katowicach.\nAutor utworu symfonicznego prezentowanego podczas Mistrzostw Europy w Piłce Nożnej Euro 2012 oraz muzyki tanecznej napisanej dla uświetnienia ceremonii otwarcia największych targów turystycznych na świecie\, ITB Berlin 2011. \nBilety w cenie 40 i 30 zł do nabycia w kasie.
URL:https://pokladykultury.eu/event/4531/
LOCATION:Filharmonia Zabrzańska\, Park Hutniczy 7\, Zabrze\, śląskie\, 41-800\, Poland
ATTACH;FMTTYPE=image/jpeg:https://pokladykultury.eu/wp-content/uploads/2022/09/Kola-czasu.jpg
END:VEVENT
END:VCALENDAR