BEGIN:VCALENDAR
VERSION:2.0
PRODID:-//Pokładykultury.eu - ECPv5.16.3.1//NONSGML v1.0//EN
CALSCALE:GREGORIAN
METHOD:PUBLISH
X-WR-CALNAME:Pokładykultury.eu
X-ORIGINAL-URL:https://pokladykultury.eu
X-WR-CALDESC:Wydarzenia dla Pokładykultury.eu
REFRESH-INTERVAL;VALUE=DURATION:PT1H
X-Robots-Tag:noindex
X-PUBLISHED-TTL:PT1H
BEGIN:VTIMEZONE
TZID:Europe/Warsaw
BEGIN:DAYLIGHT
TZOFFSETFROM:+0100
TZOFFSETTO:+0200
TZNAME:CEST
DTSTART:20220327T010000
END:DAYLIGHT
BEGIN:STANDARD
TZOFFSETFROM:+0200
TZOFFSETTO:+0100
TZNAME:CET
DTSTART:20221030T010000
END:STANDARD
END:VTIMEZONE
BEGIN:VEVENT
DTSTART;TZID=Europe/Warsaw:20221027T210000
DTEND;TZID=Europe/Warsaw:20221027T230000
DTSTAMP:20260423T004733
CREATED:20220831T102911Z
LAST-MODIFIED:20220831T102911Z
UID:4490-1666904400-1666911600@pokladykultury.eu
SUMMARY:Szyb Maciej Jazzowo - koncert Beaty PRZYBYTEK
DESCRIPTION:Szyb Maciej w Zabrzu zaprasza 27 października (czwartek) na wyjątkowy koncert w klimatyczny jazzowy wieczór.\n \nW industrialnych wnętrzach wystąpi Beata Przybytek (piano Bogusław Kaczmar)\, polska wokalistka jazzowa\, pianistka\, kompozytorka\, Laureatka nagrody muzycznej Programu III Polskiego Radia im. Mateusza Święcickiego Mateusz Trójki 2013 za płytę „I’m Gonna Rock You” w kategorii Jazz – Wydarzenie. Współpracowała z najwybitniejszymi przedstawicielami polskiego jazzu\, takimi jak m.in. Jan Ptaszyn Wróblewski\, Janusz Muniak\, Jarosław Śmietana\, Piotr Wojtasik\, Bernard Maseli\, Wojciech Karolak czy Jazz Band Ball Orchestra.\n \nW latach 2009-2010 brała udział w projekcie Fundacji Kalinowe Serce – „Śpiewając Jazz” u boku Marianny Wróblewskiej i Macieja Zakościelnego. Koncertuje zarówno w kraju\, jak i poza jego granicami. Wystąpiła na festiwalach\, takich jak m.in.: Jazz Jamboree\, Bielska Zadymka Jazzowa\, Międzynarodowe Głogowskie Spotkania Jazzowe\, Pomorska Jesień Jazzowa\, Easy Jazz Festival i wielu innych.\n \nJeśli kochasz Jazz musisz być z nami 27 października o godz. 19:00.\nBilety on-line w cenie 65 zł/os.\nKupicie pod tym linkiem:\nBILETY: https://bit.ly/3R2OIcB\nPosłuchajcie na kanale YouTube Beaty Przybytek co dobrego czeka na Was w ten magiczny\, jazzowy wieczór.\n\nhttps://www.youtube.com/user/Bea771
URL:https://pokladykultury.eu/event/szyb-maciej-jazzowo-koncert-beaty-przybytek/
LOCATION:Szyb Maciej\, ul. Srebrna 6\, Zabrze\, śląskie\, 41-800\, Poland
ATTACH;FMTTYPE=image/jpeg:https://pokladykultury.eu/wp-content/uploads/2022/08/Beata-Przybytek.jpg
END:VEVENT
END:VCALENDAR