BEGIN:VCALENDAR
VERSION:2.0
PRODID:-//Pokładykultury.eu - ECPv5.16.3.1//NONSGML v1.0//EN
CALSCALE:GREGORIAN
METHOD:PUBLISH
X-ORIGINAL-URL:https://pokladykultury.eu
X-WR-CALDESC:Wydarzenia dla Pokładykultury.eu
REFRESH-INTERVAL;VALUE=DURATION:PT1H
X-Robots-Tag:noindex
X-PUBLISHED-TTL:PT1H
BEGIN:VTIMEZONE
TZID:Europe/Warsaw
BEGIN:DAYLIGHT
TZOFFSETFROM:+0100
TZOFFSETTO:+0200
TZNAME:CEST
DTSTART:20220327T010000
END:DAYLIGHT
BEGIN:STANDARD
TZOFFSETFROM:+0200
TZOFFSETTO:+0100
TZNAME:CET
DTSTART:20221030T010000
END:STANDARD
END:VTIMEZONE
BEGIN:VEVENT
DTSTART;TZID=Europe/Warsaw:20221110T190000
DTEND;TZID=Europe/Warsaw:20221110T210000
DTSTAMP:20260421T161807
CREATED:20221108T064511Z
LAST-MODIFIED:20221108T064511Z
UID:5390-1668106800-1668114000@pokladykultury.eu
SUMMARY:Koncert Muzyki Polskiej
DESCRIPTION:Filharmonia Zabrzańska zaprasza na kolejny koncert bieżącego 73 sezonu artystycznego. Odbędzie się on wyjątkowo we czwartek 10 listopada br. o godz. 18.00 w naszej Sali koncertowej przy ulicy park Hutniczy 7. \nWieczór wpisuje się w zabrzańskie obchody Narodowego Święta Niepodległości i w całości wypełni go muzyka polska. \nW pierwszej części zabrzmią dzieła polskiej symfoniki- Uwertura „Bajka” Stanisława Moniuszki\, oraz przepiękny Koncert skrzypcowy A-dur Mieczysława Karłowicza\, po przerwie zabrzmi polska muzyka filmowa z filmów i popularnych seriali ostatniego półwiecza. \nSolistą wieczoru będzie znakomity skrzypek Marcin Ostrowski\, na co dzień koncertmistrz naszej orkiestry\,  filharmoników poprowadzi od pulpitu i cały koncert od mikrofonu Sławomir Chrzanowski. \n  \nBilety w cenie 40 i 30 zł do nabycia w kasie.
URL:https://pokladykultury.eu/event/koncert-muzyki-polskiej/
LOCATION:Filharmonia Zabrzańska\, Park Hutniczy 7\, Zabrze\, śląskie\, 41-800\, Poland
ATTACH;FMTTYPE=image/jpeg:https://pokladykultury.eu/wp-content/uploads/2021/07/Filharmonia.jpg
END:VEVENT
BEGIN:VEVENT
DTSTART;TZID=Europe/Warsaw:20221110T200000
DTEND;TZID=Europe/Warsaw:20221110T220000
DTSTAMP:20260421T161807
CREATED:20211124T095132Z
LAST-MODIFIED:20211124T095132Z
UID:1829-1668110400-1668117600@pokladykultury.eu
SUMMARY:YAMATO – THE DRUMMERS OF JAPAN
DESCRIPTION:Spektakularna grupa YAMATO – najbardziej znani japońscy bębniarze świata powracają do Polski ze swoim najnowszym show w listopadzie 2021 roku. \nJedyne w swoim rodzaju oryginalne brzmienia Dalekiego Wschodu\, ogromna dawka optymizmu\, duchowej energii oraz dreszcze emocji! Wydobywane przez muzyków dźwięki inspirowane są tradycyjną muzyką japońską\, ale stanowią jej współczesne\, przewrotne wariacje. Każdy z artystów prowadzi własne kabaretowo-teatralne show. Zapierające dech w piersiach solowe popisy przeplatają się z fenomenalnymi\, transowymi utworami zbiorowymi. \nZespół YAMATO słynie ze spektakularnych wizualnie widowisk\, na których prezentuje sztukę gry na tradycyjnych bębnach taiko. Przedstawienie\, podczas którego artyści prezentują swoją ogromną fizyczną wydajność posługując się kilkoma tuzinami bębnów\, o średnicy sięgającej pięciu metrów i pałeczkami o wadze do 3\,5 kilograma\, jest przeżyciem pozostawiającym widzów bez tchu! Występ artystów z Japonii to niezwykłe połączenie odgłosów bębnów z dźwiękami tradycyjnych instrumentów strunowych szarpanych (koto\, chappa\, shino-bue\, samisen\, kane). \nYAMATO wspaniale interpretuje muzyczne tradycje\, które od wieków związane są z kulturą i religią Kraju Kwitnącej Wiśni.
URL:https://pokladykultury.eu/event/yamato-the-drummers-of-japan-2/
LOCATION:Dom Muzyki i Tańca w Zabrzu\, ul. Gen. de Gaulle'a 17\, Zabrze\, śląskie\, 41-800\, Poland
ATTACH;FMTTYPE=image/jpeg:https://pokladykultury.eu/wp-content/uploads/2021/11/yamato-najnowszy.jpg
END:VEVENT
END:VCALENDAR