BEGIN:VCALENDAR
VERSION:2.0
PRODID:-//Pokładykultury.eu - ECPv5.16.3.1//NONSGML v1.0//EN
CALSCALE:GREGORIAN
METHOD:PUBLISH
X-WR-CALNAME:Pokładykultury.eu
X-ORIGINAL-URL:https://pokladykultury.eu
X-WR-CALDESC:Wydarzenia dla Pokładykultury.eu
REFRESH-INTERVAL;VALUE=DURATION:PT1H
X-Robots-Tag:noindex
X-PUBLISHED-TTL:PT1H
BEGIN:VTIMEZONE
TZID:Europe/Warsaw
BEGIN:DAYLIGHT
TZOFFSETFROM:+0100
TZOFFSETTO:+0200
TZNAME:CEST
DTSTART:20220327T010000
END:DAYLIGHT
BEGIN:STANDARD
TZOFFSETFROM:+0200
TZOFFSETTO:+0100
TZNAME:CET
DTSTART:20221030T010000
END:STANDARD
END:VTIMEZONE
BEGIN:VEVENT
DTSTART;TZID=Europe/Warsaw:20221118T190000
DTEND;TZID=Europe/Warsaw:20221118T230000
DTSTAMP:20260421T231729
CREATED:20221117T070657Z
LAST-MODIFIED:20221117T070657Z
UID:5585-1668798000-1668812400@pokladykultury.eu
SUMMARY:ROCK DOK
DESCRIPTION:ROCK DOK to pierwszy taki koncert w Dzielnicowym Ośrodku Kultury w Biskupicach. Podczas prawdziwej rockowej zabawy wystąpią: \n\nMeinusch Project – zbiór muzyków inspirujących się różnymi stylami i gatunkami muzyki od klasyki\, przez rock and rolla i rock\, hard rock do jazzu. Zespół gra muzykę własną sięgającą korzeniami do swoich idoli: Led Zeppelin\, The Beatles;\nObibok – najskuteczniej obijający się zespół Śląska. Na ogół odpoczywający\, czasem też grający muzykę;\nTytoń – muzyka ponad podziałami. Kochajcie się;\nRokotus – prezentujący dużą dawkę prawdziwego\, szczerego rocka\, szczodrze zakrapiana poetyckimi tekstami.\n\nNa terenie Dzielnicowego Ośrodka Kultury obowiązuje zakaz spożywania napojów alkoholowych. \nZapraszamy!
URL:https://pokladykultury.eu/event/rock-dok/
LOCATION:Dzielnicowy Ośrodek Kultury Biskupice\, ul. W. Kossaka 23\, Zabrze\, śląskie\, 41-800\, Poland
ATTACH;FMTTYPE=image/jpeg:https://pokladykultury.eu/wp-content/uploads/2022/11/RockDok.jpg
END:VEVENT
END:VCALENDAR